Back to Multiple platform build/check report for BioC 3.10 |
|
This page was generated on 2020-04-15 12:29:57 -0400 (Wed, 15 Apr 2020).
Package 413/1823 | Hostname | OS / Arch | INSTALL | BUILD | CHECK | BUILD BIN | ||||||
ddPCRclust 1.6.0 Benedikt G. Brink
| malbec1 | Linux (Ubuntu 18.04.4 LTS) / x86_64 | OK | OK | OK | ![]() | ||||||
tokay1 | Windows Server 2012 R2 Standard / x64 | OK | OK | WARNINGS | [ OK ] | ![]() | ||||||
merida1 | OS X 10.11.6 El Capitan / x86_64 | OK | OK | OK | OK | ![]() |
Package: ddPCRclust |
Version: 1.6.0 |
Command: rm -rf ddPCRclust.buildbin-libdir && mkdir ddPCRclust.buildbin-libdir && C:\Users\biocbuild\bbs-3.10-bioc\R\bin\R.exe CMD INSTALL --merge-multiarch --build --library=ddPCRclust.buildbin-libdir ddPCRclust_1.6.0.tar.gz |
StartedAt: 2020-04-15 08:32:30 -0400 (Wed, 15 Apr 2020) |
EndedAt: 2020-04-15 08:34:30 -0400 (Wed, 15 Apr 2020) |
EllapsedTime: 119.8 seconds |
RetCode: 0 |
Status: OK |
PackageFile: ddPCRclust_1.6.0.zip |
PackageFileSize: 1.353 MiB |
############################################################################## ############################################################################## ### ### Running command: ### ### rm -rf ddPCRclust.buildbin-libdir && mkdir ddPCRclust.buildbin-libdir && C:\Users\biocbuild\bbs-3.10-bioc\R\bin\R.exe CMD INSTALL --merge-multiarch --build --library=ddPCRclust.buildbin-libdir ddPCRclust_1.6.0.tar.gz ### ############################################################################## ############################################################################## install for i386 * installing *source* package 'ddPCRclust' ... ** using staged installation ** R ** inst ** byte-compile and prepare package for lazy loading Warning: replacing previous import 'flowCore::plot' by 'graphics::plot' when loading 'flowDensity' ** help *** installing help indices converting help for package 'ddPCRclust' finding HTML links ... done calculateCPDs html createEnsemble html finding level-2 HTML links ... done ddPCRclust html Rd warning: C:/Users/biocbuild/bbs-3.10-bioc/tmpdir/Rtmpu2cqv8/R.INSTALL1802e42ae5/ddPCRclust/man/ddPCRclust.Rd:64: file link 'parallel' in package 'parallel' does not exist and so has been treated as a topic exportPlots html exportToCSV html exportToExcel html readFiles html readTemplate html runDensity html runPeaks html runSam html shearCorrection html ** building package indices ** installing vignettes ** testing if installed package can be loaded from temporary location Warning: replacing previous import 'flowCore::plot' by 'graphics::plot' when loading 'flowDensity' ** testing if installed package can be loaded from final location Warning: replacing previous import 'flowCore::plot' by 'graphics::plot' when loading 'flowDensity' ** testing if installed package keeps a record of temporary installation path install for x64 * installing *source* package 'ddPCRclust' ... ** testing if installed package can be loaded Warning: replacing previous import 'flowCore::plot' by 'graphics::plot' when loading 'flowDensity' * MD5 sums packaged installation of 'ddPCRclust' as ddPCRclust_1.6.0.zip * DONE (ddPCRclust)