Back to Multiple platform build/check report for BioC 3.10 |
|
This page was generated on 2020-04-15 12:31:38 -0400 (Wed, 15 Apr 2020).
Package 417/1823 | Hostname | OS / Arch | INSTALL | BUILD | CHECK | BUILD BIN | ||||||
deco 1.2.0 Francisco Jose Campos Laborie
| malbec1 | Linux (Ubuntu 18.04.4 LTS) / x86_64 | OK | OK | OK | ![]() | ||||||
tokay1 | Windows Server 2012 R2 Standard / x64 | [ OK ] | OK | OK | OK | ![]() | ||||||
merida1 | OS X 10.11.6 El Capitan / x86_64 | OK | OK | OK | OK | ![]() |
Package: deco |
Version: 1.2.0 |
Command: C:\cygwin\bin\curl.exe -O https://malbec1.bioconductor.org/BBS/3.10/bioc/src/contrib/deco_1.2.0.tar.gz && rm -rf deco.buildbin-libdir && mkdir deco.buildbin-libdir && C:\Users\biocbuild\bbs-3.10-bioc\R\bin\R.exe CMD INSTALL --merge-multiarch --build --library=deco.buildbin-libdir deco_1.2.0.tar.gz && C:\Users\biocbuild\bbs-3.10-bioc\R\bin\R.exe CMD INSTALL deco_1.2.0.zip && rm deco_1.2.0.tar.gz deco_1.2.0.zip |
StartedAt: 2020-04-14 19:36:14 -0400 (Tue, 14 Apr 2020) |
EndedAt: 2020-04-14 19:37:00 -0400 (Tue, 14 Apr 2020) |
EllapsedTime: 46.0 seconds |
RetCode: 0 |
Status: OK |
############################################################################## ############################################################################## ### ### Running command: ### ### C:\cygwin\bin\curl.exe -O https://malbec1.bioconductor.org/BBS/3.10/bioc/src/contrib/deco_1.2.0.tar.gz && rm -rf deco.buildbin-libdir && mkdir deco.buildbin-libdir && C:\Users\biocbuild\bbs-3.10-bioc\R\bin\R.exe CMD INSTALL --merge-multiarch --build --library=deco.buildbin-libdir deco_1.2.0.tar.gz && C:\Users\biocbuild\bbs-3.10-bioc\R\bin\R.exe CMD INSTALL deco_1.2.0.zip && rm deco_1.2.0.tar.gz deco_1.2.0.zip ### ############################################################################## ############################################################################## % Total % Received % Xferd Average Speed Time Time Time Current Dload Upload Total Spent Left Speed 0 0 0 0 0 0 0 0 --:--:-- --:--:-- --:--:-- 0 100 2488k 100 2488k 0 0 14.9M 0 --:--:-- --:--:-- --:--:-- 15.1M install for i386 * installing *source* package 'deco' ... ** using staged installation ** R ** data ** inst ** byte-compile and prepare package for lazy loading ** help *** installing help indices converting help for package 'deco' finding HTML links ... done ALCLdata html AnnotateDECO html NSCAcluster html deco-class html deco-package html decoNSCA html decoRDA html decoReport html featureTable html plotAssociationH html plotDECOProfile html plotGainingH html plotHeatmapH html ** building package indices ** installing vignettes ** testing if installed package can be loaded from temporary location ** testing if installed package can be loaded from final location ** testing if installed package keeps a record of temporary installation path install for x64 * installing *source* package 'deco' ... ** testing if installed package can be loaded * MD5 sums packaged installation of 'deco' as deco_1.2.0.zip * DONE (deco) * installing to library 'C:/Users/biocbuild/bbs-3.10-bioc/R/library' package 'deco' successfully unpacked and MD5 sums checked