Back to Multiple platform build/check report for BioC 3.10 |
|
This page was generated on 2020-04-15 12:42:28 -0400 (Wed, 15 Apr 2020).
Package 493/1823 | Hostname | OS / Arch | INSTALL | BUILD | CHECK | BUILD BIN | ||||||
dupRadar 1.16.0 Sergi Sayols
| malbec1 | Linux (Ubuntu 18.04.4 LTS) / x86_64 | OK | OK | OK | |||||||
tokay1 | Windows Server 2012 R2 Standard / x64 | ...NOT SUPPORTED... | ||||||||||
merida1 | OS X 10.11.6 El Capitan / x86_64 | OK | [ OK ] | OK | OK |
Package: dupRadar |
Version: 1.16.0 |
Command: /Library/Frameworks/R.framework/Versions/Current/Resources/bin/R CMD build --keep-empty-dirs --no-resave-data dupRadar |
StartedAt: 2020-04-14 21:40:32 -0400 (Tue, 14 Apr 2020) |
EndedAt: 2020-04-14 21:41:37 -0400 (Tue, 14 Apr 2020) |
EllapsedTime: 64.6 seconds |
RetCode: 0 |
Status: OK |
PackageFile: dupRadar_1.16.0.tar.gz |
PackageFileSize: 8.975 MiB |
############################################################################## ############################################################################## ### ### Running command: ### ### /Library/Frameworks/R.framework/Versions/Current/Resources/bin/R CMD build --keep-empty-dirs --no-resave-data dupRadar ### ############################################################################## ############################################################################## * checking for file ‘dupRadar/DESCRIPTION’ ... OK * preparing ‘dupRadar’: * checking DESCRIPTION meta-information ... OK * installing the package to build vignettes * creating vignettes ... OK * checking for LF line-endings in source and make files and shell scripts * checking for empty or unneeded directories * looking to see if a ‘data/datalist’ file should be added NB: this package now depends on R (>= 3.5.0) WARNING: Added dependency on R >= 3.5.0 because serialized objects in serialize/load version 3 cannot be read in older versions of R. File(s) containing such objects: 'dupRadar/vignettes/dupRadar_cache/html/citation_acaef4ebb721b9a78ece0145a049c9b0.RData' WARNING: Added dependency on R >= 3.5.0 because serialized objects in serialize/load version 3 cannot be read in older versions of R. File(s) containing such objects: 'dupRadar/vignettes/dupRadar_cache/html/citation_acaef4ebb721b9a78ece0145a049c9b0.rdx' WARNING: Added dependency on R >= 3.5.0 because serialized objects in serialize/load version 3 cannot be read in older versions of R. File(s) containing such objects: 'dupRadar/vignettes/dupRadar_cache/html/loadLibrary_13042c2a1df181ff6fbc1c06221b1408.RData' WARNING: Added dependency on R >= 3.5.0 because serialized objects in serialize/load version 3 cannot be read in older versions of R. File(s) containing such objects: 'dupRadar/vignettes/dupRadar_cache/html/loadLibrary_13042c2a1df181ff6fbc1c06221b1408.rdx' WARNING: Added dependency on R >= 3.5.0 because serialized objects in serialize/load version 3 cannot be read in older versions of R. File(s) containing such objects: 'dupRadar/vignettes/dupRadar_cache/html/style_8e4916e3490bc1519c95f347a5b9b5d9.RData' WARNING: Added dependency on R >= 3.5.0 because serialized objects in serialize/load version 3 cannot be read in older versions of R. File(s) containing such objects: 'dupRadar/vignettes/dupRadar_cache/html/style_8e4916e3490bc1519c95f347a5b9b5d9.rdx' WARNING: Added dependency on R >= 3.5.0 because serialized objects in serialize/load version 3 cannot be read in older versions of R. File(s) containing such objects: 'dupRadar/vignettes/dupRadar_cache/html/unnamed-chunk-10_5153f9eeb71a82d540fbefc3a4398a19.RData' WARNING: Added dependency on R >= 3.5.0 because serialized objects in serialize/load version 3 cannot be read in older versions of R. File(s) containing such objects: 'dupRadar/vignettes/dupRadar_cache/html/unnamed-chunk-10_5153f9eeb71a82d540fbefc3a4398a19.rdx' WARNING: Added dependency on R >= 3.5.0 because serialized objects in serialize/load version 3 cannot be read in older versions of R. File(s) containing such objects: 'dupRadar/vignettes/dupRadar_cache/html/unnamed-chunk-11_26489564289b46cef056fb886834bfba.RData' WARNING: Added dependency on R >= 3.5.0 because serialized objects in serialize/load version 3 cannot be read in older versions of R. File(s) containing such objects: 'dupRadar/vignettes/dupRadar_cache/html/unnamed-chunk-11_26489564289b46cef056fb886834bfba.rdx' WARNING: Added dependency on R >= 3.5.0 because serialized objects in serialize/load version 3 cannot be read in older versions of R. File(s) containing such objects: 'dupRadar/vignettes/dupRadar_cache/html/unnamed-chunk-12_a8da72f58629655d4be9c4397039f807.RData' WARNING: Added dependency on R >= 3.5.0 because serialized objects in serialize/load version 3 cannot be read in older versions of R. File(s) containing such objects: 'dupRadar/vignettes/dupRadar_cache/html/unnamed-chunk-12_a8da72f58629655d4be9c4397039f807.rdx' WARNING: Added dependency on R >= 3.5.0 because serialized objects in serialize/load version 3 cannot be read in older versions of R. File(s) containing such objects: 'dupRadar/vignettes/dupRadar_cache/html/unnamed-chunk-13_f0c41382dd83c9f9daaf329fad58894e.RData' WARNING: Added dependency on R >= 3.5.0 because serialized objects in serialize/load version 3 cannot be read in older versions of R. File(s) containing such objects: 'dupRadar/vignettes/dupRadar_cache/html/unnamed-chunk-13_f0c41382dd83c9f9daaf329fad58894e.rdx' WARNING: Added dependency on R >= 3.5.0 because serialized objects in serialize/load version 3 cannot be read in older versions of R. File(s) containing such objects: 'dupRadar/vignettes/dupRadar_cache/html/unnamed-chunk-14_7df96dd25fade35f05c9cfbc9408c89d.RData' WARNING: Added dependency on R >= 3.5.0 because serialized objects in serialize/load version 3 cannot be read in older versions of R. File(s) containing such objects: 'dupRadar/vignettes/dupRadar_cache/html/unnamed-chunk-14_7df96dd25fade35f05c9cfbc9408c89d.rdx' WARNING: Added dependency on R >= 3.5.0 because serialized objects in serialize/load version 3 cannot be read in older versions of R. File(s) containing such objects: 'dupRadar/vignettes/dupRadar_cache/html/unnamed-chunk-15_887e746f377fa75dd8624fd69792ee30.RData' WARNING: Added dependency on R >= 3.5.0 because serialized objects in serialize/load version 3 cannot be read in older versions of R. File(s) containing such objects: 'dupRadar/vignettes/dupRadar_cache/html/unnamed-chunk-15_887e746f377fa75dd8624fd69792ee30.rdx' WARNING: Added dependency on R >= 3.5.0 because serialized objects in serialize/load version 3 cannot be read in older versions of R. File(s) containing such objects: 'dupRadar/vignettes/dupRadar_cache/html/unnamed-chunk-16_12bb746a28e3819d09980f0e6ecb6123.RData' WARNING: Added dependency on R >= 3.5.0 because serialized objects in serialize/load version 3 cannot be read in older versions of R. File(s) containing such objects: 'dupRadar/vignettes/dupRadar_cache/html/unnamed-chunk-16_12bb746a28e3819d09980f0e6ecb6123.rdx' WARNING: Added dependency on R >= 3.5.0 because serialized objects in serialize/load version 3 cannot be read in older versions of R. File(s) containing such objects: 'dupRadar/vignettes/dupRadar_cache/html/unnamed-chunk-17_a71b78423f9cf01ce9d41b80d6473170.RData' WARNING: Added dependency on R >= 3.5.0 because serialized objects in serialize/load version 3 cannot be read in older versions of R. File(s) containing such objects: 'dupRadar/vignettes/dupRadar_cache/html/unnamed-chunk-17_a71b78423f9cf01ce9d41b80d6473170.rdx' WARNING: Added dependency on R >= 3.5.0 because serialized objects in serialize/load version 3 cannot be read in older versions of R. File(s) containing such objects: 'dupRadar/vignettes/dupRadar_cache/html/unnamed-chunk-18_9adeb0d99b0e07a2b89f0ce9deb1a2a3.RData' WARNING: Added dependency on R >= 3.5.0 because serialized objects in serialize/load version 3 cannot be read in older versions of R. File(s) containing such objects: 'dupRadar/vignettes/dupRadar_cache/html/unnamed-chunk-18_9adeb0d99b0e07a2b89f0ce9deb1a2a3.rdx' WARNING: Added dependency on R >= 3.5.0 because serialized objects in serialize/load version 3 cannot be read in older versions of R. File(s) containing such objects: 'dupRadar/vignettes/dupRadar_cache/html/unnamed-chunk-1_ed413ddfef0ad352dec29c33d8fb6f94.RData' WARNING: Added dependency on R >= 3.5.0 because serialized objects in serialize/load version 3 cannot be read in older versions of R. File(s) containing such objects: 'dupRadar/vignettes/dupRadar_cache/html/unnamed-chunk-1_ed413ddfef0ad352dec29c33d8fb6f94.rdx' WARNING: Added dependency on R >= 3.5.0 because serialized objects in serialize/load version 3 cannot be read in older versions of R. File(s) containing such objects: 'dupRadar/vignettes/dupRadar_cache/html/unnamed-chunk-2_0dcd1a7e6d36c1b33e491dae328c47f2.RData' WARNING: Added dependency on R >= 3.5.0 because serialized objects in serialize/load version 3 cannot be read in older versions of R. File(s) containing such objects: 'dupRadar/vignettes/dupRadar_cache/html/unnamed-chunk-2_0dcd1a7e6d36c1b33e491dae328c47f2.rdx' WARNING: Added dependency on R >= 3.5.0 because serialized objects in serialize/load version 3 cannot be read in older versions of R. File(s) containing such objects: 'dupRadar/vignettes/dupRadar_cache/html/unnamed-chunk-3_c1a5aaa35d79da669b35f8f67ccd563b.RData' WARNING: Added dependency on R >= 3.5.0 because serialized objects in serialize/load version 3 cannot be read in older versions of R. File(s) containing such objects: 'dupRadar/vignettes/dupRadar_cache/html/unnamed-chunk-3_c1a5aaa35d79da669b35f8f67ccd563b.rdx' WARNING: Added dependency on R >= 3.5.0 because serialized objects in serialize/load version 3 cannot be read in older versions of R. File(s) containing such objects: 'dupRadar/vignettes/dupRadar_cache/html/unnamed-chunk-4_c07637ec1cd066760df06e7a0dae6000.RData' WARNING: Added dependency on R >= 3.5.0 because serialized objects in serialize/load version 3 cannot be read in older versions of R. File(s) containing such objects: 'dupRadar/vignettes/dupRadar_cache/html/unnamed-chunk-4_c07637ec1cd066760df06e7a0dae6000.rdx' WARNING: Added dependency on R >= 3.5.0 because serialized objects in serialize/load version 3 cannot be read in older versions of R. File(s) containing such objects: 'dupRadar/vignettes/dupRadar_cache/html/unnamed-chunk-5_11b3bf1923ca305ce2ab3391eb2d36ac.RData' WARNING: Added dependency on R >= 3.5.0 because serialized objects in serialize/load version 3 cannot be read in older versions of R. File(s) containing such objects: 'dupRadar/vignettes/dupRadar_cache/html/unnamed-chunk-5_11b3bf1923ca305ce2ab3391eb2d36ac.rdx' WARNING: Added dependency on R >= 3.5.0 because serialized objects in serialize/load version 3 cannot be read in older versions of R. File(s) containing such objects: 'dupRadar/vignettes/dupRadar_cache/html/unnamed-chunk-6_d6543a113231db60b6c1a8248aa2c64a.RData' WARNING: Added dependency on R >= 3.5.0 because serialized objects in serialize/load version 3 cannot be read in older versions of R. File(s) containing such objects: 'dupRadar/vignettes/dupRadar_cache/html/unnamed-chunk-6_d6543a113231db60b6c1a8248aa2c64a.rdx' WARNING: Added dependency on R >= 3.5.0 because serialized objects in serialize/load version 3 cannot be read in older versions of R. File(s) containing such objects: 'dupRadar/vignettes/dupRadar_cache/html/unnamed-chunk-7_05c34c3c6110d7e27727844a13f899eb.RData' WARNING: Added dependency on R >= 3.5.0 because serialized objects in serialize/load version 3 cannot be read in older versions of R. File(s) containing such objects: 'dupRadar/vignettes/dupRadar_cache/html/unnamed-chunk-7_05c34c3c6110d7e27727844a13f899eb.rdx' WARNING: Added dependency on R >= 3.5.0 because serialized objects in serialize/load version 3 cannot be read in older versions of R. File(s) containing such objects: 'dupRadar/vignettes/dupRadar_cache/html/unnamed-chunk-8_59f5e20c61e1cf630f12714047bcf1c8.RData' WARNING: Added dependency on R >= 3.5.0 because serialized objects in serialize/load version 3 cannot be read in older versions of R. File(s) containing such objects: 'dupRadar/vignettes/dupRadar_cache/html/unnamed-chunk-8_59f5e20c61e1cf630f12714047bcf1c8.rdx' WARNING: Added dependency on R >= 3.5.0 because serialized objects in serialize/load version 3 cannot be read in older versions of R. File(s) containing such objects: 'dupRadar/vignettes/dupRadar_cache/html/unnamed-chunk-9_9057d5e0f8d5e0ca062ce88dbe562d0b.RData' WARNING: Added dependency on R >= 3.5.0 because serialized objects in serialize/load version 3 cannot be read in older versions of R. File(s) containing such objects: 'dupRadar/vignettes/dupRadar_cache/html/unnamed-chunk-9_9057d5e0f8d5e0ca062ce88dbe562d0b.rdx' * building 'dupRadar_1.16.0.tar.gz'