Back to Multiple platform build/check report for BioC 3.10 |
|
This page was generated on 2020-04-15 12:18:46 -0400 (Wed, 15 Apr 2020).
Package 494/1823 | Hostname | OS / Arch | INSTALL | BUILD | CHECK | BUILD BIN | ||||||
dyebias 1.46.0 Philip Lijnzaad
| malbec1 | Linux (Ubuntu 18.04.4 LTS) / x86_64 | OK | OK | OK | ![]() | ||||||
tokay1 | Windows Server 2012 R2 Standard / x64 | OK | OK | OK | [ OK ] | ![]() | ||||||
merida1 | OS X 10.11.6 El Capitan / x86_64 | OK | OK | OK | OK | ![]() |
Package: dyebias |
Version: 1.46.0 |
Command: rm -rf dyebias.buildbin-libdir && mkdir dyebias.buildbin-libdir && C:\Users\biocbuild\bbs-3.10-bioc\R\bin\R.exe CMD INSTALL --merge-multiarch --build --library=dyebias.buildbin-libdir dyebias_1.46.0.tar.gz |
StartedAt: 2020-04-15 08:37:51 -0400 (Wed, 15 Apr 2020) |
EndedAt: 2020-04-15 08:38:25 -0400 (Wed, 15 Apr 2020) |
EllapsedTime: 34.2 seconds |
RetCode: 0 |
Status: OK |
PackageFile: dyebias_1.46.0.zip |
PackageFileSize: 652.6 KiB |
############################################################################## ############################################################################## ### ### Running command: ### ### rm -rf dyebias.buildbin-libdir && mkdir dyebias.buildbin-libdir && C:\Users\biocbuild\bbs-3.10-bioc\R\bin\R.exe CMD INSTALL --merge-multiarch --build --library=dyebias.buildbin-libdir dyebias_1.46.0.tar.gz ### ############################################################################## ############################################################################## install for i386 * installing *source* package 'dyebias' ... ** using staged installation ** R ** inst ** byte-compile and prepare package for lazy loading ** help *** installing help indices converting help for package 'dyebias' finding HTML links ... done dyebias-package html dyebias.application.subset html dyebias.apply.correction html dyebias.boxplot html dyebias.estimate.iGSDBs html dyebias.monotonicity html dyebias.monotonicityplot html dyebias.rgplot html dyebias.trendplot html ** building package indices ** installing vignettes ** testing if installed package can be loaded from temporary location ** testing if installed package can be loaded from final location ** testing if installed package keeps a record of temporary installation path install for x64 * installing *source* package 'dyebias' ... ** testing if installed package can be loaded * MD5 sums packaged installation of 'dyebias' as dyebias_1.46.0.zip * DONE (dyebias)