Back to Multiple platform build/check report for BioC 3.10 |
|
This page was generated on 2020-03-28 12:13:47 -0400 (Sat, 28 Mar 2020).
Package 497/1823 | Hostname | OS / Arch | INSTALL | BUILD | CHECK | BUILD BIN | ||||||
easyRNASeq 2.22.5 Nicolas Delhomme
| malbec1 | Linux (Ubuntu 18.04.4 LTS) / x86_64 | OK | ERROR | skipped | |||||||
tokay1 | Windows Server 2012 R2 Standard / x64 | OK | OK | ERROR | [ OK ] | |||||||
merida1 | OS X 10.11.6 El Capitan / x86_64 | OK | ERROR | skipped | skipped |
Package: easyRNASeq |
Version: 2.22.5 |
Command: rm -rf easyRNASeq.buildbin-libdir && mkdir easyRNASeq.buildbin-libdir && C:\Users\biocbuild\bbs-3.10-bioc\R\bin\R.exe CMD INSTALL --merge-multiarch --build --library=easyRNASeq.buildbin-libdir easyRNASeq_2.22.5.tar.gz |
StartedAt: 2020-03-28 08:50:49 -0400 (Sat, 28 Mar 2020) |
EndedAt: 2020-03-28 08:52:14 -0400 (Sat, 28 Mar 2020) |
EllapsedTime: 84.5 seconds |
RetCode: 0 |
Status: OK |
PackageFile: easyRNASeq_2.22.5.zip |
PackageFileSize: 23.99 MiB |
############################################################################## ############################################################################## ### ### Running command: ### ### rm -rf easyRNASeq.buildbin-libdir && mkdir easyRNASeq.buildbin-libdir && C:\Users\biocbuild\bbs-3.10-bioc\R\bin\R.exe CMD INSTALL --merge-multiarch --build --library=easyRNASeq.buildbin-libdir easyRNASeq_2.22.5.tar.gz ### ############################################################################## ############################################################################## install for i386 * installing *source* package 'easyRNASeq' ... ** using staged installation ** R ** data ** inst ** byte-compile and prepare package for lazy loading Creating a generic function for 'basename' from package 'base' in package 'easyRNASeq' Creating a generic function for 'file.exists' from package 'base' in package 'easyRNASeq' ** help *** installing help indices converting help for package 'easyRNASeq' finding HTML links ... done BiocFileCache-methods html finding level-2 HTML links ... done DESeq-methods html GenomicRanges-methods html IRanges-methods html Rsamtools-methods html ShortRead-methods html basename-methods html easyRNASeq-AnnotParam-accessors html easyRNASeq-AnnotParam-class html easyRNASeq-AnnotParam html easyRNASeq-BamFileList html easyRNASeq-BamParam-accessors html easyRNASeq-BamParam-class html easyRNASeq-BamParam html easyRNASeq-RnaSeqParam-accessors html easyRNASeq-RnaSeqParam-class html easyRNASeq-RnaSeqParam html easyRNASeq-accessors html easyRNASeq-annotation-internal-methods html easyRNASeq-annotation-methods html easyRNASeq-class html easyRNASeq-correction-methods html easyRNASeq-coverage-methods html easyRNASeq-datasets html easyRNASeq-defunct-annotation-methods html easyRNASeq-defunct html easyRNASeq-easyRNASeq html easyRNASeq-global-variables html easyRNASeq-internal-AnnotParam-methods html easyRNASeq-internal-methods html easyRNASeq-island-methods html easyRNASeq-package html easyRNASeq-simpleRNASeq html easyRNASeq-summarization-internal-methods html easyRNASeq-summarization-methods html easyRNASeq-synthetic-transcripts html edgeR-methods html file.exists-methods html genomeIntervals-methods html parallel-methods html print-methods html show-methods html ** building package indices ** installing vignettes ** testing if installed package can be loaded from temporary location ** testing if installed package can be loaded from final location ** testing if installed package keeps a record of temporary installation path install for x64 * installing *source* package 'easyRNASeq' ... ** testing if installed package can be loaded * MD5 sums packaged installation of 'easyRNASeq' as easyRNASeq_2.22.5.zip * DONE (easyRNASeq)