Back to Multiple platform build/check report for BioC 3.10 |
|
This page was generated on 2020-04-15 12:22:13 -0400 (Wed, 15 Apr 2020).
Package 548/1823 | Hostname | OS / Arch | INSTALL | BUILD | CHECK | BUILD BIN | ||||||
Lin Zhang
| malbec1 | Linux (Ubuntu 18.04.4 LTS) / x86_64 | OK | OK | ERROR | |||||||
tokay1 | Windows Server 2012 R2 Standard / x64 | [ OK ] | OK | ERROR | OK | |||||||
merida1 | OS X 10.11.6 El Capitan / x86_64 | OK | OK | ERROR | OK |
Package: exomePeak |
Version: 2.20.0 |
Command: C:\cygwin\bin\curl.exe -O https://malbec1.bioconductor.org/BBS/3.10/bioc/src/contrib/exomePeak_2.20.0.tar.gz && rm -rf exomePeak.buildbin-libdir && mkdir exomePeak.buildbin-libdir && C:\Users\biocbuild\bbs-3.10-bioc\R\bin\R.exe CMD INSTALL --merge-multiarch --build --library=exomePeak.buildbin-libdir exomePeak_2.20.0.tar.gz && C:\Users\biocbuild\bbs-3.10-bioc\R\bin\R.exe CMD INSTALL exomePeak_2.20.0.zip && rm exomePeak_2.20.0.tar.gz exomePeak_2.20.0.zip |
StartedAt: 2020-04-14 19:54:42 -0400 (Tue, 14 Apr 2020) |
EndedAt: 2020-04-14 19:55:36 -0400 (Tue, 14 Apr 2020) |
EllapsedTime: 53.6 seconds |
RetCode: 0 |
Status: OK |
############################################################################## ############################################################################## ### ### Running command: ### ### C:\cygwin\bin\curl.exe -O https://malbec1.bioconductor.org/BBS/3.10/bioc/src/contrib/exomePeak_2.20.0.tar.gz && rm -rf exomePeak.buildbin-libdir && mkdir exomePeak.buildbin-libdir && C:\Users\biocbuild\bbs-3.10-bioc\R\bin\R.exe CMD INSTALL --merge-multiarch --build --library=exomePeak.buildbin-libdir exomePeak_2.20.0.tar.gz && C:\Users\biocbuild\bbs-3.10-bioc\R\bin\R.exe CMD INSTALL exomePeak_2.20.0.zip && rm exomePeak_2.20.0.tar.gz exomePeak_2.20.0.zip ### ############################################################################## ############################################################################## % Total % Received % Xferd Average Speed Time Time Time Current Dload Upload Total Spent Left Speed 0 0 0 0 0 0 0 0 --:--:-- --:--:-- --:--:-- 0 100 2155k 100 2155k 0 0 4156k 0 --:--:-- --:--:-- --:--:-- 4186k install for i386 * installing *source* package 'exomePeak' ... ** using staged installation ** R ** inst ** byte-compile and prepare package for lazy loading ** help *** installing help indices converting help for package 'exomePeak' finding HTML links ... done RMT html bltest html ctest html exomePeak-package html exomepeak html rhtest html ** building package indices ** installing vignettes ** testing if installed package can be loaded from temporary location Warning: Package 'exomePeak' is deprecated and will be removed from Bioconductor version 3.11 ** testing if installed package can be loaded from final location Warning: Package 'exomePeak' is deprecated and will be removed from Bioconductor version 3.11 ** testing if installed package keeps a record of temporary installation path install for x64 * installing *source* package 'exomePeak' ... ** testing if installed package can be loaded Warning: Package 'exomePeak' is deprecated and will be removed from Bioconductor version 3.11 * MD5 sums packaged installation of 'exomePeak' as exomePeak_2.20.0.zip * DONE (exomePeak) * installing to library 'C:/Users/biocbuild/bbs-3.10-bioc/R/library' package 'exomePeak' successfully unpacked and MD5 sums checked