Back to Multiple platform build/check report for BioC 3.10 |
|
This page was generated on 2020-04-15 12:27:35 -0400 (Wed, 15 Apr 2020).
Package 562/1823 | Hostname | OS / Arch | INSTALL | BUILD | CHECK | BUILD BIN | ||||||
fCCAC 1.12.0 Pedro Madrigal
| malbec1 | Linux (Ubuntu 18.04.4 LTS) / x86_64 | OK | OK | OK | |||||||
tokay1 | Windows Server 2012 R2 Standard / x64 | OK | OK | OK | [ OK ] | |||||||
merida1 | OS X 10.11.6 El Capitan / x86_64 | OK | OK | OK | OK |
Package: fCCAC |
Version: 1.12.0 |
Command: rm -rf fCCAC.buildbin-libdir && mkdir fCCAC.buildbin-libdir && C:\Users\biocbuild\bbs-3.10-bioc\R\bin\R.exe CMD INSTALL --merge-multiarch --build --library=fCCAC.buildbin-libdir fCCAC_1.12.0.tar.gz |
StartedAt: 2020-04-15 08:42:06 -0400 (Wed, 15 Apr 2020) |
EndedAt: 2020-04-15 08:42:57 -0400 (Wed, 15 Apr 2020) |
EllapsedTime: 50.3 seconds |
RetCode: 0 |
Status: OK |
PackageFile: fCCAC_1.12.0.zip |
PackageFileSize: 3.526 MiB |
############################################################################## ############################################################################## ### ### Running command: ### ### rm -rf fCCAC.buildbin-libdir && mkdir fCCAC.buildbin-libdir && C:\Users\biocbuild\bbs-3.10-bioc\R\bin\R.exe CMD INSTALL --merge-multiarch --build --library=fCCAC.buildbin-libdir fCCAC_1.12.0.tar.gz ### ############################################################################## ############################################################################## install for i386 * installing *source* package 'fCCAC' ... ** using staged installation ** R ** inst ** byte-compile and prepare package for lazy loading ** help *** installing help indices converting help for package 'fCCAC' finding HTML links ... done fCCAC-internal html fCCAC-package html fccac html heatmapfCCAC html ** building package indices ** installing vignettes ** testing if installed package can be loaded from temporary location ** testing if installed package can be loaded from final location ** testing if installed package keeps a record of temporary installation path install for x64 * installing *source* package 'fCCAC' ... ** testing if installed package can be loaded * MD5 sums packaged installation of 'fCCAC' as fCCAC_1.12.0.zip * DONE (fCCAC)