Back to Multiple platform build/check report for BioC 3.10 |
|
This page was generated on 2020-04-15 12:23:12 -0400 (Wed, 15 Apr 2020).
Package 588/1823 | Hostname | OS / Arch | INSTALL | BUILD | CHECK | BUILD BIN | ||||||
flowDensity 1.20.0 Mehrnoush Malek
| malbec1 | Linux (Ubuntu 18.04.4 LTS) / x86_64 | OK | OK | WARNINGS | ![]() | ||||||
tokay1 | Windows Server 2012 R2 Standard / x64 | OK | OK | WARNINGS | [ OK ] | ![]() | ||||||
merida1 | OS X 10.11.6 El Capitan / x86_64 | OK | OK | WARNINGS | OK | ![]() |
Package: flowDensity |
Version: 1.20.0 |
Command: rm -rf flowDensity.buildbin-libdir && mkdir flowDensity.buildbin-libdir && C:\Users\biocbuild\bbs-3.10-bioc\R\bin\R.exe CMD INSTALL --merge-multiarch --build --library=flowDensity.buildbin-libdir flowDensity_1.20.0.tar.gz |
StartedAt: 2020-04-15 08:43:38 -0400 (Wed, 15 Apr 2020) |
EndedAt: 2020-04-15 08:44:19 -0400 (Wed, 15 Apr 2020) |
EllapsedTime: 40.9 seconds |
RetCode: 0 |
Status: OK |
PackageFile: flowDensity_1.20.0.zip |
PackageFileSize: 5.743 MiB |
############################################################################## ############################################################################## ### ### Running command: ### ### rm -rf flowDensity.buildbin-libdir && mkdir flowDensity.buildbin-libdir && C:\Users\biocbuild\bbs-3.10-bioc\R\bin\R.exe CMD INSTALL --merge-multiarch --build --library=flowDensity.buildbin-libdir flowDensity_1.20.0.tar.gz ### ############################################################################## ############################################################################## install for i386 * installing *source* package 'flowDensity' ... ** using staged installation ** R ** inst ** byte-compile and prepare package for lazy loading Warning: replacing previous import 'flowCore::plot' by 'graphics::plot' when loading 'flowDensity' ** help Warning: bad markup (extra space?) at plotDens.Rd:62:19 *** installing help indices converting help for package 'flowDensity' finding HTML links ... done CellPopulation-class html deGate html flowDensity-methods html flowDensity html getPeaks html getflowFrame html nmRemove html notSubFrame html plotDens html ** building package indices ** installing vignettes ** testing if installed package can be loaded from temporary location Warning: replacing previous import 'flowCore::plot' by 'graphics::plot' when loading 'flowDensity' ** testing if installed package can be loaded from final location Warning: replacing previous import 'flowCore::plot' by 'graphics::plot' when loading 'flowDensity' ** testing if installed package keeps a record of temporary installation path install for x64 * installing *source* package 'flowDensity' ... ** testing if installed package can be loaded Warning: replacing previous import 'flowCore::plot' by 'graphics::plot' when loading 'flowDensity' * MD5 sums packaged installation of 'flowDensity' as flowDensity_1.20.0.zip * DONE (flowDensity)