Back to Multiple platform build/check report for BioC 3.10 |
|
This page was generated on 2020-04-15 12:39:30 -0400 (Wed, 15 Apr 2020).
Package 592/1823 | Hostname | OS / Arch | INSTALL | BUILD | CHECK | BUILD BIN | ||||||
flowMatch 1.22.0 Ariful Azad
| malbec1 | Linux (Ubuntu 18.04.4 LTS) / x86_64 | OK | OK | OK | ![]() | ||||||
tokay1 | Windows Server 2012 R2 Standard / x64 | OK | OK | OK | OK | ![]() | ||||||
merida1 | OS X 10.11.6 El Capitan / x86_64 | OK | OK | [ OK ] | OK | ![]() |
Package: flowMatch |
Version: 1.22.0 |
Command: /Library/Frameworks/R.framework/Versions/Current/Resources/bin/R CMD check --install=check:flowMatch.install-out.txt --library=/Library/Frameworks/R.framework/Versions/Current/Resources/library --no-vignettes --timings flowMatch_1.22.0.tar.gz |
StartedAt: 2020-04-15 02:21:58 -0400 (Wed, 15 Apr 2020) |
EndedAt: 2020-04-15 02:24:02 -0400 (Wed, 15 Apr 2020) |
EllapsedTime: 123.3 seconds |
RetCode: 0 |
Status: OK |
CheckDir: flowMatch.Rcheck |
Warnings: 0 |
############################################################################## ############################################################################## ### ### Running command: ### ### /Library/Frameworks/R.framework/Versions/Current/Resources/bin/R CMD check --install=check:flowMatch.install-out.txt --library=/Library/Frameworks/R.framework/Versions/Current/Resources/library --no-vignettes --timings flowMatch_1.22.0.tar.gz ### ############################################################################## ############################################################################## * using log directory ‘/Users/biocbuild/bbs-3.10-bioc/meat/flowMatch.Rcheck’ * using R version 3.6.3 (2020-02-29) * using platform: x86_64-apple-darwin15.6.0 (64-bit) * using session charset: UTF-8 * using option ‘--no-vignettes’ * checking for file ‘flowMatch/DESCRIPTION’ ... OK * checking extension type ... Package * this is package ‘flowMatch’ version ‘1.22.0’ * checking package namespace information ... OK * checking package dependencies ... OK * checking if this is a source package ... OK * checking if there is a namespace ... OK * checking for hidden files and directories ... OK * checking for portable file names ... OK * checking for sufficient/correct file permissions ... OK * checking whether package ‘flowMatch’ can be installed ... OK * checking installed package size ... OK * checking package directory ... OK * checking ‘build’ directory ... OK * checking DESCRIPTION meta-information ... OK * checking top-level files ... OK * checking for left-over files ... OK * checking index information ... OK * checking package subdirectories ... OK * checking R files for non-ASCII characters ... OK * checking R files for syntax errors ... OK * checking whether the package can be loaded ... OK * checking whether the package can be loaded with stated dependencies ... OK * checking whether the package can be unloaded cleanly ... OK * checking whether the namespace can be loaded with stated dependencies ... OK * checking whether the namespace can be unloaded cleanly ... OK * checking dependencies in R code ... OK * checking S3 generic/method consistency ... OK * checking replacement functions ... OK * checking foreign function calls ... OK * checking R code for possible problems ... NOTE ClusteredSample: no visible global function definition for ‘cov’ ellipse: no visible global function definition for ‘qchisq’ ellipse: no visible global function definition for ‘lines’ limitcalc: no visible global function definition for ‘qchisq’ plot.cluster.contours: no visible global function definition for ‘par’ plot.cluster.contours: no visible global function definition for ‘plot.new’ plot.cluster.contours: no visible global function definition for ‘mtext’ template.tree,Template: no visible global function definition for ‘as.dendrogram’ Undefined global functions or variables: as.dendrogram cov lines mtext par plot.new qchisq Consider adding importFrom("graphics", "lines", "mtext", "par", "plot.new") importFrom("stats", "as.dendrogram", "cov", "qchisq") to your NAMESPACE file. * checking Rd files ... OK * checking Rd metadata ... OK * checking Rd cross-references ... OK * checking for missing documentation entries ... OK * checking for code/documentation mismatches ... OK * checking Rd \usage sections ... OK * checking Rd contents ... OK * checking for unstated dependencies in examples ... OK * checking line endings in C/C++/Fortran sources/headers ... OK * checking line endings in Makefiles ... OK * checking compilation flags in Makevars ... OK * checking for GNU extensions in Makefiles ... OK * checking for portable use of $(BLAS_LIBS) and $(LAPACK_LIBS) ... OK * checking compiled code ... NOTE Note: information on .o files is not available * checking sizes of PDF files under ‘inst/doc’ ... OK * checking files in ‘vignettes’ ... OK * checking examples ... OK Examples with CPU or elapsed time > 5s user system elapsed create.template 9.660 0.259 9.961 Template-class 9.223 0.285 9.531 MetaCluster-class 8.764 0.277 9.095 flowMatch-package 8.424 0.251 8.703 template.tree 8.162 0.267 8.451 * checking for unstated dependencies in vignettes ... OK * checking package vignettes in ‘inst/doc’ ... OK * checking running R code from vignettes ... SKIPPED * checking re-building of vignette outputs ... SKIPPED * checking PDF version of manual ... OK * DONE Status: 2 NOTEs See ‘/Users/biocbuild/bbs-3.10-bioc/meat/flowMatch.Rcheck/00check.log’ for details.
flowMatch.Rcheck/00install.out
############################################################################## ############################################################################## ### ### Running command: ### ### /Library/Frameworks/R.framework/Versions/Current/Resources/bin/R CMD INSTALL flowMatch ### ############################################################################## ############################################################################## * installing to library ‘/Library/Frameworks/R.framework/Versions/3.6/Resources/library’ * installing *source* package ‘flowMatch’ ... ** using staged installation ** libs clang++ -std=gnu++11 -I"/Library/Frameworks/R.framework/Resources/include" -DNDEBUG -I"/Library/Frameworks/R.framework/Versions/3.6/Resources/library/Rcpp/include" -isysroot /Library/Developer/CommandLineTools/SDKs/MacOSX.sdk -I/usr/local/include -fPIC -Wall -g -O2 -c BipartiteGraph.cpp -o BipartiteGraph.o clang++ -std=gnu++11 -I"/Library/Frameworks/R.framework/Resources/include" -DNDEBUG -I"/Library/Frameworks/R.framework/Versions/3.6/Resources/library/Rcpp/include" -isysroot /Library/Developer/CommandLineTools/SDKs/MacOSX.sdk -I/usr/local/include -fPIC -Wall -g -O2 -c MinWghtEdgCoverBipartite.cpp -o MinWghtEdgCoverBipartite.o clang++ -std=gnu++11 -I"/Library/Frameworks/R.framework/Resources/include" -DNDEBUG -I"/Library/Frameworks/R.framework/Versions/3.6/Resources/library/Rcpp/include" -isysroot /Library/Developer/CommandLineTools/SDKs/MacOSX.sdk -I/usr/local/include -fPIC -Wall -g -O2 -c flowMatch.cpp -o flowMatch.o clang++ -std=gnu++11 -dynamiclib -Wl,-headerpad_max_install_names -undefined dynamic_lookup -single_module -multiply_defined suppress -L/Library/Frameworks/R.framework/Resources/lib -L/usr/local/lib -o flowMatch.so BipartiteGraph.o MinWghtEdgCoverBipartite.o flowMatch.o -F/Library/Frameworks/R.framework/.. -framework R -Wl,-framework -Wl,CoreFoundation installing to /Library/Frameworks/R.framework/Versions/3.6/Resources/library/00LOCK-flowMatch/00new/flowMatch/libs ** R ** byte-compile and prepare package for lazy loading ** help *** installing help indices ** building package indices ** installing vignettes ** testing if installed package can be loaded from temporary location ** checking absolute paths in shared objects and dynamic libraries ** testing if installed package can be loaded from final location ** testing if installed package keeps a record of temporary installation path * DONE (flowMatch)
flowMatch.Rcheck/flowMatch-Ex.timings
name | user | system | elapsed | |
Cluster-class | 0.650 | 0.033 | 0.687 | |
ClusterMatch-class | 4.726 | 0.196 | 4.962 | |
ClusteredSample-class | 1.091 | 0.146 | 1.243 | |
MetaCluster-class | 8.764 | 0.277 | 9.095 | |
Template-class | 9.223 | 0.285 | 9.531 | |
create.template | 9.660 | 0.259 | 9.961 | |
dist.cluster | 0.521 | 0.028 | 0.548 | |
dist.matrix | 0.854 | 0.027 | 0.881 | |
dist.sample | 0.957 | 0.039 | 0.997 | |
dist.template | 3.372 | 0.097 | 3.474 | |
flowMatch-package | 8.424 | 0.251 | 8.703 | |
mahalanobis.dist | 0.551 | 0.022 | 0.573 | |
match.clusters | 4.819 | 0.158 | 4.997 | |
symmetric.KL | 0.519 | 0.022 | 0.542 | |
template.tree | 8.162 | 0.267 | 8.451 | |