Back to Multiple platform build/check report for BioC 3.10 |
|
This page was generated on 2020-04-15 12:18:53 -0400 (Wed, 15 Apr 2020).
Package 594/1823 | Hostname | OS / Arch | INSTALL | BUILD | CHECK | BUILD BIN | ||||||
flowMerge 2.34.0 Greg Finak
| malbec1 | Linux (Ubuntu 18.04.4 LTS) / x86_64 | OK | OK | OK | ![]() | ||||||
tokay1 | Windows Server 2012 R2 Standard / x64 | [ ERROR ] | OK | ERROR | ERROR | |||||||
merida1 | OS X 10.11.6 El Capitan / x86_64 | OK | OK | WARNINGS | OK | ![]() |
Package: flowMerge |
Version: 2.34.0 |
Command: C:\cygwin\bin\curl.exe -O https://malbec1.bioconductor.org/BBS/3.10/bioc/src/contrib/flowMerge_2.34.0.tar.gz && rm -rf flowMerge.buildbin-libdir && mkdir flowMerge.buildbin-libdir && C:\Users\biocbuild\bbs-3.10-bioc\R\bin\R.exe CMD INSTALL --merge-multiarch --build --library=flowMerge.buildbin-libdir flowMerge_2.34.0.tar.gz && C:\Users\biocbuild\bbs-3.10-bioc\R\bin\R.exe CMD INSTALL flowMerge_2.34.0.zip && rm flowMerge_2.34.0.tar.gz flowMerge_2.34.0.zip |
StartedAt: 2020-04-14 19:29:11 -0400 (Tue, 14 Apr 2020) |
EndedAt: 2020-04-14 19:29:15 -0400 (Tue, 14 Apr 2020) |
EllapsedTime: 3.4 seconds |
RetCode: 1 |
Status: ERROR |
############################################################################## ############################################################################## ### ### Running command: ### ### C:\cygwin\bin\curl.exe -O https://malbec1.bioconductor.org/BBS/3.10/bioc/src/contrib/flowMerge_2.34.0.tar.gz && rm -rf flowMerge.buildbin-libdir && mkdir flowMerge.buildbin-libdir && C:\Users\biocbuild\bbs-3.10-bioc\R\bin\R.exe CMD INSTALL --merge-multiarch --build --library=flowMerge.buildbin-libdir flowMerge_2.34.0.tar.gz && C:\Users\biocbuild\bbs-3.10-bioc\R\bin\R.exe CMD INSTALL flowMerge_2.34.0.zip && rm flowMerge_2.34.0.tar.gz flowMerge_2.34.0.zip ### ############################################################################## ############################################################################## % Total % Received % Xferd Average Speed Time Time Time Current Dload Upload Total Spent Left Speed 0 0 0 0 0 0 0 0 --:--:-- --:--:-- --:--:-- 0 100 398k 100 398k 0 0 5637k 0 --:--:-- --:--:-- --:--:-- 5954k install for i386 * installing *source* package 'flowMerge' ... ** using staged installation ** R ** data ** byte-compile and prepare package for lazy loading Error in library.dynam(dynlib, pkg, lib) : DLL 'rgl' not found: maybe not installed for this architecture? Error: package or namespace load failed for 'feature': .onLoad failed in loadNamespace() for 'rgl', details: call: NULL error: Loading rgl's DLL failed. Error: package 'feature' could not be loaded Execution halted ERROR: lazy loading failed for package 'flowMerge' * removing 'C:/Users/biocbuild/bbs-3.10-bioc/meat/flowMerge.buildbin-libdir/flowMerge'