Back to Multiple platform build/check report for BioC 3.10 |
|
This page was generated on 2020-04-15 12:19:46 -0400 (Wed, 15 Apr 2020).
Package 597/1823 | Hostname | OS / Arch | INSTALL | BUILD | CHECK | BUILD BIN | ||||||
flowPlots 1.34.0 N. Hawkins
| malbec1 | Linux (Ubuntu 18.04.4 LTS) / x86_64 | OK | OK | OK | ![]() | ||||||
tokay1 | Windows Server 2012 R2 Standard / x64 | [ OK ] | OK | OK | OK | ![]() | ||||||
merida1 | OS X 10.11.6 El Capitan / x86_64 | OK | OK | OK | OK | ![]() |
Package: flowPlots |
Version: 1.34.0 |
Command: C:\cygwin\bin\curl.exe -O https://malbec1.bioconductor.org/BBS/3.10/bioc/src/contrib/flowPlots_1.34.0.tar.gz && rm -rf flowPlots.buildbin-libdir && mkdir flowPlots.buildbin-libdir && C:\Users\biocbuild\bbs-3.10-bioc\R\bin\R.exe CMD INSTALL --merge-multiarch --build --library=flowPlots.buildbin-libdir flowPlots_1.34.0.tar.gz && C:\Users\biocbuild\bbs-3.10-bioc\R\bin\R.exe CMD INSTALL flowPlots_1.34.0.zip && rm flowPlots_1.34.0.tar.gz flowPlots_1.34.0.zip |
StartedAt: 2020-04-14 18:41:35 -0400 (Tue, 14 Apr 2020) |
EndedAt: 2020-04-14 18:42:42 -0400 (Tue, 14 Apr 2020) |
EllapsedTime: 67.0 seconds |
RetCode: 0 |
Status: OK |
############################################################################## ############################################################################## ### ### Running command: ### ### C:\cygwin\bin\curl.exe -O https://malbec1.bioconductor.org/BBS/3.10/bioc/src/contrib/flowPlots_1.34.0.tar.gz && rm -rf flowPlots.buildbin-libdir && mkdir flowPlots.buildbin-libdir && C:\Users\biocbuild\bbs-3.10-bioc\R\bin\R.exe CMD INSTALL --merge-multiarch --build --library=flowPlots.buildbin-libdir flowPlots_1.34.0.tar.gz && C:\Users\biocbuild\bbs-3.10-bioc\R\bin\R.exe CMD INSTALL flowPlots_1.34.0.zip && rm flowPlots_1.34.0.tar.gz flowPlots_1.34.0.zip ### ############################################################################## ############################################################################## % Total % Received % Xferd Average Speed Time Time Time Current Dload Upload Total Spent Left Speed 0 0 0 0 0 0 0 0 --:--:-- --:--:-- --:--:-- 0 100 188k 100 188k 0 0 5476k 0 --:--:-- --:--:-- --:--:-- 6088k install for i386 * installing *source* package 'flowPlots' ... ** using staged installation ** R ** data *** moving datasets to lazyload DB ** inst ** byte-compile and prepare package for lazy loading ** help *** installing help indices converting help for package 'flowPlots' finding HTML links ... done GroupListBoxplot html StackedData-class html adultsNeonates html computeMarginalData-methods html computeMarkers-methods html computePFDData-methods html computePFDGroupStatsList html computePFDPartsData-methods html computeProfileData-methods html legendPFDStatsGroupNames html makeBarplotData html makeDataList html makeTernaryData html marginalDF html marginalData-methods html markerMatrix html markers-methods html pfdDF html pfdData-methods html pfdPartsData-methods html pfdPartsList html profileDF html profileData-methods html readStackedData-methods html stackedData-methods html ** building package indices ** installing vignettes ** testing if installed package can be loaded from temporary location ** testing if installed package can be loaded from final location ** testing if installed package keeps a record of temporary installation path install for x64 * installing *source* package 'flowPlots' ... ** testing if installed package can be loaded * MD5 sums packaged installation of 'flowPlots' as flowPlots_1.34.0.zip * DONE (flowPlots) * installing to library 'C:/Users/biocbuild/bbs-3.10-bioc/R/library' package 'flowPlots' successfully unpacked and MD5 sums checked