Back to Multiple platform build/check report for BioC 3.10 |
|
This page was generated on 2019-04-06 19:13:42 -0400 (Sat, 06 Apr 2019).
Package 103/306 | Hostname | OS / Arch | INSTALL | BUILD | CHECK | BUILD BIN | ||||||
Mike Jiang
| malbec1 | Linux (Ubuntu 16.04.6 LTS) / x86_64 | [ ERROR ] | ERROR | skipped |
Package: flowQ |
Version: 1.43.2 |
Command: /home/biocbuild/bbs-3.10-bioc/R/bin/R CMD INSTALL flowQ |
StartedAt: 2019-04-06 18:45:01 -0400 (Sat, 06 Apr 2019) |
EndedAt: 2019-04-06 18:45:02 -0400 (Sat, 06 Apr 2019) |
EllapsedTime: 0.6 seconds |
RetCode: 1 |
Status: ERROR |
############################################################################## ############################################################################## ### ### Running command: ### ### /home/biocbuild/bbs-3.10-bioc/R/bin/R CMD INSTALL flowQ ### ############################################################################## ############################################################################## * installing to library ‘/home/biocbuild/bbs-3.10-bioc/R/library’ ERROR: dependencies ‘BiocGenerics’, ‘flowViz’, ‘bioDist’, ‘geneplotter’, ‘flowCore’, ‘IRanges’ are not available for package ‘flowQ’ * removing ‘/home/biocbuild/bbs-3.10-bioc/R/library/flowQ’