Back to Multiple platform build/check report for BioC 3.10 |
|
This page was generated on 2020-04-15 12:07:11 -0400 (Wed, 15 Apr 2020).
Package 633/1823 | Hostname | OS / Arch | INSTALL | BUILD | CHECK | BUILD BIN | ||||||
gCMAP 1.30.0 Thomas Sandmann
| malbec1 | Linux (Ubuntu 18.04.4 LTS) / x86_64 | OK | OK | [ OK ] | ![]() | ||||||
tokay1 | Windows Server 2012 R2 Standard / x64 | ...NOT SUPPORTED... | ||||||||||
merida1 | OS X 10.11.6 El Capitan / x86_64 | OK | OK | OK | OK | ![]() |
Package: gCMAP |
Version: 1.30.0 |
Command: /home/biocbuild/bbs-3.10-bioc/R/bin/R CMD check --install=check:gCMAP.install-out.txt --library=/home/biocbuild/bbs-3.10-bioc/R/library --no-vignettes --timings gCMAP_1.30.0.tar.gz |
StartedAt: 2020-04-15 01:27:04 -0400 (Wed, 15 Apr 2020) |
EndedAt: 2020-04-15 01:30:22 -0400 (Wed, 15 Apr 2020) |
EllapsedTime: 198.3 seconds |
RetCode: 0 |
Status: OK |
CheckDir: gCMAP.Rcheck |
Warnings: 0 |
############################################################################## ############################################################################## ### ### Running command: ### ### /home/biocbuild/bbs-3.10-bioc/R/bin/R CMD check --install=check:gCMAP.install-out.txt --library=/home/biocbuild/bbs-3.10-bioc/R/library --no-vignettes --timings gCMAP_1.30.0.tar.gz ### ############################################################################## ############################################################################## * using log directory ‘/home/biocbuild/bbs-3.10-bioc/meat/gCMAP.Rcheck’ * using R version 3.6.3 (2020-02-29) * using platform: x86_64-pc-linux-gnu (64-bit) * using session charset: UTF-8 * using option ‘--no-vignettes’ * checking for file ‘gCMAP/DESCRIPTION’ ... OK * checking extension type ... Package * this is package ‘gCMAP’ version ‘1.30.0’ * checking package namespace information ... OK * checking package dependencies ... OK * checking if this is a source package ... OK * checking if there is a namespace ... OK * checking for hidden files and directories ... NOTE Found the following hidden files and directories: .BBSoptions These were most likely included in error. See section ‘Package structure’ in the ‘Writing R Extensions’ manual. * checking for portable file names ... OK * checking for sufficient/correct file permissions ... OK * checking whether package ‘gCMAP’ can be installed ... OK * checking installed package size ... OK * checking package directory ... OK * checking ‘build’ directory ... OK * checking DESCRIPTION meta-information ... OK * checking top-level files ... OK * checking for left-over files ... OK * checking index information ... OK * checking package subdirectories ... OK * checking R files for non-ASCII characters ... OK * checking R files for syntax errors ... OK * checking whether the package can be loaded ... OK * checking whether the package can be loaded with stated dependencies ... OK * checking whether the package can be unloaded cleanly ... OK * checking whether the namespace can be loaded with stated dependencies ... OK * checking whether the namespace can be unloaded cleanly ... OK * checking dependencies in R code ... NOTE Namespace in Imports field not imported from: ‘bigmemory’ All declared Imports should be used. * checking S3 generic/method consistency ... OK * checking replacement functions ... OK * checking foreign function calls ... OK * checking R code for possible problems ... OK * checking Rd files ... OK * checking Rd metadata ... OK * checking Rd cross-references ... OK * checking for missing documentation entries ... OK * checking for code/documentation mismatches ... OK * checking Rd \usage sections ... OK * checking Rd contents ... OK * checking for unstated dependencies in examples ... OK * checking contents of ‘data’ directory ... OK * checking data for non-ASCII characters ... OK * checking data for ASCII and uncompressed saves ... OK * checking files in ‘vignettes’ ... OK * checking examples ... OK Examples with CPU or elapsed time > 5s user system elapsed mgsa_score-methods 20.428 0.384 6.285 romer_score-methods 7.412 0.220 7.394 * checking for unstated dependencies in ‘tests’ ... OK * checking tests ... Running ‘runTests.R’ OK * checking for unstated dependencies in vignettes ... OK * checking package vignettes in ‘inst/doc’ ... OK * checking running R code from vignettes ... SKIPPED * checking re-building of vignette outputs ... SKIPPED * checking PDF version of manual ... OK * DONE Status: 2 NOTEs See ‘/home/biocbuild/bbs-3.10-bioc/meat/gCMAP.Rcheck/00check.log’ for details.
gCMAP.Rcheck/00install.out
############################################################################## ############################################################################## ### ### Running command: ### ### /home/biocbuild/bbs-3.10-bioc/R/bin/R CMD INSTALL gCMAP ### ############################################################################## ############################################################################## * installing to library ‘/home/biocbuild/bbs-3.10-bioc/R/library’ * installing *source* package ‘gCMAP’ ... ** using staged installation ** R ** data ** inst ** byte-compile and prepare package for lazy loading ** help *** installing help indices ** building package indices ** installing vignettes ** testing if installed package can be loaded from temporary location ** testing if installed package can be loaded from final location ** testing if installed package keeps a record of temporary installation path * DONE (gCMAP)
gCMAP.Rcheck/tests/runTests.Rout
R version 3.6.3 (2020-02-29) -- "Holding the Windsock" Copyright (C) 2020 The R Foundation for Statistical Computing Platform: x86_64-pc-linux-gnu (64-bit) R is free software and comes with ABSOLUTELY NO WARRANTY. You are welcome to redistribute it under certain conditions. Type 'license()' or 'licence()' for distribution details. R is a collaborative project with many contributors. Type 'contributors()' for more information and 'citation()' on how to cite R or R packages in publications. Type 'demo()' for some demos, 'help()' for on-line help, or 'help.start()' for an HTML browser interface to help. Type 'q()' to quit R. > require("gCMAP") || stop("unable to load gCMAP") Loading required package: gCMAP Loading required package: GSEABase Loading required package: BiocGenerics Loading required package: parallel Attaching package: 'BiocGenerics' The following objects are masked from 'package:parallel': clusterApply, clusterApplyLB, clusterCall, clusterEvalQ, clusterExport, clusterMap, parApply, parCapply, parLapply, parLapplyLB, parRapply, parSapply, parSapplyLB The following objects are masked from 'package:stats': IQR, mad, sd, var, xtabs The following objects are masked from 'package:base': Filter, Find, Map, Position, Reduce, anyDuplicated, append, as.data.frame, basename, cbind, colnames, dirname, do.call, duplicated, eval, evalq, get, grep, grepl, intersect, is.unsorted, lapply, mapply, match, mget, order, paste, pmax, pmax.int, pmin, pmin.int, rank, rbind, rownames, sapply, setdiff, sort, table, tapply, union, unique, unsplit, which, which.max, which.min Loading required package: Biobase Welcome to Bioconductor Vignettes contain introductory material; view with 'browseVignettes()'. To cite Bioconductor, see 'citation("Biobase")', and for packages 'citation("pkgname")'. Loading required package: annotate Loading required package: AnnotationDbi Loading required package: stats4 Loading required package: IRanges Loading required package: S4Vectors Attaching package: 'S4Vectors' The following object is masked from 'package:base': expand.grid Loading required package: XML Loading required package: graph Attaching package: 'graph' The following object is masked from 'package:XML': addNode Loading required package: limma Attaching package: 'limma' The following object is masked from 'package:BiocGenerics': plotMA Attaching package: 'gCMAP' The following object is masked from 'package:IRanges': members [1] TRUE > BiocGenerics:::testPackage("gCMAP") Loading required package: bigmemory Loading required package: bigmemory Design is based on 'predictor' parameter. Loading required package: bigmemory Loading required package: bigmemory Loading required package: bigmemory Loading required package: bigmemory Loading required package: bigmemory Loading required package: bigmemory Loading required package: bigmemory Loading required package: bigmemory Loading required package: bigmemory Loading required package: bigmemory eSets 'x' and 'y' share 500 common features. Attaching package: 'gplots' The following object is masked from 'package:IRanges': space The following object is masked from 'package:S4Vectors': space The following object is masked from 'package:stats': lowess Loading required package: bigmemory Loading required package: bigmemory Loading required package: bigmemory Loading required package: bigmemory Loading required package: bigmemory Loading required package: bigmemory Design is based on 'predictor' parameter. Loading required package: bigmemory Loading required package: bigmemory Design is based on 'predictor' parameter. The following factor(s) will be ignored: score Using type as factor of interest. Loading required package: bigmemory Loading required package: bigmemory RUNIT TEST PROTOCOL -- Wed Apr 15 01:30:17 2020 *********************************************** Number of test functions: 19 Number of errors: 0 Number of failures: 0 1 Test Suite : gCMAP RUnit Tests - 19 test functions, 0 errors, 0 failures Number of test functions: 19 Number of errors: 0 Number of failures: 0 > > proc.time() user system elapsed 36.388 4.380 28.884
gCMAP.Rcheck/gCMAP-Ex.timings
name | user | system | elapsed | |
CMAPCollection-class | 1.108 | 0.276 | 0.942 | |
CMAPResults-class | 1.748 | 0.076 | 1.824 | |
KEGG2cmap | 0 | 0 | 0 | |
SignedGeneSet-class | 0.028 | 0.000 | 0.025 | |
annotate_eset_list | 0.116 | 0.000 | 0.136 | |
camera_score-methods | 1.336 | 0.304 | 1.144 | |
center_eSet | 0.028 | 0.004 | 0.034 | |
connectivity_score-methods | 0.832 | 0.500 | 0.851 | |
eSetOnDisk | 1.220 | 0.128 | 1.296 | |
eset_instances | 0.072 | 0.004 | 0.078 | |
featureScores-methods | 0.776 | 0.176 | 0.649 | |
fisher_score-methods | 0.952 | 0.340 | 0.816 | |
gCMAPData-dataset | 0.748 | 0.204 | 0.556 | |
geneIndex-methods | 0.792 | 0.212 | 0.557 | |
generate_gCMAP_NChannelSet | 0.128 | 0.016 | 0.146 | |
gsealm_jg_score-methods | 0.820 | 0.328 | 0.690 | |
gsealm_score-methods | 3.020 | 0.376 | 2.832 | |
induceCMAPCollection-methods | 0.564 | 0.212 | 0.449 | |
mapNmerge | 0 | 0 | 0 | |
memorize | 1.080 | 0.092 | 1.176 | |
mergeCMAPs | 0.112 | 0.000 | 0.108 | |
mgsa_score-methods | 20.428 | 0.384 | 6.285 | |
minSetSize-methods | 0.540 | 0.176 | 0.394 | |
mroast_score-methods | 0.900 | 0.184 | 0.785 | |
romer_score-methods | 7.412 | 0.220 | 7.394 | |
signedRankSumTest | 0.004 | 0.000 | 0.002 | |
splitPerturbations | 0.092 | 0.004 | 0.098 | |
wilcox_score-methods | 0.824 | 0.616 | 0.953 | |