Back to Multiple platform build/check report for BioC 3.10 |
|
This page was generated on 2020-04-15 12:27:54 -0400 (Wed, 15 Apr 2020).
Package 650/1823 | Hostname | OS / Arch | INSTALL | BUILD | CHECK | BUILD BIN | ||||||
geneClassifiers 1.10.0 R Kuiper
| malbec1 | Linux (Ubuntu 18.04.4 LTS) / x86_64 | OK | OK | OK | ![]() | ||||||
tokay1 | Windows Server 2012 R2 Standard / x64 | [ OK ] | OK | OK | OK | ![]() | ||||||
merida1 | OS X 10.11.6 El Capitan / x86_64 | OK | OK | OK | OK | ![]() |
Package: geneClassifiers |
Version: 1.10.0 |
Command: C:\cygwin\bin\curl.exe -O https://malbec1.bioconductor.org/BBS/3.10/bioc/src/contrib/geneClassifiers_1.10.0.tar.gz && rm -rf geneClassifiers.buildbin-libdir && mkdir geneClassifiers.buildbin-libdir && C:\Users\biocbuild\bbs-3.10-bioc\R\bin\R.exe CMD INSTALL --merge-multiarch --build --library=geneClassifiers.buildbin-libdir geneClassifiers_1.10.0.tar.gz && C:\Users\biocbuild\bbs-3.10-bioc\R\bin\R.exe CMD INSTALL geneClassifiers_1.10.0.zip && rm geneClassifiers_1.10.0.tar.gz geneClassifiers_1.10.0.zip |
StartedAt: 2020-04-14 18:38:33 -0400 (Tue, 14 Apr 2020) |
EndedAt: 2020-04-14 18:39:19 -0400 (Tue, 14 Apr 2020) |
EllapsedTime: 46.0 seconds |
RetCode: 0 |
Status: OK |
############################################################################## ############################################################################## ### ### Running command: ### ### C:\cygwin\bin\curl.exe -O https://malbec1.bioconductor.org/BBS/3.10/bioc/src/contrib/geneClassifiers_1.10.0.tar.gz && rm -rf geneClassifiers.buildbin-libdir && mkdir geneClassifiers.buildbin-libdir && C:\Users\biocbuild\bbs-3.10-bioc\R\bin\R.exe CMD INSTALL --merge-multiarch --build --library=geneClassifiers.buildbin-libdir geneClassifiers_1.10.0.tar.gz && C:\Users\biocbuild\bbs-3.10-bioc\R\bin\R.exe CMD INSTALL geneClassifiers_1.10.0.zip && rm geneClassifiers_1.10.0.tar.gz geneClassifiers_1.10.0.zip ### ############################################################################## ############################################################################## % Total % Received % Xferd Average Speed Time Time Time Current Dload Upload Total Spent Left Speed 0 0 0 0 0 0 0 0 --:--:-- --:--:-- --:--:-- 0 100 1282k 100 1282k 0 0 3263k 0 --:--:-- --:--:-- --:--:-- 3297k install for i386 * installing *source* package 'geneClassifiers' ... ** using staged installation ** R ** data *** moving datasets to lazyload DB ** byte-compile and prepare package for lazy loading ** help *** installing help indices converting help for package 'geneClassifiers' finding HTML links ... done ClassifierParameters html ClassifierResults html FixedExpressionData html bracket-methods html dim-methods html exampleMAS5 html finding level-2 HTML links ... done geneClassifiers-package html getBatchCorrection-methods html getCitations-methods html getClassifications-methods html getClassifier-methods html getDecisionBoundaries-methods html getDescription-methods html getEventChain-methods html getIntercept-methods html getMeans-methods html getName-methods html getNormalizationMethod-methods html getProbeNames-methods html getScores-methods html getSds-methods html getTargetValue-methods html getTrainingData-methods html getWeightingType-methods html getWeights-methods html runClassifier-methods html setNormalizationMethod-methods html showClassifierList-methods html ** building package indices ** installing vignettes ** testing if installed package can be loaded from temporary location ** testing if installed package can be loaded from final location ** testing if installed package keeps a record of temporary installation path install for x64 * installing *source* package 'geneClassifiers' ... ** testing if installed package can be loaded * MD5 sums packaged installation of 'geneClassifiers' as geneClassifiers_1.10.0.zip * DONE (geneClassifiers) * installing to library 'C:/Users/biocbuild/bbs-3.10-bioc/R/library' package 'geneClassifiers' successfully unpacked and MD5 sums checked