Back to Multiple platform build/check report for BioC 3.10 |
|
This page was generated on 2020-04-15 12:19:14 -0400 (Wed, 15 Apr 2020).
Package 725/1823 | Hostname | OS / Arch | INSTALL | BUILD | CHECK | BUILD BIN | ||||||
goseq 1.38.0 Matthew Young
| malbec1 | Linux (Ubuntu 18.04.4 LTS) / x86_64 | OK | OK | OK | ![]() | ||||||
tokay1 | Windows Server 2012 R2 Standard / x64 | [ OK ] | OK | OK | OK | ![]() | ||||||
merida1 | OS X 10.11.6 El Capitan / x86_64 | OK | OK | OK | OK | ![]() |
Package: goseq |
Version: 1.38.0 |
Command: C:\cygwin\bin\curl.exe -O https://malbec1.bioconductor.org/BBS/3.10/bioc/src/contrib/goseq_1.38.0.tar.gz && rm -rf goseq.buildbin-libdir && mkdir goseq.buildbin-libdir && C:\Users\biocbuild\bbs-3.10-bioc\R\bin\R.exe CMD INSTALL --merge-multiarch --build --library=goseq.buildbin-libdir goseq_1.38.0.tar.gz && C:\Users\biocbuild\bbs-3.10-bioc\R\bin\R.exe CMD INSTALL goseq_1.38.0.zip && rm goseq_1.38.0.tar.gz goseq_1.38.0.zip |
StartedAt: 2020-04-14 20:05:25 -0400 (Tue, 14 Apr 2020) |
EndedAt: 2020-04-14 20:06:17 -0400 (Tue, 14 Apr 2020) |
EllapsedTime: 52.3 seconds |
RetCode: 0 |
Status: OK |
############################################################################## ############################################################################## ### ### Running command: ### ### C:\cygwin\bin\curl.exe -O https://malbec1.bioconductor.org/BBS/3.10/bioc/src/contrib/goseq_1.38.0.tar.gz && rm -rf goseq.buildbin-libdir && mkdir goseq.buildbin-libdir && C:\Users\biocbuild\bbs-3.10-bioc\R\bin\R.exe CMD INSTALL --merge-multiarch --build --library=goseq.buildbin-libdir goseq_1.38.0.tar.gz && C:\Users\biocbuild\bbs-3.10-bioc\R\bin\R.exe CMD INSTALL goseq_1.38.0.zip && rm goseq_1.38.0.tar.gz goseq_1.38.0.zip ### ############################################################################## ############################################################################## % Total % Received % Xferd Average Speed Time Time Time Current Dload Upload Total Spent Left Speed 0 0 0 0 0 0 0 0 --:--:-- --:--:-- --:--:-- 0 100 465k 100 465k 0 0 2317k 0 --:--:-- --:--:-- --:--:-- 2364k install for i386 * installing *source* package 'goseq' ... ** using staged installation ** R ** data ** inst ** byte-compile and prepare package for lazy loading ** help *** installing help indices converting help for package 'goseq' finding HTML links ... done genes html getgo html finding level-2 HTML links ... done getlength html goseq html makespline html nullp html plotPWF html supportedOrganisms html ** building package indices ** installing vignettes ** testing if installed package can be loaded from temporary location ** testing if installed package can be loaded from final location ** testing if installed package keeps a record of temporary installation path install for x64 * installing *source* package 'goseq' ... ** testing if installed package can be loaded * MD5 sums packaged installation of 'goseq' as goseq_1.38.0.zip * DONE (goseq) * installing to library 'C:/Users/biocbuild/bbs-3.10-bioc/R/library' package 'goseq' successfully unpacked and MD5 sums checked