Back to Multiple platform build/check report for BioC 3.10 |
|
This page was generated on 2020-04-15 12:32:24 -0400 (Wed, 15 Apr 2020).
Package 735/1823 | Hostname | OS / Arch | INSTALL | BUILD | CHECK | BUILD BIN | ||||||
gpuMagic 1.2.0 Jiefei Wang
| malbec1 | Linux (Ubuntu 18.04.4 LTS) / x86_64 | ...NOT SUPPORTED... | |||||||||
tokay1 | Windows Server 2012 R2 Standard / x64 | ERROR | [ ERROR ] | skipped | skipped | |||||||
merida1 | OS X 10.11.6 El Capitan / x86_64 | OK | OK | OK | OK | ![]() |
Package: gpuMagic |
Version: 1.2.0 |
Command: chmod a+r gpuMagic -R && C:\Users\biocbuild\bbs-3.10-bioc\R\bin\R.exe CMD build --keep-empty-dirs --no-resave-data gpuMagic |
StartedAt: 2020-04-15 00:40:16 -0400 (Wed, 15 Apr 2020) |
EndedAt: 2020-04-15 00:40:28 -0400 (Wed, 15 Apr 2020) |
EllapsedTime: 11.6 seconds |
RetCode: 1 |
Status: ERROR |
PackageFile: gpuMagic_1.2.0.tar.gz |
PackageFileSize: 130.3 KiB |
############################################################################## ############################################################################## ### ### Running command: ### ### chmod a+r gpuMagic -R && C:\Users\biocbuild\bbs-3.10-bioc\R\bin\R.exe CMD build --keep-empty-dirs --no-resave-data gpuMagic ### ############################################################################## ############################################################################## * checking for file 'gpuMagic/DESCRIPTION' ... OK * preparing 'gpuMagic': * checking DESCRIPTION meta-information ... OK * cleaning src * installing the package to build vignettes ----------------------------------- * installing *source* package 'gpuMagic' ... ** using staged installation ** libs C:/Rtools/mingw_64/bin/g++ -std=gnu++11 -I"C:/Users/BIOCBU~1/BBS-3~1.10-/R/include" -DNDEBUG -IC:/Users/BIOCBU~1/BBS-3~1.10-/R/include -I../inst/include/inc -DCL_TARGET_OPENCL_VERSION=220 -DCL_USE_DEPRECATED_OPENCL_1_2_APIS -I"C:/Users/biocbuild/bbs-3.10-bioc/R/library/Rcpp/include" -I"C:/extsoft/include" -O2 -Wall -mtune=core2 -c C_Interface.cpp -o C_Interface.o C:/Rtools/mingw_64/bin/g++ -std=gnu++11 -I"C:/Users/BIOCBU~1/BBS-3~1.10-/R/include" -DNDEBUG -IC:/Users/BIOCBU~1/BBS-3~1.10-/R/include -I../inst/include/inc -DCL_TARGET_OPENCL_VERSION=220 -DCL_USE_DEPRECATED_OPENCL_1_2_APIS -I"C:/Users/biocbuild/bbs-3.10-bioc/R/library/Rcpp/include" -I"C:/extsoft/include" -O2 -Wall -mtune=core2 -c R_functionRegistration.cpp -o R_functionRegistration.o C:/Rtools/mingw_64/bin/g++ -std=gnu++11 -I"C:/Users/BIOCBU~1/BBS-3~1.10-/R/include" -DNDEBUG -IC:/Users/BIOCBU~1/BBS-3~1.10-/R/include -I../inst/include/inc -DCL_TARGET_OPENCL_VERSION=220 -DCL_USE_DEPRECATED_OPENCL_1_2_APIS -I"C:/Users/biocbuild/bbs-3.10-bioc/R/library/Rcpp/include" -I"C:/extsoft/include" -O2 -Wall -mtune=core2 -c Tools.cpp -o Tools.o C:/Rtools/mingw_64/bin/g++ -std=gnu++11 -I"C:/Users/BIOCBU~1/BBS-3~1.10-/R/include" -DNDEBUG -IC:/Users/BIOCBU~1/BBS-3~1.10-/R/include -I../inst/include/inc -DCL_TARGET_OPENCL_VERSION=220 -DCL_USE_DEPRECATED_OPENCL_1_2_APIS -I"C:/Users/biocbuild/bbs-3.10-bioc/R/library/Rcpp/include" -I"C:/extsoft/include" -O2 -Wall -mtune=core2 -c kernelManager.cpp -o kernelManager.o C:/Rtools/mingw_64/bin/g++ -std=gnu++11 -I"C:/Users/BIOCBU~1/BBS-3~1.10-/R/include" -DNDEBUG -IC:/Users/BIOCBU~1/BBS-3~1.10-/R/include -I../inst/include/inc -DCL_TARGET_OPENCL_VERSION=220 -DCL_USE_DEPRECATED_OPENCL_1_2_APIS -I"C:/Users/biocbuild/bbs-3.10-bioc/R/library/Rcpp/include" -I"C:/extsoft/include" -O2 -Wall -mtune=core2 -c openArray.cpp -o openArray.o C:/Rtools/mingw_64/bin/g++ -shared -s -static-libgcc -o gpuMagic.dll tmp.def C_Interface.o R_functionRegistration.o Tools.o kernelManager.o openArray.o C:\Windows/System32/OpenCL.dll -LC:/extsoft/lib/x64 -LC:/extsoft/lib -LC:/Users/BIOCBU~1/BBS-3~1.10-/R/bin/x64 -lR g++.exe: error: C:\Windows/System32/OpenCL.dll: No such file or directory no DLL was created ERROR: compilation failed for package 'gpuMagic' * removing 'C:/Users/biocbuild/bbs-3.10-bioc/tmpdir/RtmpOqkUQH/Rinst18402a513fbc/gpuMagic' ----------------------------------- ERROR: package installation failed