Back to Multiple platform build/check report for BioC 3.10 |
|
This page was generated on 2020-04-15 12:30:41 -0400 (Wed, 15 Apr 2020).
Package 767/1823 | Hostname | OS / Arch | INSTALL | BUILD | CHECK | BUILD BIN | ||||||
gwasurvivr 1.4.0 Abbas Rizvi
| malbec1 | Linux (Ubuntu 18.04.4 LTS) / x86_64 | OK | OK | OK | |||||||
tokay1 | Windows Server 2012 R2 Standard / x64 | OK | OK | [ OK ] | OK | |||||||
merida1 | OS X 10.11.6 El Capitan / x86_64 | OK | OK | OK | OK |
Package: gwasurvivr |
Version: 1.4.0 |
Command: C:\Users\biocbuild\bbs-3.10-bioc\R\bin\R.exe CMD check --force-multiarch --install=check:gwasurvivr.install-out.txt --library=C:\Users\biocbuild\bbs-3.10-bioc\R\library --no-vignettes --timings gwasurvivr_1.4.0.tar.gz |
StartedAt: 2020-04-15 03:49:00 -0400 (Wed, 15 Apr 2020) |
EndedAt: 2020-04-15 03:57:40 -0400 (Wed, 15 Apr 2020) |
EllapsedTime: 519.3 seconds |
RetCode: 0 |
Status: OK |
CheckDir: gwasurvivr.Rcheck |
Warnings: 0 |
############################################################################## ############################################################################## ### ### Running command: ### ### C:\Users\biocbuild\bbs-3.10-bioc\R\bin\R.exe CMD check --force-multiarch --install=check:gwasurvivr.install-out.txt --library=C:\Users\biocbuild\bbs-3.10-bioc\R\library --no-vignettes --timings gwasurvivr_1.4.0.tar.gz ### ############################################################################## ############################################################################## * using log directory 'C:/Users/biocbuild/bbs-3.10-bioc/meat/gwasurvivr.Rcheck' * using R version 3.6.3 (2020-02-29) * using platform: x86_64-w64-mingw32 (64-bit) * using session charset: ISO8859-1 * using option '--no-vignettes' * checking for file 'gwasurvivr/DESCRIPTION' ... OK * checking extension type ... Package * this is package 'gwasurvivr' version '1.4.0' * package encoding: UTF-8 * checking package namespace information ... OK * checking package dependencies ... OK * checking if this is a source package ... OK * checking if there is a namespace ... OK * checking for hidden files and directories ... OK * checking for portable file names ... OK * checking whether package 'gwasurvivr' can be installed ... OK * checking installed package size ... OK * checking package directory ... OK * checking 'build' directory ... OK * checking DESCRIPTION meta-information ... OK * checking top-level files ... OK * checking for left-over files ... OK * checking index information ... OK * checking package subdirectories ... OK * checking R files for non-ASCII characters ... OK * checking R files for syntax errors ... OK * loading checks for arch 'i386' ** checking whether the package can be loaded ... OK ** checking whether the package can be loaded with stated dependencies ... OK ** checking whether the package can be unloaded cleanly ... OK ** checking whether the namespace can be loaded with stated dependencies ... OK ** checking whether the namespace can be unloaded cleanly ... OK * loading checks for arch 'x64' ** checking whether the package can be loaded ... OK ** checking whether the package can be loaded with stated dependencies ... OK ** checking whether the package can be unloaded cleanly ... OK ** checking whether the namespace can be loaded with stated dependencies ... OK ** checking whether the namespace can be unloaded cleanly ... OK * checking dependencies in R code ... OK * checking S3 generic/method consistency ... OK * checking replacement functions ... OK * checking foreign function calls ... OK * checking R code for possible problems ... OK * checking Rd files ... OK * checking Rd metadata ... OK * checking Rd cross-references ... OK * checking for missing documentation entries ... OK * checking for code/documentation mismatches ... OK * checking Rd \usage sections ... OK * checking Rd contents ... OK * checking for unstated dependencies in examples ... OK * checking files in 'vignettes' ... OK * checking examples ... ** running examples for arch 'i386' ... OK Examples with CPU or elapsed time > 5s user system elapsed michiganCoxSurv 1.26 0.51 19.00 plinkCoxSurv 1.21 0.08 17.00 impute2CoxSurv 0.84 0.03 13.64 sangerCoxSurv 0.87 0.00 18.14 gdsCoxSurv 0.09 0.02 12.50 ** running examples for arch 'x64' ... OK Examples with CPU or elapsed time > 5s user system elapsed michiganCoxSurv 1.15 0.01 16.25 plinkCoxSurv 1.13 0.02 17.47 impute2CoxSurv 0.95 0.00 15.59 sangerCoxSurv 0.71 0.02 16.77 gdsCoxSurv 0.06 0.02 17.14 * checking for unstated dependencies in vignettes ... OK * checking package vignettes in 'inst/doc' ... OK * checking running R code from vignettes ... SKIPPED * checking re-building of vignette outputs ... SKIPPED * checking PDF version of manual ... OK * DONE Status: OK
gwasurvivr.Rcheck/00install.out
############################################################################## ############################################################################## ### ### Running command: ### ### C:\cygwin\bin\curl.exe -O https://malbec1.bioconductor.org/BBS/3.10/bioc/src/contrib/gwasurvivr_1.4.0.tar.gz && rm -rf gwasurvivr.buildbin-libdir && mkdir gwasurvivr.buildbin-libdir && C:\Users\biocbuild\bbs-3.10-bioc\R\bin\R.exe CMD INSTALL --merge-multiarch --build --library=gwasurvivr.buildbin-libdir gwasurvivr_1.4.0.tar.gz && C:\Users\biocbuild\bbs-3.10-bioc\R\bin\R.exe CMD INSTALL gwasurvivr_1.4.0.zip && rm gwasurvivr_1.4.0.tar.gz gwasurvivr_1.4.0.zip ### ############################################################################## ############################################################################## % Total % Received % Xferd Average Speed Time Time Time Current Dload Upload Total Spent Left Speed 0 0 0 0 0 0 0 0 --:--:-- --:--:-- --:--:-- 0 100 42676 100 42676 0 0 651k 0 --:--:-- --:--:-- --:--:-- 694k install for i386 * installing *source* package 'gwasurvivr' ... ** using staged installation ** R ** inst ** byte-compile and prepare package for lazy loading ** help *** installing help indices converting help for package 'gwasurvivr' finding HTML links ... done gdsCoxSurv html impute2CoxSurv html michiganCoxSurv html plinkCoxSurv html sangerCoxSurv html ** building package indices ** installing vignettes ** testing if installed package can be loaded from temporary location ** testing if installed package can be loaded from final location ** testing if installed package keeps a record of temporary installation path install for x64 * installing *source* package 'gwasurvivr' ... ** testing if installed package can be loaded * MD5 sums packaged installation of 'gwasurvivr' as gwasurvivr_1.4.0.zip * DONE (gwasurvivr) * installing to library 'C:/Users/biocbuild/bbs-3.10-bioc/R/library' package 'gwasurvivr' successfully unpacked and MD5 sums checked
gwasurvivr.Rcheck/examples_i386/gwasurvivr-Ex.timings
|
gwasurvivr.Rcheck/examples_x64/gwasurvivr-Ex.timings
|