Back to Multiple platform build/check report for BioC 3.10 |
|
This page was generated on 2020-04-15 12:38:04 -0400 (Wed, 15 Apr 2020).
Package 769/1823 | Hostname | OS / Arch | INSTALL | BUILD | CHECK | BUILD BIN | ||||||
hapFabia 1.28.0 Andreas Mitterecker
| malbec1 | Linux (Ubuntu 18.04.4 LTS) / x86_64 | OK | OK | OK | |||||||
tokay1 | Windows Server 2012 R2 Standard / x64 | OK | OK | OK | OK | |||||||
merida1 | OS X 10.11.6 El Capitan / x86_64 | [ OK ] | OK | OK | OK |
Package: hapFabia |
Version: 1.28.0 |
Command: /Library/Frameworks/R.framework/Versions/Current/Resources/bin/R CMD INSTALL hapFabia |
StartedAt: 2020-04-14 18:22:33 -0400 (Tue, 14 Apr 2020) |
EndedAt: 2020-04-14 18:23:13 -0400 (Tue, 14 Apr 2020) |
EllapsedTime: 39.7 seconds |
RetCode: 0 |
Status: OK |
############################################################################## ############################################################################## ### ### Running command: ### ### /Library/Frameworks/R.framework/Versions/Current/Resources/bin/R CMD INSTALL hapFabia ### ############################################################################## ############################################################################## * installing to library ‘/Library/Frameworks/R.framework/Versions/3.6/Resources/library’ * installing *source* package ‘hapFabia’ ... ** using staged installation ** libs clang -I"/Library/Frameworks/R.framework/Resources/include" -DNDEBUG -isysroot /Library/Developer/CommandLineTools/SDKs/MacOSX.sdk -I/usr/local/include -fPIC -Wall -g -O2 -c interfaceR.c -o interfaceR.o clang -I"/Library/Frameworks/R.framework/Resources/include" -DNDEBUG -isysroot /Library/Developer/CommandLineTools/SDKs/MacOSX.sdk -I/usr/local/include -fPIC -Wall -g -O2 -c split_sparse_matrixB.c -o split_sparse_matrixB.o clang -I"/Library/Frameworks/R.framework/Resources/include" -DNDEBUG -isysroot /Library/Developer/CommandLineTools/SDKs/MacOSX.sdk -I/usr/local/include -fPIC -Wall -g -O2 -c vcftoFABIAB.c -o vcftoFABIAB.o clang -dynamiclib -Wl,-headerpad_max_install_names -undefined dynamic_lookup -single_module -multiply_defined suppress -L/Library/Frameworks/R.framework/Resources/lib -L/usr/local/lib -o hapFabia.so interfaceR.o split_sparse_matrixB.o vcftoFABIAB.o -F/Library/Frameworks/R.framework/.. -framework R -Wl,-framework -Wl,CoreFoundation clang -c ./commandLine/split_sparse_matrix.c -o ./commandLine/split_sparse_matrix.o -Wall -g -O2 clang -c split_sparse_matrixB.c -o ./commandLine/split_sparse_matrixB.o -Wall -g -O2 clang ./commandLine/split_sparse_matrix.o ./commandLine/split_sparse_matrixB.o -o ./commandLine/split_sparse_matrix mv ./commandLine/split_sparse_matrix ../inst/commandLine/ clang -c ./commandLine/vcftoFABIA.c -o ./commandLine/vcftoFABIA.o -Wall -g -O2 clang -c vcftoFABIAB.c -o ./commandLine/vcftoFABIAB.o -Wall -g -O2 clang ./commandLine/vcftoFABIA.o ./commandLine/vcftoFABIAB.o -o ./commandLine/vcftoFABIA mv ./commandLine/vcftoFABIA ../inst/commandLine/ installing to /Library/Frameworks/R.framework/Versions/3.6/Resources/library/00LOCK-hapFabia/00new/hapFabia/libs ** R ** data ** inst ** byte-compile and prepare package for lazy loading ** help *** installing help indices ** building package indices ** installing vignettes ** testing if installed package can be loaded from temporary location ** checking absolute paths in shared objects and dynamic libraries ** testing if installed package can be loaded from final location ** testing if installed package keeps a record of temporary installation path * DONE (hapFabia)