Back to Multiple platform build/check report for BioC 3.10 |
|
This page was generated on 2020-04-15 12:20:39 -0400 (Wed, 15 Apr 2020).
Package 810/1823 | Hostname | OS / Arch | INSTALL | BUILD | CHECK | BUILD BIN | ||||||
iASeq 1.30.0 Yingying Wei
| malbec1 | Linux (Ubuntu 18.04.4 LTS) / x86_64 | OK | OK | OK | |||||||
tokay1 | Windows Server 2012 R2 Standard / x64 | [ OK ] | OK | OK | OK | |||||||
merida1 | OS X 10.11.6 El Capitan / x86_64 | OK | OK | OK | OK |
Package: iASeq |
Version: 1.30.0 |
Command: C:\cygwin\bin\curl.exe -O https://malbec1.bioconductor.org/BBS/3.10/bioc/src/contrib/iASeq_1.30.0.tar.gz && rm -rf iASeq.buildbin-libdir && mkdir iASeq.buildbin-libdir && C:\Users\biocbuild\bbs-3.10-bioc\R\bin\R.exe CMD INSTALL --merge-multiarch --build --library=iASeq.buildbin-libdir iASeq_1.30.0.tar.gz && C:\Users\biocbuild\bbs-3.10-bioc\R\bin\R.exe CMD INSTALL iASeq_1.30.0.zip && rm iASeq_1.30.0.tar.gz iASeq_1.30.0.zip |
StartedAt: 2020-04-14 18:30:38 -0400 (Tue, 14 Apr 2020) |
EndedAt: 2020-04-14 18:30:52 -0400 (Tue, 14 Apr 2020) |
EllapsedTime: 14.1 seconds |
RetCode: 0 |
Status: OK |
############################################################################## ############################################################################## ### ### Running command: ### ### C:\cygwin\bin\curl.exe -O https://malbec1.bioconductor.org/BBS/3.10/bioc/src/contrib/iASeq_1.30.0.tar.gz && rm -rf iASeq.buildbin-libdir && mkdir iASeq.buildbin-libdir && C:\Users\biocbuild\bbs-3.10-bioc\R\bin\R.exe CMD INSTALL --merge-multiarch --build --library=iASeq.buildbin-libdir iASeq_1.30.0.tar.gz && C:\Users\biocbuild\bbs-3.10-bioc\R\bin\R.exe CMD INSTALL iASeq_1.30.0.zip && rm iASeq_1.30.0.tar.gz iASeq_1.30.0.zip ### ############################################################################## ############################################################################## % Total % Received % Xferd Average Speed Time Time Time Current Dload Upload Total Spent Left Speed 0 0 0 0 0 0 0 0 --:--:-- --:--:-- --:--:-- 0 100 34467 100 34467 0 0 823k 0 --:--:-- --:--:-- --:--:-- 909k install for i386 * installing *source* package 'iASeq' ... ** using staged installation ** R ** data ** inst ** byte-compile and prepare package for lazy loading ** help *** installing help indices converting help for package 'iASeq' finding HTML links ... done ASErawfit html iASeq-internal html iASeq-package html iASeqmotif html plotBIC html plotMotif html sampleASE html singleEMfit html ** building package indices ** installing vignettes ** testing if installed package can be loaded from temporary location ** testing if installed package can be loaded from final location ** testing if installed package keeps a record of temporary installation path install for x64 * installing *source* package 'iASeq' ... ** testing if installed package can be loaded * MD5 sums packaged installation of 'iASeq' as iASeq_1.30.0.zip * DONE (iASeq) * installing to library 'C:/Users/biocbuild/bbs-3.10-bioc/R/library' package 'iASeq' successfully unpacked and MD5 sums checked