Back to Multiple platform build/check report for BioC 3.10 |
|
This page was generated on 2020-04-15 12:42:31 -0400 (Wed, 15 Apr 2020).
Package 818/1823 | Hostname | OS / Arch | INSTALL | BUILD | CHECK | BUILD BIN | ||||||
iCheck 1.16.0 Weiliang Qiu
| malbec1 | Linux (Ubuntu 18.04.4 LTS) / x86_64 | OK | OK | OK | |||||||
tokay1 | Windows Server 2012 R2 Standard / x64 | ERROR | OK | ERROR | ERROR | |||||||
merida1 | OS X 10.11.6 El Capitan / x86_64 | OK | OK | WARNINGS | [ OK ] |
Package: iCheck |
Version: 1.16.0 |
Command: rm -rf iCheck.buildbin-libdir && mkdir iCheck.buildbin-libdir && /Users/biocbuild/BBS/utils/build-universal.sh iCheck_1.16.0.tar.gz /Library/Frameworks/R.framework/Versions/Current/Resources/bin/R iCheck.buildbin-libdir |
StartedAt: 2020-04-15 07:45:58 -0400 (Wed, 15 Apr 2020) |
EndedAt: 2020-04-15 07:46:58 -0400 (Wed, 15 Apr 2020) |
EllapsedTime: 60.8 seconds |
RetCode: 0 |
Status: OK |
PackageFile: iCheck_1.16.0.tgz |
PackageFileSize: 690.1 KiB |
############################################################################## ############################################################################## ### ### Running command: ### ### rm -rf iCheck.buildbin-libdir && mkdir iCheck.buildbin-libdir && /Users/biocbuild/BBS/utils/build-universal.sh iCheck_1.16.0.tar.gz /Library/Frameworks/R.framework/Versions/Current/Resources/bin/R iCheck.buildbin-libdir ### ############################################################################## ############################################################################## >>>>>>> >>>>>>> INSTALLATION WITH 'R CMD INSTALL --preclean --no-multiarch --library=iCheck.buildbin-libdir iCheck_1.16.0.tar.gz' >>>>>>> * installing *source* package ‘iCheck’ ... ** using staged installation ** R ** inst ** byte-compile and prepare package for lazy loading No methods found in package ‘RSQLite’ for request: ‘dbListFields’ when loading ‘lumi’ Warning: 'rgl.init' failed, running with 'rgl.useNULL = TRUE'. ** help *** installing help indices ** building package indices ** installing vignettes ** testing if installed package can be loaded from temporary location No methods found in package ‘RSQLite’ for request: ‘dbListFields’ when loading ‘lumi’ Warning: 'rgl.init' failed, running with 'rgl.useNULL = TRUE'. ** testing if installed package can be loaded from final location No methods found in package ‘RSQLite’ for request: ‘dbListFields’ when loading ‘lumi’ Warning: 'rgl.init' failed, running with 'rgl.useNULL = TRUE'. ** testing if installed package keeps a record of temporary installation path * DONE (iCheck)