Back to Multiple platform build/check report for BioC 3.10 |
|
This page was generated on 2020-04-15 12:14:24 -0400 (Wed, 15 Apr 2020).
Package 817/1823 | Hostname | OS / Arch | INSTALL | BUILD | CHECK | BUILD BIN | ||||||
icetea 1.4.0 Vivek Bhardwaj
| malbec1 | Linux (Ubuntu 18.04.4 LTS) / x86_64 | OK | OK | [ OK ] | ![]() | ||||||
tokay1 | Windows Server 2012 R2 Standard / x64 | OK | OK | OK | OK | ![]() | ||||||
merida1 | OS X 10.11.6 El Capitan / x86_64 | OK | OK | OK | OK | ![]() |
Package: icetea |
Version: 1.4.0 |
Command: /home/biocbuild/bbs-3.10-bioc/R/bin/R CMD check --install=check:icetea.install-out.txt --library=/home/biocbuild/bbs-3.10-bioc/R/library --no-vignettes --timings icetea_1.4.0.tar.gz |
StartedAt: 2020-04-15 05:50:37 -0400 (Wed, 15 Apr 2020) |
EndedAt: 2020-04-15 05:57:25 -0400 (Wed, 15 Apr 2020) |
EllapsedTime: 408.1 seconds |
RetCode: 0 |
Status: OK |
CheckDir: icetea.Rcheck |
Warnings: 0 |
############################################################################## ############################################################################## ### ### Running command: ### ### /home/biocbuild/bbs-3.10-bioc/R/bin/R CMD check --install=check:icetea.install-out.txt --library=/home/biocbuild/bbs-3.10-bioc/R/library --no-vignettes --timings icetea_1.4.0.tar.gz ### ############################################################################## ############################################################################## * using log directory ‘/home/biocbuild/bbs-3.10-bioc/meat/icetea.Rcheck’ * using R version 3.6.3 (2020-02-29) * using platform: x86_64-pc-linux-gnu (64-bit) * using session charset: UTF-8 * using option ‘--no-vignettes’ * checking for file ‘icetea/DESCRIPTION’ ... OK * checking extension type ... Package * this is package ‘icetea’ version ‘1.4.0’ * package encoding: UTF-8 * checking package namespace information ... OK * checking package dependencies ... OK * checking if this is a source package ... OK * checking if there is a namespace ... OK * checking for hidden files and directories ... OK * checking for portable file names ... OK * checking for sufficient/correct file permissions ... OK * checking whether package ‘icetea’ can be installed ... OK * checking installed package size ... OK * checking package directory ... OK * checking ‘build’ directory ... OK * checking DESCRIPTION meta-information ... OK * checking top-level files ... OK * checking for left-over files ... OK * checking index information ... OK * checking package subdirectories ... OK * checking R files for non-ASCII characters ... OK * checking R files for syntax errors ... OK * checking whether the package can be loaded ... OK * checking whether the package can be loaded with stated dependencies ... OK * checking whether the package can be unloaded cleanly ... OK * checking whether the namespace can be loaded with stated dependencies ... OK * checking whether the namespace can be unloaded cleanly ... OK * checking dependencies in R code ... OK * checking S3 generic/method consistency ... OK * checking replacement functions ... OK * checking foreign function calls ... OK * checking R code for possible problems ... NOTE detectTSS,CapSet : <anonymous>: no visible binding for global variable ‘filter’ Undefined global functions or variables: filter Consider adding importFrom("stats", "filter") to your NAMESPACE file. * checking Rd files ... OK * checking Rd metadata ... OK * checking Rd cross-references ... OK * checking for missing documentation entries ... OK * checking for code/documentation mismatches ... OK * checking Rd \usage sections ... OK * checking Rd contents ... OK * checking for unstated dependencies in examples ... OK * checking files in ‘vignettes’ ... OK * checking examples ... OK Examples with CPU or elapsed time > 5s user system elapsed detectTSS 18.568 1.932 20.104 annotateTSS 13.592 0.192 14.239 * checking for unstated dependencies in ‘tests’ ... OK * checking tests ... Running ‘testthat.R’ OK * checking for unstated dependencies in vignettes ... OK * checking package vignettes in ‘inst/doc’ ... OK * checking running R code from vignettes ... SKIPPED * checking re-building of vignette outputs ... SKIPPED * checking PDF version of manual ... OK * DONE Status: 1 NOTE See ‘/home/biocbuild/bbs-3.10-bioc/meat/icetea.Rcheck/00check.log’ for details.
icetea.Rcheck/00install.out
############################################################################## ############################################################################## ### ### Running command: ### ### /home/biocbuild/bbs-3.10-bioc/R/bin/R CMD INSTALL icetea ### ############################################################################## ############################################################################## * installing to library ‘/home/biocbuild/bbs-3.10-bioc/R/library’ * installing *source* package ‘icetea’ ... ** using staged installation ** R ** inst ** byte-compile and prepare package for lazy loading ** help *** installing help indices ** building package indices ** installing vignettes ** testing if installed package can be loaded from temporary location ** testing if installed package can be loaded from final location ** testing if installed package keeps a record of temporary installation path * DONE (icetea)
icetea.Rcheck/tests/testthat.Rout
R version 3.6.3 (2020-02-29) -- "Holding the Windsock" Copyright (C) 2020 The R Foundation for Statistical Computing Platform: x86_64-pc-linux-gnu (64-bit) R is free software and comes with ABSOLUTELY NO WARRANTY. You are welcome to redistribute it under certain conditions. Type 'license()' or 'licence()' for distribution details. R is a collaborative project with many contributors. Type 'contributors()' for more information and 'citation()' on how to cite R or R packages in publications. Type 'demo()' for some demos, 'help()' for on-line help, or 'help.start()' for an HTML browser interface to help. Type 'q()' to quit R. > library(testthat) > library(icetea) > > test_check("icetea") ══ testthat results ═══════════════════════════════════════════════════════════ [ OK: 17 | SKIPPED: 0 | WARNINGS: 2 | FAILED: 0 ] > > proc.time() user system elapsed 48.612 2.396 50.669
icetea.Rcheck/icetea-Ex.timings
name | user | system | elapsed | |
annotateTSS | 13.592 | 0.192 | 14.239 | |
demultiplexFASTQ | 3.184 | 0.004 | 3.250 | |
detectDiffTSS | 0.000 | 0.000 | 0.001 | |
detectTSS | 18.568 | 1.932 | 20.104 | |
exampleCSobject | 0.128 | 0.024 | 0.152 | |
exportTSS | 0.280 | 0.012 | 0.294 | |
filterDuplicates | 1.876 | 0.184 | 2.074 | |
fitDiffTSS | 0 | 0 | 0 | |
getGeneCounts | 1.856 | 0.016 | 1.881 | |
getNormFactors | 1.100 | 0.340 | 1.175 | |
mapCaps | 0.000 | 0.000 | 0.001 | |
newCapSet | 0.336 | 0.140 | 0.064 | |
plotReadStats | 0.564 | 0.016 | 0.584 | |
plotTSSprecision | 3.220 | 0.072 | 3.302 | |
sampleInfo | 0.152 | 0.000 | 0.154 | |
splitBAM_byIndex | 0.328 | 0.132 | 0.463 | |
splitBAM_byRepindex | 0.296 | 0.116 | 0.410 | |