Back to Multiple platform build/check report for BioC 3.10 |
|
This page was generated on 2020-04-15 12:33:06 -0400 (Wed, 15 Apr 2020).
Package 828/1823 | Hostname | OS / Arch | INSTALL | BUILD | CHECK | BUILD BIN | ||||||
idr2d 1.0.4 Konstantin Krismer
| malbec1 | Linux (Ubuntu 18.04.4 LTS) / x86_64 | OK | OK | OK | |||||||
tokay1 | Windows Server 2012 R2 Standard / x64 | OK | OK | OK | [ OK ] | |||||||
merida1 | OS X 10.11.6 El Capitan / x86_64 | OK | OK | OK | OK |
Package: idr2d |
Version: 1.0.4 |
Command: rm -rf idr2d.buildbin-libdir && mkdir idr2d.buildbin-libdir && C:\Users\biocbuild\bbs-3.10-bioc\R\bin\R.exe CMD INSTALL --merge-multiarch --build --library=idr2d.buildbin-libdir idr2d_1.0.4.tar.gz |
StartedAt: 2020-04-15 08:58:09 -0400 (Wed, 15 Apr 2020) |
EndedAt: 2020-04-15 08:58:53 -0400 (Wed, 15 Apr 2020) |
EllapsedTime: 44.4 seconds |
RetCode: 0 |
Status: OK |
PackageFile: idr2d_1.0.4.zip |
PackageFileSize: 1.378 MiB |
############################################################################## ############################################################################## ### ### Running command: ### ### rm -rf idr2d.buildbin-libdir && mkdir idr2d.buildbin-libdir && C:\Users\biocbuild\bbs-3.10-bioc\R\bin\R.exe CMD INSTALL --merge-multiarch --build --library=idr2d.buildbin-libdir idr2d_1.0.4.tar.gz ### ############################################################################## ############################################################################## install for i386 * installing *source* package 'idr2d' ... ** using staged installation ** R ** data ** inst ** byte-compile and prepare package for lazy loading ** help *** installing help indices converting help for package 'idr2d' finding HTML links ... done calculate_midpoint_distance1d html calculate_midpoint_distance2d html calculate_relative_overlap1d html calculate_relative_overlap2d html chiapet html chipseq html determine_anchor_overlap html draw_hic_contact_map html draw_idr_distribution_histogram html draw_rank_idr_scatterplot html draw_value_idr_scatterplot html establish_bijection html establish_bijection1d html establish_bijection2d html establish_overlap1d html establish_overlap2d html estimate_idr html estimate_idr1d html estimate_idr2d html estimate_idr2d_hic html hic html parse_hic_pro_matrix html parse_juicer_matrix html preprocess html remove_nonstandard_chromosomes1d html remove_nonstandard_chromosomes2d html ** building package indices ** installing vignettes ** testing if installed package can be loaded from temporary location ** testing if installed package can be loaded from final location ** testing if installed package keeps a record of temporary installation path install for x64 * installing *source* package 'idr2d' ... ** testing if installed package can be loaded * MD5 sums packaged installation of 'idr2d' as idr2d_1.0.4.zip * DONE (idr2d)