Back to Multiple platform build/check report for BioC 3.10 |
|
This page was generated on 2020-04-15 12:30:23 -0400 (Wed, 15 Apr 2020).
Package 831/1823 | Hostname | OS / Arch | INSTALL | BUILD | CHECK | BUILD BIN | ||||||
igvR 1.6.1 Paul Shannon
| malbec1 | Linux (Ubuntu 18.04.4 LTS) / x86_64 | OK | OK | WARNINGS | |||||||
tokay1 | Windows Server 2012 R2 Standard / x64 | [ OK ] | OK | WARNINGS | OK | |||||||
merida1 | OS X 10.11.6 El Capitan / x86_64 | OK | OK | WARNINGS | OK |
Package: igvR |
Version: 1.6.1 |
Command: C:\cygwin\bin\curl.exe -O https://malbec1.bioconductor.org/BBS/3.10/bioc/src/contrib/igvR_1.6.1.tar.gz && rm -rf igvR.buildbin-libdir && mkdir igvR.buildbin-libdir && C:\Users\biocbuild\bbs-3.10-bioc\R\bin\R.exe CMD INSTALL --merge-multiarch --build --library=igvR.buildbin-libdir igvR_1.6.1.tar.gz && C:\Users\biocbuild\bbs-3.10-bioc\R\bin\R.exe CMD INSTALL igvR_1.6.1.zip && rm igvR_1.6.1.tar.gz igvR_1.6.1.zip |
StartedAt: 2020-04-14 20:04:11 -0400 (Tue, 14 Apr 2020) |
EndedAt: 2020-04-14 20:07:38 -0400 (Tue, 14 Apr 2020) |
EllapsedTime: 207.7 seconds |
RetCode: 0 |
Status: OK |
############################################################################## ############################################################################## ### ### Running command: ### ### C:\cygwin\bin\curl.exe -O https://malbec1.bioconductor.org/BBS/3.10/bioc/src/contrib/igvR_1.6.1.tar.gz && rm -rf igvR.buildbin-libdir && mkdir igvR.buildbin-libdir && C:\Users\biocbuild\bbs-3.10-bioc\R\bin\R.exe CMD INSTALL --merge-multiarch --build --library=igvR.buildbin-libdir igvR_1.6.1.tar.gz && C:\Users\biocbuild\bbs-3.10-bioc\R\bin\R.exe CMD INSTALL igvR_1.6.1.zip && rm igvR_1.6.1.tar.gz igvR_1.6.1.zip ### ############################################################################## ############################################################################## % Total % Received % Xferd Average Speed Time Time Time Current Dload Upload Total Spent Left Speed 0 0 0 0 0 0 0 0 --:--:-- --:--:-- --:--:-- 0 100 7985k 100 7985k 0 0 13.2M 0 --:--:-- --:--:-- --:--:-- 13.3M install for i386 * installing *source* package 'igvR' ... ** using staged installation ** R ** inst ** byte-compile and prepare package for lazy loading See system.file("LICENSE", package="MotifDb") for use restrictions. ** help *** installing help indices converting help for package 'igvR' finding HTML links ... done DataFrameAnnotationTrack-class html DataFrameQuantitativeTrack-class html GRangesAnnotationTrack-class html GRangesQuantitativeTrack-class html GenomicAlignmentTrack-class html QuantitativeTrack-class html Track-class html UCSCBedAnnotationTrack-class html UCSCBedGraphQuantitativeTrack-class html VariantTrack-class html displayTrack html enableMotifLogoPopups html getGenomicRegion html getSupportedGenomes html getTrackNames html igvAnnotationTrack-class html igvR-class html ping html removeTracksByName html saveToSVG html setGenome html setTrackClickFunction html showGenomicRegion html trackInfo html trackSize-DataFrameAnnotationTrack-method html trackSize-DataFrameQuantitativeTrack-method html trackSize-GRangesAnnotationTrack-method html trackSize-GRangesQuantitativeTrack-method html trackSize-GenomicAlignmentTrack-method html trackSize-UCSCBedAnnotationTrack-method html trackSize-UCSCBedGraphQuantitativeTrack-method html trackSize-VariantTrack-method html trackSize html ** building package indices ** installing vignettes ** testing if installed package can be loaded from temporary location See system.file("LICENSE", package="MotifDb") for use restrictions. ** testing if installed package can be loaded from final location See system.file("LICENSE", package="MotifDb") for use restrictions. ** testing if installed package keeps a record of temporary installation path install for x64 * installing *source* package 'igvR' ... ** testing if installed package can be loaded See system.file("LICENSE", package="MotifDb") for use restrictions. * MD5 sums packaged installation of 'igvR' as igvR_1.6.1.zip * DONE (igvR) * installing to library 'C:/Users/biocbuild/bbs-3.10-bioc/R/library' package 'igvR' successfully unpacked and MD5 sums checked