Back to Multiple platform build/check report for BioC 3.10 |
|
This page was generated on 2020-04-15 12:22:20 -0400 (Wed, 15 Apr 2020).
Package 852/1823 | Hostname | OS / Arch | INSTALL | BUILD | CHECK | BUILD BIN | ||||||
interactiveDisplay 1.24.0 Shawn Balcome
| malbec1 | Linux (Ubuntu 18.04.4 LTS) / x86_64 | OK | OK | WARNINGS | |||||||
tokay1 | Windows Server 2012 R2 Standard / x64 | [ OK ] | OK | WARNINGS | OK | |||||||
merida1 | OS X 10.11.6 El Capitan / x86_64 | OK | OK | WARNINGS | OK |
Package: interactiveDisplay |
Version: 1.24.0 |
Command: C:\cygwin\bin\curl.exe -O https://malbec1.bioconductor.org/BBS/3.10/bioc/src/contrib/interactiveDisplay_1.24.0.tar.gz && rm -rf interactiveDisplay.buildbin-libdir && mkdir interactiveDisplay.buildbin-libdir && C:\Users\biocbuild\bbs-3.10-bioc\R\bin\R.exe CMD INSTALL --merge-multiarch --build --library=interactiveDisplay.buildbin-libdir interactiveDisplay_1.24.0.tar.gz && C:\Users\biocbuild\bbs-3.10-bioc\R\bin\R.exe CMD INSTALL interactiveDisplay_1.24.0.zip && rm interactiveDisplay_1.24.0.tar.gz interactiveDisplay_1.24.0.zip |
StartedAt: 2020-04-14 19:18:27 -0400 (Tue, 14 Apr 2020) |
EndedAt: 2020-04-14 19:19:18 -0400 (Tue, 14 Apr 2020) |
EllapsedTime: 51.3 seconds |
RetCode: 0 |
Status: OK |
############################################################################## ############################################################################## ### ### Running command: ### ### C:\cygwin\bin\curl.exe -O https://malbec1.bioconductor.org/BBS/3.10/bioc/src/contrib/interactiveDisplay_1.24.0.tar.gz && rm -rf interactiveDisplay.buildbin-libdir && mkdir interactiveDisplay.buildbin-libdir && C:\Users\biocbuild\bbs-3.10-bioc\R\bin\R.exe CMD INSTALL --merge-multiarch --build --library=interactiveDisplay.buildbin-libdir interactiveDisplay_1.24.0.tar.gz && C:\Users\biocbuild\bbs-3.10-bioc\R\bin\R.exe CMD INSTALL interactiveDisplay_1.24.0.zip && rm interactiveDisplay_1.24.0.tar.gz interactiveDisplay_1.24.0.zip ### ############################################################################## ############################################################################## % Total % Received % Xferd Average Speed Time Time Time Current Dload Upload Total Spent Left Speed 0 0 0 0 0 0 0 0 --:--:-- --:--:-- --:--:-- 0 100 3189k 100 3189k 0 0 26.2M 0 --:--:-- --:--:-- --:--:-- 27.0M install for i386 * installing *source* package 'interactiveDisplay' ... ** using staged installation ** R ** data ** inst ** byte-compile and prepare package for lazy loading in method for 'display' with signature 'object="GRanges"': no definition for class "GRanges" in method for 'display' with signature 'object="GRangesList"': no definition for class "GRangesList" in method for 'display' with signature 'object="RangedSummarizedExperiment"': no definition for class "RangedSummarizedExperiment" in method for 'display' with signature 'object="MRexperiment"': no definition for class "MRexperiment" ** help *** installing help indices converting help for package 'interactiveDisplay' finding HTML links ... done altgr html bicgo html expr html gridsvgjs html gridtweak html interactiveDisplay-methods html mmgr html mmgrl html se html simplenet html ** building package indices ** installing vignettes ** testing if installed package can be loaded from temporary location ** testing if installed package can be loaded from final location ** testing if installed package keeps a record of temporary installation path install for x64 * installing *source* package 'interactiveDisplay' ... ** testing if installed package can be loaded * MD5 sums packaged installation of 'interactiveDisplay' as interactiveDisplay_1.24.0.zip * DONE (interactiveDisplay) * installing to library 'C:/Users/biocbuild/bbs-3.10-bioc/R/library' package 'interactiveDisplay' successfully unpacked and MD5 sums checked