Back to Multiple platform build/check report for BioC 3.10 |
|
This page was generated on 2020-04-15 12:43:26 -0400 (Wed, 15 Apr 2020).
Package 872/1823 | Hostname | OS / Arch | INSTALL | BUILD | CHECK | BUILD BIN | ||||||
isomiRs 1.14.0 Lorena Pantano
| malbec1 | Linux (Ubuntu 18.04.4 LTS) / x86_64 | OK | OK | OK | |||||||
tokay1 | Windows Server 2012 R2 Standard / x64 | OK | OK | OK | OK | |||||||
merida1 | OS X 10.11.6 El Capitan / x86_64 | OK | OK | OK | [ OK ] |
Package: isomiRs |
Version: 1.14.0 |
Command: rm -rf isomiRs.buildbin-libdir && mkdir isomiRs.buildbin-libdir && /Users/biocbuild/BBS/utils/build-universal.sh isomiRs_1.14.0.tar.gz /Library/Frameworks/R.framework/Versions/Current/Resources/bin/R isomiRs.buildbin-libdir |
StartedAt: 2020-04-15 07:50:01 -0400 (Wed, 15 Apr 2020) |
EndedAt: 2020-04-15 07:51:00 -0400 (Wed, 15 Apr 2020) |
EllapsedTime: 59.6 seconds |
RetCode: 0 |
Status: OK |
PackageFile: isomiRs_1.14.0.tgz |
PackageFileSize: 2.385 MiB |
############################################################################## ############################################################################## ### ### Running command: ### ### rm -rf isomiRs.buildbin-libdir && mkdir isomiRs.buildbin-libdir && /Users/biocbuild/BBS/utils/build-universal.sh isomiRs_1.14.0.tar.gz /Library/Frameworks/R.framework/Versions/Current/Resources/bin/R isomiRs.buildbin-libdir ### ############################################################################## ############################################################################## >>>>>>> >>>>>>> INSTALLATION WITH 'R CMD INSTALL --preclean --no-multiarch --library=isomiRs.buildbin-libdir isomiRs_1.14.0.tar.gz' >>>>>>> * installing *source* package ‘isomiRs’ ... ** using staged installation ** R ** data *** moving datasets to lazyload DB Registered S3 method overwritten by 'GGally': method from +.gg ggplot2 ** inst ** byte-compile and prepare package for lazy loading ** help *** installing help indices ** building package indices ** installing vignettes ** testing if installed package can be loaded from temporary location ** testing if installed package can be loaded from final location ** testing if installed package keeps a record of temporary installation path * DONE (isomiRs)