Back to Multiple platform build/check report for BioC 3.10 |
|
This page was generated on 2020-04-15 12:29:53 -0400 (Wed, 15 Apr 2020).
Package 893/1823 | Hostname | OS / Arch | INSTALL | BUILD | CHECK | BUILD BIN | ||||||
kissDE 1.6.0 Aurélie Siberchicot
| malbec1 | Linux (Ubuntu 18.04.4 LTS) / x86_64 | OK | OK | OK | ![]() | ||||||
tokay1 | Windows Server 2012 R2 Standard / x64 | OK | OK | OK | [ OK ] | ![]() | ||||||
merida1 | OS X 10.11.6 El Capitan / x86_64 | OK | OK | OK | OK | ![]() |
Package: kissDE |
Version: 1.6.0 |
Command: rm -rf kissDE.buildbin-libdir && mkdir kissDE.buildbin-libdir && C:\Users\biocbuild\bbs-3.10-bioc\R\bin\R.exe CMD INSTALL --merge-multiarch --build --library=kissDE.buildbin-libdir kissDE_1.6.0.tar.gz |
StartedAt: 2020-04-15 09:01:52 -0400 (Wed, 15 Apr 2020) |
EndedAt: 2020-04-15 09:03:10 -0400 (Wed, 15 Apr 2020) |
EllapsedTime: 78.4 seconds |
RetCode: 0 |
Status: OK |
PackageFile: kissDE_1.6.0.zip |
PackageFileSize: 704.3 KiB |
############################################################################## ############################################################################## ### ### Running command: ### ### rm -rf kissDE.buildbin-libdir && mkdir kissDE.buildbin-libdir && C:\Users\biocbuild\bbs-3.10-bioc\R\bin\R.exe CMD INSTALL --merge-multiarch --build --library=kissDE.buildbin-libdir kissDE_1.6.0.tar.gz ### ############################################################################## ############################################################################## install for i386 * installing *source* package 'kissDE' ... ** using staged installation ** R ** inst ** byte-compile and prepare package for lazy loading ** help *** installing help indices converting help for package 'kissDE' finding HTML links ... done diffExpressedVariants html kissDE-package html kissplice2counts html qualityControl html writeOutputKissDE html ** building package indices ** installing vignettes ** testing if installed package can be loaded from temporary location ** testing if installed package can be loaded from final location ** testing if installed package keeps a record of temporary installation path install for x64 * installing *source* package 'kissDE' ... ** testing if installed package can be loaded * MD5 sums packaged installation of 'kissDE' as kissDE_1.6.0.zip * DONE (kissDE)