Back to Multiple platform build/check report for BioC 3.10 |
|
This page was generated on 2020-04-15 12:24:18 -0400 (Wed, 15 Apr 2020).
Package 950/1823 | Hostname | OS / Arch | INSTALL | BUILD | CHECK | BUILD BIN | ||||||
mAPKL 1.16.0 Argiris Sakellariou
| malbec1 | Linux (Ubuntu 18.04.4 LTS) / x86_64 | OK | OK | OK | ![]() | ||||||
tokay1 | Windows Server 2012 R2 Standard / x64 | ERROR | [ OK ] | ERROR | ERROR | |||||||
merida1 | OS X 10.11.6 El Capitan / x86_64 | OK | OK | WARNINGS | OK | ![]() |
Package: mAPKL |
Version: 1.16.0 |
Command: chmod a+r mAPKL -R && C:\Users\biocbuild\bbs-3.10-bioc\R\bin\R.exe CMD build --keep-empty-dirs --no-resave-data mAPKL |
StartedAt: 2020-04-14 22:21:38 -0400 (Tue, 14 Apr 2020) |
EndedAt: 2020-04-14 22:24:49 -0400 (Tue, 14 Apr 2020) |
EllapsedTime: 191.5 seconds |
RetCode: 0 |
Status: OK |
PackageFile: mAPKL_1.16.0.tar.gz |
PackageFileSize: 5.76 MiB |
############################################################################## ############################################################################## ### ### Running command: ### ### chmod a+r mAPKL -R && C:\Users\biocbuild\bbs-3.10-bioc\R\bin\R.exe CMD build --keep-empty-dirs --no-resave-data mAPKL ### ############################################################################## ############################################################################## * checking for file 'mAPKL/DESCRIPTION' ... OK * preparing 'mAPKL': * checking DESCRIPTION meta-information ... OK * installing the package to build vignettes * creating vignettes ... OK Warning: 'inst/doc' file 'mAPKL.pdf' ignored as vignettes have been rebuilt. Run R CMD build with --no-build-vignettes to prevent rebuilding. * checking for LF line-endings in source and make files and shell scripts * checking for empty or unneeded directories * building 'mAPKL_1.16.0.tar.gz'