Back to Multiple platform build/check report for BioC 3.10 |
|
This page was generated on 2020-04-15 12:26:59 -0400 (Wed, 15 Apr 2020).
Package 942/1823 | Hostname | OS / Arch | INSTALL | BUILD | CHECK | BUILD BIN | ||||||
maftools 2.2.10 Anand Mayakonda
| malbec1 | Linux (Ubuntu 18.04.4 LTS) / x86_64 | OK | OK | OK | ![]() | ||||||
tokay1 | Windows Server 2012 R2 Standard / x64 | OK | OK | OK | [ OK ] | ![]() | ||||||
merida1 | OS X 10.11.6 El Capitan / x86_64 | OK | OK | OK | OK | ![]() |
Package: maftools |
Version: 2.2.10 |
Command: rm -rf maftools.buildbin-libdir && mkdir maftools.buildbin-libdir && C:\Users\biocbuild\bbs-3.10-bioc\R\bin\R.exe CMD INSTALL --merge-multiarch --build --library=maftools.buildbin-libdir maftools_2.2.10.tar.gz |
StartedAt: 2020-04-15 09:04:39 -0400 (Wed, 15 Apr 2020) |
EndedAt: 2020-04-15 09:05:19 -0400 (Wed, 15 Apr 2020) |
EllapsedTime: 40.5 seconds |
RetCode: 0 |
Status: OK |
PackageFile: maftools_2.2.10.zip |
PackageFileSize: 8.601 MiB |
############################################################################## ############################################################################## ### ### Running command: ### ### rm -rf maftools.buildbin-libdir && mkdir maftools.buildbin-libdir && C:\Users\biocbuild\bbs-3.10-bioc\R\bin\R.exe CMD INSTALL --merge-multiarch --build --library=maftools.buildbin-libdir maftools_2.2.10.tar.gz ### ############################################################################## ############################################################################## install for i386 * installing *source* package 'maftools' ... ** using staged installation ** R ** inst ** byte-compile and prepare package for lazy loading ** help *** installing help indices converting help for package 'maftools' finding HTML links ... done GISTIC-class html MAF-class html OncogenicPathways html PlotOncogenicPathways html annovarToMaf html clinicalEnrichment html coOncoplot html compareSignatures html drugInteractions html estimateSignatures html extractSignatures html forestPlot html geneCloud html finding level-2 HTML links ... done genesToBarcodes html genotypeMatrix html getClinicalData html getCytobandSummary html getFields html getGeneSummary html getSampleSummary html gisticBubblePlot html gisticChromPlot html gisticOncoPlot html icgcSimpleMutationToMAF html inferHeterogeneity html lollipopPlot html lollipopPlot2 html mafCompare html mafSummary html mafSurvGroup html mafSurvival html math.score html merge_mafs html mutCountMatrix html oncodrive html oncoplot html oncostrip html pancanComparison html pfamDomains html plotApobecDiff html plotCBSsegments html plotClusters html plotCophenetic html plotEnrichmentResults html plotOncodrive html plotSignatures html plotTiTv html plotVaf html plotmafSummary html prepareMutSig html rainfallPlot html read.maf html readGistic html signatureEnrichment html somaticInteractions html subsetMaf html survGroup html tcgaCompare html titv html trinucleotideMatrix html write.GisticSummary html write.mafSummary html ** building package indices ** installing vignettes ** testing if installed package can be loaded from temporary location ** testing if installed package can be loaded from final location ** testing if installed package keeps a record of temporary installation path install for x64 * installing *source* package 'maftools' ... ** testing if installed package can be loaded * MD5 sums packaged installation of 'maftools' as maftools_2.2.10.zip * DONE (maftools)