Back to Multiple platform build/check report for BioC 3.10 |
|
This page was generated on 2020-04-15 12:23:23 -0400 (Wed, 15 Apr 2020).
Package 996/1823 | Hostname | OS / Arch | INSTALL | BUILD | CHECK | BUILD BIN | ||||||
metabomxtr 1.20.0 Michael Nodzenski
| malbec1 | Linux (Ubuntu 18.04.4 LTS) / x86_64 | OK | OK | OK | ![]() | ||||||
tokay1 | Windows Server 2012 R2 Standard / x64 | OK | OK | OK | [ OK ] | ![]() | ||||||
merida1 | OS X 10.11.6 El Capitan / x86_64 | OK | OK | OK | OK | ![]() |
Package: metabomxtr |
Version: 1.20.0 |
Command: rm -rf metabomxtr.buildbin-libdir && mkdir metabomxtr.buildbin-libdir && C:\Users\biocbuild\bbs-3.10-bioc\R\bin\R.exe CMD INSTALL --merge-multiarch --build --library=metabomxtr.buildbin-libdir metabomxtr_1.20.0.tar.gz |
StartedAt: 2020-04-15 09:07:37 -0400 (Wed, 15 Apr 2020) |
EndedAt: 2020-04-15 09:08:25 -0400 (Wed, 15 Apr 2020) |
EllapsedTime: 47.4 seconds |
RetCode: 0 |
Status: OK |
PackageFile: metabomxtr_1.20.0.zip |
PackageFileSize: 497.8 KiB |
############################################################################## ############################################################################## ### ### Running command: ### ### rm -rf metabomxtr.buildbin-libdir && mkdir metabomxtr.buildbin-libdir && C:\Users\biocbuild\bbs-3.10-bioc\R\bin\R.exe CMD INSTALL --merge-multiarch --build --library=metabomxtr.buildbin-libdir metabomxtr_1.20.0.tar.gz ### ############################################################################## ############################################################################## install for i386 * installing *source* package 'metabomxtr' ... ** using staged installation ** R ** data ** inst ** byte-compile and prepare package for lazy loading ** help *** installing help indices converting help for package 'metabomxtr' finding HTML links ... done addBatchMeans html addOutlierInfo html allMissingLevels html anyMissingLevels html euMetabCData html euMetabData html idMissingLevels html metabdata html metabomxtr-package html metabplot html mixnorm html mxtrmod html mxtrmodLL html mxtrmodLRT html mxtrmodstart html removeAllMissingCatVar html removeMissingLevels html runMxtrmod html xdesign-methods html yvals-methods html zdesign-methods html ** building package indices ** installing vignettes ** testing if installed package can be loaded from temporary location ** testing if installed package can be loaded from final location ** testing if installed package keeps a record of temporary installation path install for x64 * installing *source* package 'metabomxtr' ... ** testing if installed package can be loaded * MD5 sums packaged installation of 'metabomxtr' as metabomxtr_1.20.0.zip * DONE (metabomxtr)