Back to Multiple platform build/check report for BioC 3.10 |
|
This page was generated on 2020-04-15 12:32:27 -0400 (Wed, 15 Apr 2020).
Package 1001/1823 | Hostname | OS / Arch | INSTALL | BUILD | CHECK | BUILD BIN | ||||||
metagene2 1.2.1 Eric Fournier
| malbec1 | Linux (Ubuntu 18.04.4 LTS) / x86_64 | OK | OK | OK | ![]() | ||||||
tokay1 | Windows Server 2012 R2 Standard / x64 | OK | OK | OK | [ OK ] | ![]() | ||||||
merida1 | OS X 10.11.6 El Capitan / x86_64 | OK | OK | OK | OK | ![]() |
Package: metagene2 |
Version: 1.2.1 |
Command: rm -rf metagene2.buildbin-libdir && mkdir metagene2.buildbin-libdir && C:\Users\biocbuild\bbs-3.10-bioc\R\bin\R.exe CMD INSTALL --merge-multiarch --build --library=metagene2.buildbin-libdir metagene2_1.2.1.tar.gz |
StartedAt: 2020-04-15 09:07:51 -0400 (Wed, 15 Apr 2020) |
EndedAt: 2020-04-15 09:08:35 -0400 (Wed, 15 Apr 2020) |
EllapsedTime: 44.5 seconds |
RetCode: 0 |
Status: OK |
PackageFile: metagene2_1.2.1.zip |
PackageFileSize: 1.697 MiB |
############################################################################## ############################################################################## ### ### Running command: ### ### rm -rf metagene2.buildbin-libdir && mkdir metagene2.buildbin-libdir && C:\Users\biocbuild\bbs-3.10-bioc\R\bin\R.exe CMD INSTALL --merge-multiarch --build --library=metagene2.buildbin-libdir metagene2_1.2.1.tar.gz ### ############################################################################## ############################################################################## install for i386 * installing *source* package 'metagene2' ... ** using staged installation ** R ** inst ** byte-compile and prepare package for lazy loading ** help *** installing help indices converting help for package 'metagene2' finding HTML links ... done Bam_Handler html get_demo_bam_files html get_demo_design html get_demo_metagene html get_demo_region_filenames html get_demo_regions html get_demo_rna_bam_files html get_demo_rna_regions html metagene2 html plot_metagene html ** building package indices ** installing vignettes ** testing if installed package can be loaded from temporary location ** testing if installed package can be loaded from final location ** testing if installed package keeps a record of temporary installation path install for x64 * installing *source* package 'metagene2' ... ** testing if installed package can be loaded * MD5 sums packaged installation of 'metagene2' as metagene2_1.2.1.zip * DONE (metagene2)