Back to Multiple platform build/check report for BioC 3.10 |
|
This page was generated on 2020-04-15 12:06:09 -0400 (Wed, 15 Apr 2020).
Package 1037/1823 | Hostname | OS / Arch | INSTALL | BUILD | CHECK | BUILD BIN | ||||||
mgsa 1.34.0 Sebastian Bauer
| malbec1 | Linux (Ubuntu 18.04.4 LTS) / x86_64 | [ OK ] | OK | OK | ![]() | ||||||
tokay1 | Windows Server 2012 R2 Standard / x64 | OK | OK | OK | OK | ![]() | ||||||
merida1 | OS X 10.11.6 El Capitan / x86_64 | OK | OK | OK | OK | ![]() |
Package: mgsa |
Version: 1.34.0 |
Command: /home/biocbuild/bbs-3.10-bioc/R/bin/R CMD INSTALL mgsa |
StartedAt: 2020-04-14 18:11:56 -0400 (Tue, 14 Apr 2020) |
EndedAt: 2020-04-14 18:12:00 -0400 (Tue, 14 Apr 2020) |
EllapsedTime: 4.1 seconds |
RetCode: 0 |
Status: OK |
############################################################################## ############################################################################## ### ### Running command: ### ### /home/biocbuild/bbs-3.10-bioc/R/bin/R CMD INSTALL mgsa ### ############################################################################## ############################################################################## * installing to library ‘/home/biocbuild/bbs-3.10-bioc/R/library’ * installing *source* package ‘mgsa’ ... ** using staged installation configure: creating ./config.status config.status: creating src/Makevars ** libs gcc -I"/home/biocbuild/bbs-3.10-bioc/R/include" -DNDEBUG -I/usr/local/include -I. -fopenmp -fpic -g -O2 -Wall -c mgsa-core.c -o mgsa-core.o mgsa-core.c:796:13: warning: ‘print_context’ defined but not used [-Wunused-function] static void print_context(struct context *cn) ^~~~~~~~~~~~~ gcc -I"/home/biocbuild/bbs-3.10-bioc/R/include" -DNDEBUG -I/usr/local/include -I. -fopenmp -fpic -g -O2 -Wall -c mgsa.c -o mgsa.o gcc -I"/home/biocbuild/bbs-3.10-bioc/R/include" -DNDEBUG -I/usr/local/include -I. -fopenmp -fpic -g -O2 -Wall -c mt.c -o mt.o gcc -shared -L/home/biocbuild/bbs-3.10-bioc/R/lib -L/usr/local/lib -o mgsa.so mgsa-core.o mgsa.o mt.o -fopenmp -L/home/biocbuild/bbs-3.10-bioc/R/lib -lR installing to /home/biocbuild/bbs-3.10-bioc/R/library/00LOCK-mgsa/00new/mgsa/libs ** R ** data ** inst ** byte-compile and prepare package for lazy loading ** help *** installing help indices ** building package indices ** installing vignettes ** testing if installed package can be loaded from temporary location ** checking absolute paths in shared objects and dynamic libraries ** testing if installed package can be loaded from final location ** testing if installed package keeps a record of temporary installation path * DONE (mgsa)