Back to Multiple platform build/check report for BioC 3.10 |
|
This page was generated on 2020-04-15 12:18:27 -0400 (Wed, 15 Apr 2020).
Package 1058/1823 | Hostname | OS / Arch | INSTALL | BUILD | CHECK | BUILD BIN | ||||||
miRNApath 1.46.0 James M. Ward
| malbec1 | Linux (Ubuntu 18.04.4 LTS) / x86_64 | OK | OK | OK | ![]() | ||||||
tokay1 | Windows Server 2012 R2 Standard / x64 | [ OK ] | OK | OK | OK | ![]() | ||||||
merida1 | OS X 10.11.6 El Capitan / x86_64 | OK | OK | OK | OK | ![]() |
Package: miRNApath |
Version: 1.46.0 |
Command: C:\cygwin\bin\curl.exe -O https://malbec1.bioconductor.org/BBS/3.10/bioc/src/contrib/miRNApath_1.46.0.tar.gz && rm -rf miRNApath.buildbin-libdir && mkdir miRNApath.buildbin-libdir && C:\Users\biocbuild\bbs-3.10-bioc\R\bin\R.exe CMD INSTALL --merge-multiarch --build --library=miRNApath.buildbin-libdir miRNApath_1.46.0.tar.gz && C:\Users\biocbuild\bbs-3.10-bioc\R\bin\R.exe CMD INSTALL miRNApath_1.46.0.zip && rm miRNApath_1.46.0.tar.gz miRNApath_1.46.0.zip |
StartedAt: 2020-04-14 18:45:26 -0400 (Tue, 14 Apr 2020) |
EndedAt: 2020-04-14 18:45:44 -0400 (Tue, 14 Apr 2020) |
EllapsedTime: 18.4 seconds |
RetCode: 0 |
Status: OK |
############################################################################## ############################################################################## ### ### Running command: ### ### C:\cygwin\bin\curl.exe -O https://malbec1.bioconductor.org/BBS/3.10/bioc/src/contrib/miRNApath_1.46.0.tar.gz && rm -rf miRNApath.buildbin-libdir && mkdir miRNApath.buildbin-libdir && C:\Users\biocbuild\bbs-3.10-bioc\R\bin\R.exe CMD INSTALL --merge-multiarch --build --library=miRNApath.buildbin-libdir miRNApath_1.46.0.tar.gz && C:\Users\biocbuild\bbs-3.10-bioc\R\bin\R.exe CMD INSTALL miRNApath_1.46.0.zip && rm miRNApath_1.46.0.tar.gz miRNApath_1.46.0.zip ### ############################################################################## ############################################################################## % Total % Received % Xferd Average Speed Time Time Time Current Dload Upload Total Spent Left Speed 0 0 0 0 0 0 0 0 --:--:-- --:--:-- --:--:-- 0 100 439k 100 439k 0 0 9.7M 0 --:--:-- --:--:-- --:--:-- 10.7M install for i386 * installing *source* package 'miRNApath' ... ** using staged installation ** R ** data ** inst ** byte-compile and prepare package for lazy loading ** help *** installing help indices converting help for package 'miRNApath' finding HTML links ... done checkColumns html convertFoldChange html filtermirnapath html loadmirnapath html loadmirnapathways html loadmirnatogene html miRNApath-package html mirnaTable html mirnaobj html mirnapath-class html runEnrichment html ** building package indices ** installing vignettes ** testing if installed package can be loaded from temporary location ** testing if installed package can be loaded from final location ** testing if installed package keeps a record of temporary installation path install for x64 * installing *source* package 'miRNApath' ... ** testing if installed package can be loaded * MD5 sums packaged installation of 'miRNApath' as miRNApath_1.46.0.zip * DONE (miRNApath) * installing to library 'C:/Users/biocbuild/bbs-3.10-bioc/R/library' package 'miRNApath' successfully unpacked and MD5 sums checked