Back to Multiple platform build/check report for BioC 3.10 |
|
This page was generated on 2020-04-15 12:31:01 -0400 (Wed, 15 Apr 2020).
Package 1060/1823 | Hostname | OS / Arch | INSTALL | BUILD | CHECK | BUILD BIN | ||||||
miRSM 1.4.1 Junpeng Zhang
| malbec1 | Linux (Ubuntu 18.04.4 LTS) / x86_64 | OK | OK | OK | |||||||
tokay1 | Windows Server 2012 R2 Standard / x64 | OK | OK | OK | [ OK ] | |||||||
merida1 | OS X 10.11.6 El Capitan / x86_64 | OK | OK | OK | OK |
Package: miRSM |
Version: 1.4.1 |
Command: rm -rf miRSM.buildbin-libdir && mkdir miRSM.buildbin-libdir && C:\Users\biocbuild\bbs-3.10-bioc\R\bin\R.exe CMD INSTALL --merge-multiarch --build --library=miRSM.buildbin-libdir miRSM_1.4.1.tar.gz |
StartedAt: 2020-04-15 09:11:20 -0400 (Wed, 15 Apr 2020) |
EndedAt: 2020-04-15 09:12:50 -0400 (Wed, 15 Apr 2020) |
EllapsedTime: 90.1 seconds |
RetCode: 0 |
Status: OK |
PackageFile: miRSM_1.4.1.zip |
PackageFileSize: 1009 KiB |
############################################################################## ############################################################################## ### ### Running command: ### ### rm -rf miRSM.buildbin-libdir && mkdir miRSM.buildbin-libdir && C:\Users\biocbuild\bbs-3.10-bioc\R\bin\R.exe CMD INSTALL --merge-multiarch --build --library=miRSM.buildbin-libdir miRSM_1.4.1.tar.gz ### ############################################################################## ############################################################################## install for i386 * installing *source* package 'miRSM' ... ** using staged installation ** libs C:/Rtools/mingw_32/bin/gcc -I"C:/Users/BIOCBU~1/BBS-3~1.10-/R/include" -DNDEBUG -I"C:/extsoft/include" -O3 -Wall -std=gnu99 -mtune=core2 -c complex.c -o complex.o C:/Rtools/mingw_32/bin/gcc -I"C:/Users/BIOCBU~1/BBS-3~1.10-/R/include" -DNDEBUG -I"C:/extsoft/include" -O3 -Wall -std=gnu99 -mtune=core2 -c registerDynamicSymbol.c -o registerDynamicSymbol.o C:/Rtools/mingw_32/bin/gcc -shared -s -static-libgcc -o miRSM.dll tmp.def complex.o registerDynamicSymbol.o -LC:/extsoft/lib/i386 -LC:/extsoft/lib -LC:/Users/BIOCBU~1/BBS-3~1.10-/R/bin/i386 -lR installing to C:/Users/biocbuild/bbs-3.10-bioc/meat/miRSM.buildbin-libdir/00LOCK-miRSM/00new/miRSM/libs/i386 ** R ** data ** inst ** byte-compile and prepare package for lazy loading ** help *** installing help indices converting help for package 'miRSM' finding HTML links ... done BRCA_genes html ceRExp html cor_binary html mRExp html miRExp html miRSM html miRTarget html module_CEA html module_Coexpress html module_FA html module_GFA html module_NMF html module_ProNet html module_Validate html module_WGCNA html module_biclust html module_clust html module_igraph html module_miRdistribute html module_miRsponge html module_miRtarget html share_miRs html ** building package indices ** installing vignettes ** testing if installed package can be loaded from temporary location ** testing if installed package can be loaded from final location ** testing if installed package keeps a record of temporary installation path install for x64 * installing *source* package 'miRSM' ... ** libs C:/Rtools/mingw_64/bin/gcc -I"C:/Users/BIOCBU~1/BBS-3~1.10-/R/include" -DNDEBUG -I"C:/extsoft/include" -O2 -Wall -std=gnu99 -mtune=core2 -c complex.c -o complex.o C:/Rtools/mingw_64/bin/gcc -I"C:/Users/BIOCBU~1/BBS-3~1.10-/R/include" -DNDEBUG -I"C:/extsoft/include" -O2 -Wall -std=gnu99 -mtune=core2 -c registerDynamicSymbol.c -o registerDynamicSymbol.o C:/Rtools/mingw_64/bin/gcc -shared -s -static-libgcc -o miRSM.dll tmp.def complex.o registerDynamicSymbol.o -LC:/extsoft/lib/x64 -LC:/extsoft/lib -LC:/Users/BIOCBU~1/BBS-3~1.10-/R/bin/x64 -lR installing to C:/Users/biocbuild/bbs-3.10-bioc/meat/miRSM.buildbin-libdir/miRSM/libs/x64 ** testing if installed package can be loaded * MD5 sums packaged installation of 'miRSM' as miRSM_1.4.1.zip * DONE (miRSM)