Back to Multiple platform build/check report for BioC 3.10 |
|
This page was generated on 2020-04-15 12:46:00 -0400 (Wed, 15 Apr 2020).
Package 1056/1823 | Hostname | OS / Arch | INSTALL | BUILD | CHECK | BUILD BIN | ||||||
miRmine 1.8.0 Dusan Randjelovic
| malbec1 | Linux (Ubuntu 18.04.4 LTS) / x86_64 | OK | OK | OK | ![]() | ||||||
tokay1 | Windows Server 2012 R2 Standard / x64 | OK | OK | OK | OK | ![]() | ||||||
merida1 | OS X 10.11.6 El Capitan / x86_64 | OK | OK | OK | [ OK ] | ![]() |
Package: miRmine |
Version: 1.8.0 |
Command: rm -rf miRmine.buildbin-libdir && mkdir miRmine.buildbin-libdir && /Users/biocbuild/BBS/utils/build-universal.sh miRmine_1.8.0.tar.gz /Library/Frameworks/R.framework/Versions/Current/Resources/bin/R miRmine.buildbin-libdir |
StartedAt: 2020-04-15 08:04:40 -0400 (Wed, 15 Apr 2020) |
EndedAt: 2020-04-15 08:05:41 -0400 (Wed, 15 Apr 2020) |
EllapsedTime: 60.8 seconds |
RetCode: 0 |
Status: OK |
PackageFile: miRmine_1.8.0.tgz |
PackageFileSize: 3.281 MiB |
############################################################################## ############################################################################## ### ### Running command: ### ### rm -rf miRmine.buildbin-libdir && mkdir miRmine.buildbin-libdir && /Users/biocbuild/BBS/utils/build-universal.sh miRmine_1.8.0.tar.gz /Library/Frameworks/R.framework/Versions/Current/Resources/bin/R miRmine.buildbin-libdir ### ############################################################################## ############################################################################## >>>>>>> >>>>>>> INSTALLATION WITH 'R CMD INSTALL --preclean --no-multiarch --library=miRmine.buildbin-libdir miRmine_1.8.0.tar.gz' >>>>>>> * installing *source* package ‘miRmine’ ... ** using staged installation ** R ** data *** moving datasets to lazyload DB ** inst ** byte-compile and prepare package for lazy loading ** help *** installing help indices ** building package indices ** installing vignettes ** testing if installed package can be loaded from temporary location ** testing if installed package can be loaded from final location ** testing if installed package keeps a record of temporary installation path * DONE (miRmine)