Back to Multiple platform build/check report for BioC 3.10 |
|
This page was generated on 2020-04-15 12:27:47 -0400 (Wed, 15 Apr 2020).
Package 1043/1823 | Hostname | OS / Arch | INSTALL | BUILD | CHECK | BUILD BIN | ||||||
mimager 1.10.0 Aaron Wolen
| malbec1 | Linux (Ubuntu 18.04.4 LTS) / x86_64 | OK | OK | OK | ![]() | ||||||
tokay1 | Windows Server 2012 R2 Standard / x64 | OK | OK | WARNINGS | [ OK ] | ![]() | ||||||
merida1 | OS X 10.11.6 El Capitan / x86_64 | OK | OK | OK | OK | ![]() |
Package: mimager |
Version: 1.10.0 |
Command: rm -rf mimager.buildbin-libdir && mkdir mimager.buildbin-libdir && C:\Users\biocbuild\bbs-3.10-bioc\R\bin\R.exe CMD INSTALL --merge-multiarch --build --library=mimager.buildbin-libdir mimager_1.10.0.tar.gz |
StartedAt: 2020-04-15 09:10:21 -0400 (Wed, 15 Apr 2020) |
EndedAt: 2020-04-15 09:11:06 -0400 (Wed, 15 Apr 2020) |
EllapsedTime: 45.4 seconds |
RetCode: 0 |
Status: OK |
PackageFile: mimager_1.10.0.zip |
PackageFileSize: 716.3 KiB |
############################################################################## ############################################################################## ### ### Running command: ### ### rm -rf mimager.buildbin-libdir && mkdir mimager.buildbin-libdir && C:\Users\biocbuild\bbs-3.10-bioc\R\bin\R.exe CMD INSTALL --merge-multiarch --build --library=mimager.buildbin-libdir mimager_1.10.0.tar.gz ### ############################################################################## ############################################################################## install for i386 * installing *source* package 'mimager' ... ** using staged installation ** R ** inst ** byte-compile and prepare package for lazy loading No methods found in package 'RSQLite' for request: 'dbListFields' when loading 'oligo' ** help *** installing help indices converting help for package 'mimager' finding HTML links ... done arank html arle html Rd warning: C:/Users/biocbuild/bbs-3.10-bioc/tmpdir/RtmpOqbVq4/R.INSTALL71471af2674/mimager/man/arle.Rd:33: file link 'RLE' in package 'affyPLM' does not exist and so has been treated as a topic marray html mimage html mimager html Rd warning: C:/Users/biocbuild/bbs-3.10-bioc/tmpdir/RtmpOqbVq4/R.INSTALL71471af2674/mimager/man/mimager.Rd:25: file link 'FeatureSet-class' in package 'oligoClasses' does not exist and so has been treated as a topic ** building package indices ** installing vignettes ** testing if installed package can be loaded from temporary location No methods found in package 'RSQLite' for request: 'dbListFields' when loading 'oligo' ** testing if installed package can be loaded from final location No methods found in package 'RSQLite' for request: 'dbListFields' when loading 'oligo' ** testing if installed package keeps a record of temporary installation path install for x64 * installing *source* package 'mimager' ... ** testing if installed package can be loaded No methods found in package 'RSQLite' for request: 'dbListFields' when loading 'oligo' * MD5 sums packaged installation of 'mimager' as mimager_1.10.0.zip * DONE (mimager)