Back to Multiple platform build/check report for BioC 3.10 |
|
This page was generated on 2020-04-15 12:48:21 -0400 (Wed, 15 Apr 2020).
Package 1066/1823 | Hostname | OS / Arch | INSTALL | BUILD | CHECK | BUILD BIN | ||||||
mixOmics 6.10.9 Kim-Anh Le Cao
| malbec1 | Linux (Ubuntu 18.04.4 LTS) / x86_64 | OK | OK | OK | ![]() | ||||||
tokay1 | Windows Server 2012 R2 Standard / x64 | OK | OK | OK | OK | ![]() | ||||||
merida1 | OS X 10.11.6 El Capitan / x86_64 | OK | OK | OK | [ OK ] | ![]() |
Package: mixOmics |
Version: 6.10.9 |
Command: rm -rf mixOmics.buildbin-libdir && mkdir mixOmics.buildbin-libdir && /Users/biocbuild/BBS/utils/build-universal.sh mixOmics_6.10.9.tar.gz /Library/Frameworks/R.framework/Versions/Current/Resources/bin/R mixOmics.buildbin-libdir |
StartedAt: 2020-04-15 08:05:28 -0400 (Wed, 15 Apr 2020) |
EndedAt: 2020-04-15 08:06:24 -0400 (Wed, 15 Apr 2020) |
EllapsedTime: 56.2 seconds |
RetCode: 0 |
Status: OK |
PackageFile: mixOmics_6.10.9.tgz |
PackageFileSize: 9.034 MiB |
############################################################################## ############################################################################## ### ### Running command: ### ### rm -rf mixOmics.buildbin-libdir && mkdir mixOmics.buildbin-libdir && /Users/biocbuild/BBS/utils/build-universal.sh mixOmics_6.10.9.tar.gz /Library/Frameworks/R.framework/Versions/Current/Resources/bin/R mixOmics.buildbin-libdir ### ############################################################################## ############################################################################## >>>>>>> >>>>>>> INSTALLATION WITH 'R CMD INSTALL --preclean --no-multiarch --library=mixOmics.buildbin-libdir mixOmics_6.10.9.tar.gz' >>>>>>> * installing *source* package ‘mixOmics’ ... ** using staged installation ** R ** data ** inst ** byte-compile and prepare package for lazy loading ** help *** installing help indices ** building package indices ** installing vignettes ** testing if installed package can be loaded from temporary location ** testing if installed package can be loaded from final location ** testing if installed package keeps a record of temporary installation path * DONE (mixOmics)