Back to Multiple platform build/check report for BioC 3.10 |
|
This page was generated on 2020-04-15 12:41:44 -0400 (Wed, 15 Apr 2020).
Package 1079/1823 | Hostname | OS / Arch | INSTALL | BUILD | CHECK | BUILD BIN | ||||||
mogsa 1.20.0 Chen Meng
| malbec1 | Linux (Ubuntu 18.04.4 LTS) / x86_64 | OK | OK | OK | ![]() | ||||||
tokay1 | Windows Server 2012 R2 Standard / x64 | OK | OK | OK | OK | ![]() | ||||||
merida1 | OS X 10.11.6 El Capitan / x86_64 | OK | OK | [ OK ] | OK | ![]() |
Package: mogsa |
Version: 1.20.0 |
Command: /Library/Frameworks/R.framework/Versions/Current/Resources/bin/R CMD check --install=check:mogsa.install-out.txt --library=/Library/Frameworks/R.framework/Versions/Current/Resources/library --no-vignettes --timings mogsa_1.20.0.tar.gz |
StartedAt: 2020-04-15 04:00:35 -0400 (Wed, 15 Apr 2020) |
EndedAt: 2020-04-15 04:03:17 -0400 (Wed, 15 Apr 2020) |
EllapsedTime: 161.4 seconds |
RetCode: 0 |
Status: OK |
CheckDir: mogsa.Rcheck |
Warnings: 0 |
############################################################################## ############################################################################## ### ### Running command: ### ### /Library/Frameworks/R.framework/Versions/Current/Resources/bin/R CMD check --install=check:mogsa.install-out.txt --library=/Library/Frameworks/R.framework/Versions/Current/Resources/library --no-vignettes --timings mogsa_1.20.0.tar.gz ### ############################################################################## ############################################################################## * using log directory ‘/Users/biocbuild/bbs-3.10-bioc/meat/mogsa.Rcheck’ * using R version 3.6.3 (2020-02-29) * using platform: x86_64-apple-darwin15.6.0 (64-bit) * using session charset: UTF-8 * using option ‘--no-vignettes’ * checking for file ‘mogsa/DESCRIPTION’ ... OK * checking extension type ... Package * this is package ‘mogsa’ version ‘1.20.0’ * checking package namespace information ... OK * checking package dependencies ... OK * checking if this is a source package ... OK * checking if there is a namespace ... OK * checking for hidden files and directories ... OK * checking for portable file names ... OK * checking for sufficient/correct file permissions ... OK * checking whether package ‘mogsa’ can be installed ... OK * checking installed package size ... OK * checking package directory ... OK * checking ‘build’ directory ... OK * checking DESCRIPTION meta-information ... OK * checking top-level files ... OK * checking for left-over files ... OK * checking index information ... OK * checking package subdirectories ... OK * checking R files for non-ASCII characters ... OK * checking R files for syntax errors ... OK * checking whether the package can be loaded ... OK * checking whether the package can be loaded with stated dependencies ... OK * checking whether the package can be unloaded cleanly ... OK * checking whether the namespace can be loaded with stated dependencies ... OK * checking whether the namespace can be unloaded cleanly ... OK * checking dependencies in R code ... OK * checking S3 generic/method consistency ... OK * checking replacement functions ... OK * checking foreign function calls ... OK * checking R code for possible problems ... OK * checking Rd files ... OK * checking Rd metadata ... OK * checking Rd cross-references ... OK * checking for missing documentation entries ... OK * checking for code/documentation mismatches ... OK * checking Rd \usage sections ... OK * checking Rd contents ... OK * checking for unstated dependencies in examples ... OK * checking contents of ‘data’ directory ... OK * checking data for non-ASCII characters ... OK * checking data for ASCII and uncompressed saves ... OK * checking sizes of PDF files under ‘inst/doc’ ... OK * checking files in ‘vignettes’ ... OK * checking examples ... OK * checking for unstated dependencies in vignettes ... OK * checking package vignettes in ‘inst/doc’ ... OK * checking running R code from vignettes ... SKIPPED * checking re-building of vignette outputs ... SKIPPED * checking PDF version of manual ... OK * DONE Status: OK
mogsa.Rcheck/00install.out
############################################################################## ############################################################################## ### ### Running command: ### ### /Library/Frameworks/R.framework/Versions/Current/Resources/bin/R CMD INSTALL mogsa ### ############################################################################## ############################################################################## * installing to library ‘/Library/Frameworks/R.framework/Versions/3.6/Resources/library’ * installing *source* package ‘mogsa’ ... ** using staged installation ** R ** data ** inst ** byte-compile and prepare package for lazy loading ** help *** installing help indices ** building package indices ** installing vignettes ** testing if installed package can be loaded from temporary location ** testing if installed package can be loaded from final location ** testing if installed package keeps a record of temporary installation path * DONE (mogsa)
mogsa.Rcheck/mogsa-Ex.timings
name | user | system | elapsed | |
GIS | 0.651 | 0.028 | 0.680 | |
annotate.gs | 0.161 | 0.018 | 0.180 | |
bootMbpca | 0 | 0 | 0 | |
bootMoa | 0.000 | 0.000 | 0.001 | |
box.gs.feature | 0.584 | 0.017 | 0.610 | |
combine-methods | 0.572 | 0.028 | 0.602 | |
decompose.gs.group | 0.154 | 0.016 | 0.178 | |
decompose.gs.ind | 0.162 | 0.020 | 0.183 | |
distMoa | 0.348 | 0.026 | 0.375 | |
getmgsa | 0.135 | 0.020 | 0.155 | |
matpower | 0.001 | 0.000 | 0.001 | |
mbpca | 3.376 | 0.252 | 3.662 | |
mgsa-class | 0.265 | 0.027 | 0.297 | |
moGap | 2.833 | 0.078 | 2.933 | |
moa-class | 0.125 | 0.007 | 0.134 | |
moa | 1.136 | 0.107 | 1.253 | |
moa.sup-class | 0.141 | 0.012 | 0.154 | |
moaCoef | 0.425 | 0.030 | 0.460 | |
moaScore | 0.445 | 0.032 | 0.481 | |
mogsa-package | 0.305 | 0.037 | 0.346 | |
mogsa | 0.434 | 0.044 | 0.482 | |
pairwise.rv | 0.015 | 0.002 | 0.018 | |
plotGS | 0.137 | 0.011 | 0.151 | |
prepGraphite | 0.325 | 0.012 | 0.342 | |
prepMsigDB | 0.003 | 0.000 | 0.003 | |
prepSupMoa | 4.329 | 0.100 | 4.470 | |
softK | 0.001 | 0.001 | 0.001 | |
sup.moa | 0.425 | 0.016 | 0.453 | |
wsvd | 0.001 | 0.000 | 0.001 | |