Back to Multiple platform build/check report for BioC 3.10 |
|
This page was generated on 2020-04-15 12:23:03 -0400 (Wed, 15 Apr 2020).
Package 1080/1823 | Hostname | OS / Arch | INSTALL | BUILD | CHECK | BUILD BIN | ||||||
monocle 2.14.0 Cole Trapnell
| malbec1 | Linux (Ubuntu 18.04.4 LTS) / x86_64 | OK | OK | OK | |||||||
tokay1 | Windows Server 2012 R2 Standard / x64 | OK | OK | OK | [ OK ] | |||||||
merida1 | OS X 10.11.6 El Capitan / x86_64 | OK | OK | OK | OK |
Package: monocle |
Version: 2.14.0 |
Command: rm -rf monocle.buildbin-libdir && mkdir monocle.buildbin-libdir && C:\Users\biocbuild\bbs-3.10-bioc\R\bin\R.exe CMD INSTALL --merge-multiarch --build --library=monocle.buildbin-libdir monocle_2.14.0.tar.gz |
StartedAt: 2020-04-15 09:12:26 -0400 (Wed, 15 Apr 2020) |
EndedAt: 2020-04-15 09:13:17 -0400 (Wed, 15 Apr 2020) |
EllapsedTime: 51.6 seconds |
RetCode: 0 |
Status: OK |
PackageFile: monocle_2.14.0.zip |
PackageFileSize: 1.866 MiB |
############################################################################## ############################################################################## ### ### Running command: ### ### rm -rf monocle.buildbin-libdir && mkdir monocle.buildbin-libdir && C:\Users\biocbuild\bbs-3.10-bioc\R\bin\R.exe CMD INSTALL --merge-multiarch --build --library=monocle.buildbin-libdir monocle_2.14.0.tar.gz ### ############################################################################## ############################################################################## install for i386 * installing *source* package 'monocle' ... ** using staged installation ** libs C:/Rtools/mingw_32/bin/g++ -std=gnu++11 -I"C:/Users/BIOCBU~1/BBS-3~1.10-/R/include" -DNDEBUG -I"C:/Users/biocbuild/bbs-3.10-bioc/R/library/Rcpp/include" -I"C:/extsoft/include" -O2 -Wall -mtune=core2 -c RcppExports.cpp -o RcppExports.o C:/Rtools/mingw_32/bin/g++ -std=gnu++11 -I"C:/Users/BIOCBU~1/BBS-3~1.10-/R/include" -DNDEBUG -I"C:/Users/biocbuild/bbs-3.10-bioc/R/library/Rcpp/include" -I"C:/extsoft/include" -O2 -Wall -mtune=core2 -c clustering.cpp -o clustering.o C:/Rtools/mingw_32/bin/g++ -std=gnu++11 -shared -s -static-libgcc -o monocle.dll tmp.def RcppExports.o clustering.o -LC:/extsoft/lib/i386 -LC:/extsoft/lib -LC:/Users/BIOCBU~1/BBS-3~1.10-/R/bin/i386 -lR installing to C:/Users/biocbuild/bbs-3.10-bioc/meat/monocle.buildbin-libdir/00LOCK-monocle/00new/monocle/libs/i386 ** R ** data *** moving datasets to lazyload DB ** inst ** byte-compile and prepare package for lazy loading ** help *** installing help indices converting help for package 'monocle' finding HTML links ... done BEAM html CellDataSet-methods html CellDataSet html CellType html CellTypeHierarchy html addCellType html branchTest html buildBranchCellDataSet html calABCs html calILRs html calibrate_per_cell_total_proposal html cellPairwiseDistances-set html cellPairwiseDistances html clusterCells html finding level-2 HTML links ... done clusterGenes html compareModels html detectBifurcationPoint html detectGenes html diff_test_helper html differentialGeneTest html dispersionTable html estimateDispersionsForCellDataSet html estimateSizeFactorsForMatrix html estimate_t html exportCDS html extract_good_branched_ordering html fitModel html fit_model_helper html genSmoothCurveResiduals html genSmoothCurves html get_classic_muscle_markers html importCDS html load_HSMM html load_HSMM_markers html load_lung html markerDiffTable html mcesApply html minSpanningTree-set html minSpanningTree html newCellDataSet html newCellTypeHierarchy html orderCells html order_p_node html package-deprecated html plot_cell_clusters html plot_cell_trajectory html plot_clusters html plot_coexpression_matrix html plot_complex_cell_trajectory html plot_genes_branched_heatmap html plot_genes_branched_pseudotime html plot_genes_in_pseudotime html plot_genes_jitter html plot_genes_positive_cells html plot_genes_violin html plot_multiple_branches_heatmap html plot_multiple_branches_pseudotime html plot_ordering_genes html plot_pc_variance_explained html plot_pseudotime_heatmap html plot_rho_delta html pq_helper html reduceDimension html reducedDimA-set html reducedDimA html reducedDimK-set html reducedDimK html reducedDimS-set html reducedDimS html reducedDimW-set html reducedDimW html relative2abs html residualMatrix html responseMatrix html selectTopMarkers html setOrderingFilter html spike_df html vstExprs html ** building package indices ** installing vignettes ** testing if installed package can be loaded from temporary location ** testing if installed package can be loaded from final location ** testing if installed package keeps a record of temporary installation path install for x64 * installing *source* package 'monocle' ... ** libs C:/Rtools/mingw_64/bin/g++ -std=gnu++11 -I"C:/Users/BIOCBU~1/BBS-3~1.10-/R/include" -DNDEBUG -I"C:/Users/biocbuild/bbs-3.10-bioc/R/library/Rcpp/include" -I"C:/extsoft/include" -O2 -Wall -mtune=core2 -c RcppExports.cpp -o RcppExports.o C:/Rtools/mingw_64/bin/g++ -std=gnu++11 -I"C:/Users/BIOCBU~1/BBS-3~1.10-/R/include" -DNDEBUG -I"C:/Users/biocbuild/bbs-3.10-bioc/R/library/Rcpp/include" -I"C:/extsoft/include" -O2 -Wall -mtune=core2 -c clustering.cpp -o clustering.o C:/Rtools/mingw_64/bin/g++ -std=gnu++11 -shared -s -static-libgcc -o monocle.dll tmp.def RcppExports.o clustering.o -LC:/extsoft/lib/x64 -LC:/extsoft/lib -LC:/Users/BIOCBU~1/BBS-3~1.10-/R/bin/x64 -lR installing to C:/Users/biocbuild/bbs-3.10-bioc/meat/monocle.buildbin-libdir/monocle/libs/x64 ** testing if installed package can be loaded * MD5 sums packaged installation of 'monocle' as monocle_2.14.0.zip * DONE (monocle)