Back to Multiple platform build/check report for BioC 3.10 |
|
This page was generated on 2020-04-15 12:42:49 -0400 (Wed, 15 Apr 2020).
Package 1157/1823 | Hostname | OS / Arch | INSTALL | BUILD | CHECK | BUILD BIN | ||||||
normalize450K 1.14.0 Jonathan Alexander Heiss
| malbec1 | Linux (Ubuntu 18.04.4 LTS) / x86_64 | OK | OK | OK | |||||||
tokay1 | Windows Server 2012 R2 Standard / x64 | OK | OK | OK | OK | |||||||
merida1 | OS X 10.11.6 El Capitan / x86_64 | OK | OK | OK | [ OK ] |
Package: normalize450K |
Version: 1.14.0 |
Command: rm -rf normalize450K.buildbin-libdir && mkdir normalize450K.buildbin-libdir && /Users/biocbuild/BBS/utils/build-universal.sh normalize450K_1.14.0.tar.gz /Library/Frameworks/R.framework/Versions/Current/Resources/bin/R normalize450K.buildbin-libdir |
StartedAt: 2020-04-15 08:11:58 -0400 (Wed, 15 Apr 2020) |
EndedAt: 2020-04-15 08:12:39 -0400 (Wed, 15 Apr 2020) |
EllapsedTime: 41.5 seconds |
RetCode: 0 |
Status: OK |
PackageFile: normalize450K_1.14.0.tgz |
PackageFileSize: 3.065 MiB |
############################################################################## ############################################################################## ### ### Running command: ### ### rm -rf normalize450K.buildbin-libdir && mkdir normalize450K.buildbin-libdir && /Users/biocbuild/BBS/utils/build-universal.sh normalize450K_1.14.0.tar.gz /Library/Frameworks/R.framework/Versions/Current/Resources/bin/R normalize450K.buildbin-libdir ### ############################################################################## ############################################################################## >>>>>>> >>>>>>> INSTALLATION WITH 'R CMD INSTALL --preclean --no-multiarch --library=normalize450K.buildbin-libdir normalize450K_1.14.0.tar.gz' >>>>>>> * installing *source* package ‘normalize450K’ ... ** using staged installation ** R ** inst ** byte-compile and prepare package for lazy loading ** help *** installing help indices ** building package indices ** installing vignettes ** testing if installed package can be loaded from temporary location ** testing if installed package can be loaded from final location ** testing if installed package keeps a record of temporary installation path * DONE (normalize450K)