Back to Multiple platform build/check report for BioC 3.10 |
|
This page was generated on 2020-04-15 12:22:08 -0400 (Wed, 15 Apr 2020).
Package 1176/1823 | Hostname | OS / Arch | INSTALL | BUILD | CHECK | BUILD BIN | ||||||
omicade4 1.26.0 Chen Meng
| malbec1 | Linux (Ubuntu 18.04.4 LTS) / x86_64 | OK | OK | OK | |||||||
tokay1 | Windows Server 2012 R2 Standard / x64 | [ OK ] | OK | OK | OK | |||||||
merida1 | OS X 10.11.6 El Capitan / x86_64 | OK | OK | OK | OK |
Package: omicade4 |
Version: 1.26.0 |
Command: C:\cygwin\bin\curl.exe -O https://malbec1.bioconductor.org/BBS/3.10/bioc/src/contrib/omicade4_1.26.0.tar.gz && rm -rf omicade4.buildbin-libdir && mkdir omicade4.buildbin-libdir && C:\Users\biocbuild\bbs-3.10-bioc\R\bin\R.exe CMD INSTALL --merge-multiarch --build --library=omicade4.buildbin-libdir omicade4_1.26.0.tar.gz && C:\Users\biocbuild\bbs-3.10-bioc\R\bin\R.exe CMD INSTALL omicade4_1.26.0.zip && rm omicade4_1.26.0.tar.gz omicade4_1.26.0.zip |
StartedAt: 2020-04-14 19:02:12 -0400 (Tue, 14 Apr 2020) |
EndedAt: 2020-04-14 19:02:37 -0400 (Tue, 14 Apr 2020) |
EllapsedTime: 24.5 seconds |
RetCode: 0 |
Status: OK |
############################################################################## ############################################################################## ### ### Running command: ### ### C:\cygwin\bin\curl.exe -O https://malbec1.bioconductor.org/BBS/3.10/bioc/src/contrib/omicade4_1.26.0.tar.gz && rm -rf omicade4.buildbin-libdir && mkdir omicade4.buildbin-libdir && C:\Users\biocbuild\bbs-3.10-bioc\R\bin\R.exe CMD INSTALL --merge-multiarch --build --library=omicade4.buildbin-libdir omicade4_1.26.0.tar.gz && C:\Users\biocbuild\bbs-3.10-bioc\R\bin\R.exe CMD INSTALL omicade4_1.26.0.zip && rm omicade4_1.26.0.tar.gz omicade4_1.26.0.zip ### ############################################################################## ############################################################################## % Total % Received % Xferd Average Speed Time Time Time Current Dload Upload Total Spent Left Speed 0 0 0 0 0 0 0 0 --:--:-- --:--:-- --:--:-- 0 100 242k 100 242k 0 0 6121k 0 --:--:-- --:--:-- --:--:-- 6723k install for i386 * installing *source* package 'omicade4' ... ** using staged installation ** R ** data ** inst ** byte-compile and prepare package for lazy loading ** help *** installing help indices converting help for package 'omicade4' finding HTML links ... done NCI60_4arrays html mcia html omicade4-package html plotVar html plotVar.cia html plotVar.mcia html selectVar html selectVar.cia html selectVar.mcia html topVar html topVar.cia html topVar.mcia html ** building package indices ** installing vignettes 'omicade4.Rnw' ** testing if installed package can be loaded from temporary location ** testing if installed package can be loaded from final location ** testing if installed package keeps a record of temporary installation path install for x64 * installing *source* package 'omicade4' ... ** testing if installed package can be loaded * MD5 sums packaged installation of 'omicade4' as omicade4_1.26.0.zip * DONE (omicade4) * installing to library 'C:/Users/biocbuild/bbs-3.10-bioc/R/library' package 'omicade4' successfully unpacked and MD5 sums checked