Back to Multiple platform build/check report for BioC 3.10 |
|
This page was generated on 2020-04-15 12:28:07 -0400 (Wed, 15 Apr 2020).
Package 1226/1823 | Hostname | OS / Arch | INSTALL | BUILD | CHECK | BUILD BIN | ||||||
pathprint 1.16.0 Sokratis Kariotis
| malbec1 | Linux (Ubuntu 18.04.4 LTS) / x86_64 | OK | OK | OK | ![]() | ||||||
tokay1 | Windows Server 2012 R2 Standard / x64 | OK | OK | OK | [ OK ] | ![]() | ||||||
merida1 | OS X 10.11.6 El Capitan / x86_64 | OK | OK | OK | OK | ![]() |
Package: pathprint |
Version: 1.16.0 |
Command: rm -rf pathprint.buildbin-libdir && mkdir pathprint.buildbin-libdir && C:\Users\biocbuild\bbs-3.10-bioc\R\bin\R.exe CMD INSTALL --merge-multiarch --build --library=pathprint.buildbin-libdir pathprint_1.16.0.tar.gz |
StartedAt: 2020-04-15 09:20:49 -0400 (Wed, 15 Apr 2020) |
EndedAt: 2020-04-15 09:21:20 -0400 (Wed, 15 Apr 2020) |
EllapsedTime: 31.4 seconds |
RetCode: 0 |
Status: OK |
PackageFile: pathprint_1.16.0.zip |
PackageFileSize: 1.123 MiB |
############################################################################## ############################################################################## ### ### Running command: ### ### rm -rf pathprint.buildbin-libdir && mkdir pathprint.buildbin-libdir && C:\Users\biocbuild\bbs-3.10-bioc\R\bin\R.exe CMD INSTALL --merge-multiarch --build --library=pathprint.buildbin-libdir pathprint_1.16.0.tar.gz ### ############################################################################## ############################################################################## install for i386 * installing *source* package 'pathprint' ... ** using staged installation ** R ** data ** inst ** byte-compile and prepare package for lazy loading ** help *** installing help indices converting help for package 'pathprint' finding HTML links ... done consensusDistance html consensusFingerprint html customCDFAnn html diffPathways html exprs2fingerprint html genesets html pathprint-package html pathprint.Ce.gs html pathprint.Dm.gs html pathprint.Dr.gs html pathprint.Hs.gs html pathprint.Mm.gs html pathprint.Rn.gs html platform.thresholds html pluripotents.frame html single.chip.enrichment html thresholdFingerprint html ** building package indices ** installing vignettes ** testing if installed package can be loaded from temporary location ** testing if installed package can be loaded from final location ** testing if installed package keeps a record of temporary installation path install for x64 * installing *source* package 'pathprint' ... ** testing if installed package can be loaded * MD5 sums packaged installation of 'pathprint' as pathprint_1.16.0.zip * DONE (pathprint)