Back to Multiple platform build/check report for BioC 3.10 |
|
This page was generated on 2020-04-15 12:17:49 -0400 (Wed, 15 Apr 2020).
Package 1236/1823 | Hostname | OS / Arch | INSTALL | BUILD | CHECK | BUILD BIN | ||||||
pcaMethods 1.78.0 Henning Redestig
| malbec1 | Linux (Ubuntu 18.04.4 LTS) / x86_64 | OK | OK | OK | |||||||
tokay1 | Windows Server 2012 R2 Standard / x64 | OK | OK | OK | [ OK ] | |||||||
merida1 | OS X 10.11.6 El Capitan / x86_64 | OK | OK | OK | OK |
Package: pcaMethods |
Version: 1.78.0 |
Command: rm -rf pcaMethods.buildbin-libdir && mkdir pcaMethods.buildbin-libdir && C:\Users\biocbuild\bbs-3.10-bioc\R\bin\R.exe CMD INSTALL --merge-multiarch --build --library=pcaMethods.buildbin-libdir pcaMethods_1.78.0.tar.gz |
StartedAt: 2020-04-15 09:21:24 -0400 (Wed, 15 Apr 2020) |
EndedAt: 2020-04-15 09:22:34 -0400 (Wed, 15 Apr 2020) |
EllapsedTime: 69.7 seconds |
RetCode: 0 |
Status: OK |
PackageFile: pcaMethods_1.78.0.zip |
PackageFileSize: 1.615 MiB |
############################################################################## ############################################################################## ### ### Running command: ### ### rm -rf pcaMethods.buildbin-libdir && mkdir pcaMethods.buildbin-libdir && C:\Users\biocbuild\bbs-3.10-bioc\R\bin\R.exe CMD INSTALL --merge-multiarch --build --library=pcaMethods.buildbin-libdir pcaMethods_1.78.0.tar.gz ### ############################################################################## ############################################################################## install for i386 * installing *source* package 'pcaMethods' ... ** using staged installation ** libs C:/Rtools/mingw_32/bin/g++ -std=gnu++11 -I"C:/Users/BIOCBU~1/BBS-3~1.10-/R/include" -DNDEBUG -I"C:/Users/biocbuild/bbs-3.10-bioc/R/library/Rcpp/include" -I"C:/extsoft/include" -O2 -Wall -mtune=core2 -c RcppExports.cpp -o RcppExports.o C:/Rtools/mingw_32/bin/g++ -std=gnu++11 -I"C:/Users/BIOCBU~1/BBS-3~1.10-/R/include" -DNDEBUG -I"C:/Users/biocbuild/bbs-3.10-bioc/R/library/Rcpp/include" -I"C:/extsoft/include" -O2 -Wall -mtune=core2 -c nipals.cpp -o nipals.o C:/Rtools/mingw_32/bin/g++ -std=gnu++11 -shared -s -static-libgcc -o pcaMethods.dll tmp.def RcppExports.o nipals.o -LC:/extsoft/lib/i386 -LC:/extsoft/lib -LC:/Users/BIOCBU~1/BBS-3~1.10-/R/bin/i386 -lR installing to C:/Users/biocbuild/bbs-3.10-bioc/meat/pcaMethods.buildbin-libdir/00LOCK-pcaMethods/00new/pcaMethods/libs/i386 ** R ** data ** inst ** byte-compile and prepare package for lazy loading Creating a new generic function for 'loadings' in package 'pcaMethods' ** help *** installing help indices converting help for package 'pcaMethods' finding HTML links ... done BPCA_dostep html BPCA_initmodel html DModX-pcaRes-method html Q2 html R2VX-pcaRes-method html R2cum-pcaRes-method html RnipalsPca html asExprSet html biplot-methods html bpca html center-pcaRes-method html centered-pcaRes-method html checkData html completeObs-nniRes-method html cvseg html cvstat-pcaRes-method html deletediagonals html derrorHierarchic html dim.pcaRes html errorHierarchic html fitted-methods html forkNlpcaNet html getHierarchicIdx html helix html kEstimate html kEstimateFast html leverage-pcaRes-method html lineSearch html linr html listPcaMethods html llsImpute html loadings-ANY-method html loadings-pcaRes-method html loadings.pcaRes html metaboliteData html metaboliteDataComplete html method-pcaRes-method html nObs-pcaRes-method html nP-pcaRes-method html nPcs-pcaRes-method html nVar-pcaRes-method html nipalsPca html nlpca html nmissing-pcaRes-method html nni html nniRes html optiAlgCgd html orth html pca html pcaMethods-deprecated html pcaMethods html pcaNet html pcaRes html plot.pcaRes html plotPcs html ppca html predict-methods html prep html rediduals-methods html repmat html robustPca html robustSvd html sDev-pcaRes-method html scaled-pcaRes-method html scl-pcaRes-method html scores-pcaRes-method html scores.pcaRes html show-methods html showNniRes html simpleEllipse html slplot-pcaRes-method html sortFeatures html summary html svdImpute html svdPca html tempFixNas html vector2matrices-matrix-method html vector2matrices-nlpcaNet-method html wasna-pcaRes-method html weightsAccount html ** building package indices ** installing vignettes ** testing if installed package can be loaded from temporary location ** testing if installed package can be loaded from final location ** testing if installed package keeps a record of temporary installation path install for x64 * installing *source* package 'pcaMethods' ... ** libs C:/Rtools/mingw_64/bin/g++ -std=gnu++11 -I"C:/Users/BIOCBU~1/BBS-3~1.10-/R/include" -DNDEBUG -I"C:/Users/biocbuild/bbs-3.10-bioc/R/library/Rcpp/include" -I"C:/extsoft/include" -O2 -Wall -mtune=core2 -c RcppExports.cpp -o RcppExports.o C:/Rtools/mingw_64/bin/g++ -std=gnu++11 -I"C:/Users/BIOCBU~1/BBS-3~1.10-/R/include" -DNDEBUG -I"C:/Users/biocbuild/bbs-3.10-bioc/R/library/Rcpp/include" -I"C:/extsoft/include" -O2 -Wall -mtune=core2 -c nipals.cpp -o nipals.o C:/Rtools/mingw_64/bin/g++ -std=gnu++11 -shared -s -static-libgcc -o pcaMethods.dll tmp.def RcppExports.o nipals.o -LC:/extsoft/lib/x64 -LC:/extsoft/lib -LC:/Users/BIOCBU~1/BBS-3~1.10-/R/bin/x64 -lR installing to C:/Users/biocbuild/bbs-3.10-bioc/meat/pcaMethods.buildbin-libdir/pcaMethods/libs/x64 ** testing if installed package can be loaded * MD5 sums packaged installation of 'pcaMethods' as pcaMethods_1.78.0.zip * DONE (pcaMethods)