Back to Multiple platform build/check report for BioC 3.10 |
|
This page was generated on 2020-04-15 12:21:35 -0400 (Wed, 15 Apr 2020).
Package 1264/1823 | Hostname | OS / Arch | INSTALL | BUILD | CHECK | BUILD BIN | ||||||
piano 2.2.0 Leif Varemo Wigge
| malbec1 | Linux (Ubuntu 18.04.4 LTS) / x86_64 | OK | OK | OK | |||||||
tokay1 | Windows Server 2012 R2 Standard / x64 | [ OK ] | OK | OK | OK | |||||||
merida1 | OS X 10.11.6 El Capitan / x86_64 | OK | OK | OK | OK |
Package: piano |
Version: 2.2.0 |
Command: C:\cygwin\bin\curl.exe -O https://malbec1.bioconductor.org/BBS/3.10/bioc/src/contrib/piano_2.2.0.tar.gz && rm -rf piano.buildbin-libdir && mkdir piano.buildbin-libdir && C:\Users\biocbuild\bbs-3.10-bioc\R\bin\R.exe CMD INSTALL --merge-multiarch --build --library=piano.buildbin-libdir piano_2.2.0.tar.gz && C:\Users\biocbuild\bbs-3.10-bioc\R\bin\R.exe CMD INSTALL piano_2.2.0.zip && rm piano_2.2.0.tar.gz piano_2.2.0.zip |
StartedAt: 2020-04-14 19:25:18 -0400 (Tue, 14 Apr 2020) |
EndedAt: 2020-04-14 19:27:17 -0400 (Tue, 14 Apr 2020) |
EllapsedTime: 119.5 seconds |
RetCode: 0 |
Status: OK |
############################################################################## ############################################################################## ### ### Running command: ### ### C:\cygwin\bin\curl.exe -O https://malbec1.bioconductor.org/BBS/3.10/bioc/src/contrib/piano_2.2.0.tar.gz && rm -rf piano.buildbin-libdir && mkdir piano.buildbin-libdir && C:\Users\biocbuild\bbs-3.10-bioc\R\bin\R.exe CMD INSTALL --merge-multiarch --build --library=piano.buildbin-libdir piano_2.2.0.tar.gz && C:\Users\biocbuild\bbs-3.10-bioc\R\bin\R.exe CMD INSTALL piano_2.2.0.zip && rm piano_2.2.0.tar.gz piano_2.2.0.zip ### ############################################################################## ############################################################################## % Total % Received % Xferd Average Speed Time Time Time Current Dload Upload Total Spent Left Speed 0 0 0 0 0 0 0 0 --:--:-- --:--:-- --:--:-- 0 100 972k 100 972k 0 0 11.4M 0 --:--:-- --:--:-- --:--:-- 12.0M install for i386 * installing *source* package 'piano' ... ** using staged installation ** R ** data ** inst ** byte-compile and prepare package for lazy loading ** help *** installing help indices converting help for package 'piano' finding HTML links ... done GSAheatmap html GSAsummaryTable html consensusHeatmap html consensusScores html diffExp html finding level-2 HTML links ... done exploreGSAres html extractFactors html geneSetSummary html gsa_input html gsa_results html loadGSC html loadMAdata html networkPlot html networkPlot2 html piano-package html polarPlot html runGSA html runGSAhyper html runQC html writeFilesForKiwi html ** building package indices ** installing vignettes ** testing if installed package can be loaded from temporary location ** testing if installed package can be loaded from final location ** testing if installed package keeps a record of temporary installation path install for x64 * installing *source* package 'piano' ... ** testing if installed package can be loaded * MD5 sums packaged installation of 'piano' as piano_2.2.0.zip * DONE (piano) * installing to library 'C:/Users/biocbuild/bbs-3.10-bioc/R/library' package 'piano' successfully unpacked and MD5 sums checked