Back to Multiple platform build/check report for BioC 3.10 |
|
This page was generated on 2020-04-15 12:18:56 -0400 (Wed, 15 Apr 2020).
Package 1272/1823 | Hostname | OS / Arch | INSTALL | BUILD | CHECK | BUILD BIN | ||||||
Errol Strain
| malbec1 | Linux (Ubuntu 18.04.4 LTS) / x86_64 | ERROR | ERROR | skipped | |||||||
tokay1 | Windows Server 2012 R2 Standard / x64 | [ ERROR ] | ERROR | skipped | skipped | |||||||
merida1 | OS X 10.11.6 El Capitan / x86_64 | ERROR | ERROR | skipped | skipped |
Package: plateCore |
Version: 1.44.0 |
Command: C:\cygwin\bin\curl.exe -O https://malbec1.bioconductor.org/BBS/3.10/bioc/src/contrib/plateCore_1.44.0.tar.gz && rm -rf plateCore.buildbin-libdir && mkdir plateCore.buildbin-libdir && C:\Users\biocbuild\bbs-3.10-bioc\R\bin\R.exe CMD INSTALL --merge-multiarch --build --library=plateCore.buildbin-libdir plateCore_1.44.0.tar.gz && C:\Users\biocbuild\bbs-3.10-bioc\R\bin\R.exe CMD INSTALL plateCore_1.44.0.zip && rm plateCore_1.44.0.tar.gz plateCore_1.44.0.zip |
StartedAt: 2020-04-14 19:44:37 -0400 (Tue, 14 Apr 2020) |
EndedAt: 2020-04-14 19:44:40 -0400 (Tue, 14 Apr 2020) |
EllapsedTime: 3.0 seconds |
RetCode: 1 |
Status: ERROR |
############################################################################## ############################################################################## ### ### Running command: ### ### C:\cygwin\bin\curl.exe -O https://malbec1.bioconductor.org/BBS/3.10/bioc/src/contrib/plateCore_1.44.0.tar.gz && rm -rf plateCore.buildbin-libdir && mkdir plateCore.buildbin-libdir && C:\Users\biocbuild\bbs-3.10-bioc\R\bin\R.exe CMD INSTALL --merge-multiarch --build --library=plateCore.buildbin-libdir plateCore_1.44.0.tar.gz && C:\Users\biocbuild\bbs-3.10-bioc\R\bin\R.exe CMD INSTALL plateCore_1.44.0.zip && rm plateCore_1.44.0.tar.gz plateCore_1.44.0.zip ### ############################################################################## ############################################################################## % Total % Received % Xferd Average Speed Time Time Time Current Dload Upload Total Spent Left Speed 0 0 0 0 0 0 0 0 --:--:-- --:--:-- --:--:-- 0 100 2304k 100 2304k 0 0 29.2M 0 --:--:-- --:--:-- --:--:-- 30.8M install for i386 * installing *source* package 'plateCore' ... ** using staged installation ** R ** data ** byte-compile and prepare package for lazy loading Error: class "norm2Filter" is not exported by 'namespace:flowCore' Execution halted ERROR: lazy loading failed for package 'plateCore' * removing 'C:/Users/biocbuild/bbs-3.10-bioc/meat/plateCore.buildbin-libdir/plateCore'