Back to Multiple platform build/check report for BioC 3.10 |
|
This page was generated on 2020-04-15 12:05:08 -0400 (Wed, 15 Apr 2020).
Package 1279/1823 | Hostname | OS / Arch | INSTALL | BUILD | CHECK | BUILD BIN | ||||||
plw 1.46.0 Magnus Astrand
| malbec1 | Linux (Ubuntu 18.04.4 LTS) / x86_64 | [ OK ] | OK | OK | ![]() | ||||||
tokay1 | Windows Server 2012 R2 Standard / x64 | OK | OK | OK | OK | ![]() | ||||||
merida1 | OS X 10.11.6 El Capitan / x86_64 | OK | OK | OK | OK | ![]() |
Package: plw |
Version: 1.46.0 |
Command: /home/biocbuild/bbs-3.10-bioc/R/bin/R CMD INSTALL plw |
StartedAt: 2020-04-14 18:09:03 -0400 (Tue, 14 Apr 2020) |
EndedAt: 2020-04-14 18:09:08 -0400 (Tue, 14 Apr 2020) |
EllapsedTime: 4.8 seconds |
RetCode: 0 |
Status: OK |
############################################################################## ############################################################################## ### ### Running command: ### ### /home/biocbuild/bbs-3.10-bioc/R/bin/R CMD INSTALL plw ### ############################################################################## ############################################################################## * installing to library ‘/home/biocbuild/bbs-3.10-bioc/R/library’ * installing *source* package ‘plw’ ... ** using staged installation ** libs gcc -I"/home/biocbuild/bbs-3.10-bioc/R/include" -DNDEBUG -I/usr/local/include -fpic -g -O2 -Wall -c SpecialFunctions.c -o SpecialFunctions.o SpecialFunctions.c: In function ‘getPosteriorProbsAndSigmaHatStrata0’: SpecialFunctions.c:154:20: warning: variable ‘s2’ set but not used [-Wunused-but-set-variable] double kk,C,s0,s1,s2,temp0,aa; ^~ SpecialFunctions.c:154:17: warning: variable ‘s1’ set but not used [-Wunused-but-set-variable] double kk,C,s0,s1,s2,temp0,aa; ^~ SpecialFunctions.c:154:14: warning: variable ‘s0’ set but not used [-Wunused-but-set-variable] double kk,C,s0,s1,s2,temp0,aa; ^~ gcc -I"/home/biocbuild/bbs-3.10-bioc/R/include" -DNDEBUG -I/usr/local/include -fpic -g -O2 -Wall -c SpecialOptim.c -o SpecialOptim.o gcc -shared -L/home/biocbuild/bbs-3.10-bioc/R/lib -L/usr/local/lib -o plw.so SpecialFunctions.o SpecialOptim.o -L/home/biocbuild/bbs-3.10-bioc/R/lib -lR installing to /home/biocbuild/bbs-3.10-bioc/R/library/00LOCK-plw/00new/plw/libs ** R ** data ** inst ** byte-compile and prepare package for lazy loading ** help *** installing help indices ** building package indices ** installing vignettes ** testing if installed package can be loaded from temporary location ** checking absolute paths in shared objects and dynamic libraries ** testing if installed package can be loaded from final location ** testing if installed package keeps a record of temporary installation path * DONE (plw)