Back to Multiple platform build/check report for BioC 3.10 |
|
This page was generated on 2020-04-15 12:47:09 -0400 (Wed, 15 Apr 2020).
Package 1280/1823 | Hostname | OS / Arch | INSTALL | BUILD | CHECK | BUILD BIN | ||||||
plyranges 1.6.10 Stuart Lee
| malbec1 | Linux (Ubuntu 18.04.4 LTS) / x86_64 | OK | OK | OK | ![]() | ||||||
tokay1 | Windows Server 2012 R2 Standard / x64 | OK | OK | WARNINGS | OK | ![]() | ||||||
merida1 | OS X 10.11.6 El Capitan / x86_64 | OK | OK | OK | [ OK ] | ![]() |
Package: plyranges |
Version: 1.6.10 |
Command: rm -rf plyranges.buildbin-libdir && mkdir plyranges.buildbin-libdir && /Users/biocbuild/BBS/utils/build-universal.sh plyranges_1.6.10.tar.gz /Library/Frameworks/R.framework/Versions/Current/Resources/bin/R plyranges.buildbin-libdir |
StartedAt: 2020-04-15 08:21:56 -0400 (Wed, 15 Apr 2020) |
EndedAt: 2020-04-15 08:22:55 -0400 (Wed, 15 Apr 2020) |
EllapsedTime: 59.4 seconds |
RetCode: 0 |
Status: OK |
PackageFile: plyranges_1.6.10.tgz |
PackageFileSize: 1.706 MiB |
############################################################################## ############################################################################## ### ### Running command: ### ### rm -rf plyranges.buildbin-libdir && mkdir plyranges.buildbin-libdir && /Users/biocbuild/BBS/utils/build-universal.sh plyranges_1.6.10.tar.gz /Library/Frameworks/R.framework/Versions/Current/Resources/bin/R plyranges.buildbin-libdir ### ############################################################################## ############################################################################## >>>>>>> >>>>>>> INSTALLATION WITH 'R CMD INSTALL --preclean --no-multiarch --library=plyranges.buildbin-libdir plyranges_1.6.10.tar.gz' >>>>>>> * installing *source* package ‘plyranges’ ... ** using staged installation ** R ** inst ** byte-compile and prepare package for lazy loading ** help *** installing help indices *** copying figures ** building package indices ** installing vignettes ** testing if installed package can be loaded from temporary location ** testing if installed package can be loaded from final location ** testing if installed package keeps a record of temporary installation path * DONE (plyranges)