Back to Multiple platform build/check report for BioC 3.10 |
|
This page was generated on 2020-04-15 12:41:40 -0400 (Wed, 15 Apr 2020).
Package 1282/1823 | Hostname | OS / Arch | INSTALL | BUILD | CHECK | BUILD BIN | ||||||
podkat 1.18.0 Ulrich Bodenhofer
| malbec1 | Linux (Ubuntu 18.04.4 LTS) / x86_64 | OK | OK | OK | ![]() | ||||||
tokay1 | Windows Server 2012 R2 Standard / x64 | OK | OK | WARNINGS | OK | ![]() | ||||||
merida1 | OS X 10.11.6 El Capitan / x86_64 | OK | OK | [ OK ] | OK | ![]() |
Package: podkat |
Version: 1.18.0 |
Command: /Library/Frameworks/R.framework/Versions/Current/Resources/bin/R CMD check --install=check:podkat.install-out.txt --library=/Library/Frameworks/R.framework/Versions/Current/Resources/library --no-vignettes --timings podkat_1.18.0.tar.gz |
StartedAt: 2020-04-15 04:40:41 -0400 (Wed, 15 Apr 2020) |
EndedAt: 2020-04-15 04:47:02 -0400 (Wed, 15 Apr 2020) |
EllapsedTime: 380.6 seconds |
RetCode: 0 |
Status: OK |
CheckDir: podkat.Rcheck |
Warnings: 0 |
############################################################################## ############################################################################## ### ### Running command: ### ### /Library/Frameworks/R.framework/Versions/Current/Resources/bin/R CMD check --install=check:podkat.install-out.txt --library=/Library/Frameworks/R.framework/Versions/Current/Resources/library --no-vignettes --timings podkat_1.18.0.tar.gz ### ############################################################################## ############################################################################## * using log directory ‘/Users/biocbuild/bbs-3.10-bioc/meat/podkat.Rcheck’ * using R version 3.6.3 (2020-02-29) * using platform: x86_64-apple-darwin15.6.0 (64-bit) * using session charset: UTF-8 * using option ‘--no-vignettes’ * checking for file ‘podkat/DESCRIPTION’ ... OK * checking extension type ... Package * this is package ‘podkat’ version ‘1.18.0’ * checking package namespace information ... OK * checking package dependencies ... OK * checking if this is a source package ... OK * checking if there is a namespace ... OK * checking for hidden files and directories ... OK * checking for portable file names ... OK * checking for sufficient/correct file permissions ... OK * checking whether package ‘podkat’ can be installed ... OK * checking installed package size ... OK * checking package directory ... OK * checking ‘build’ directory ... OK * checking DESCRIPTION meta-information ... OK * checking top-level files ... OK * checking for left-over files ... OK * checking index information ... OK * checking package subdirectories ... OK * checking R files for non-ASCII characters ... OK * checking R files for syntax errors ... OK * checking whether the package can be loaded ... OK * checking whether the package can be loaded with stated dependencies ... OK * checking whether the package can be unloaded cleanly ... OK * checking whether the namespace can be loaded with stated dependencies ... OK * checking whether the namespace can be unloaded cleanly ... OK * checking dependencies in R code ... OK * checking S3 generic/method consistency ... OK * checking replacement functions ... OK * checking foreign function calls ... OK * checking R code for possible problems ... OK * checking Rd files ... OK * checking Rd metadata ... OK * checking Rd cross-references ... OK * checking for missing documentation entries ... OK * checking for code/documentation mismatches ... OK * checking Rd \usage sections ... OK * checking Rd contents ... OK * checking for unstated dependencies in examples ... OK * checking contents of ‘data’ directory ... OK * checking data for non-ASCII characters ... OK * checking data for ASCII and uncompressed saves ... OK * checking line endings in C/C++/Fortran sources/headers ... OK * checking line endings in Makefiles ... OK * checking compilation flags in Makevars ... OK * checking for GNU extensions in Makefiles ... NOTE GNU make is a SystemRequirements. * checking for portable use of $(BLAS_LIBS) and $(LAPACK_LIBS) ... OK * checking compiled code ... NOTE Note: information on .o files is not available File ‘/Library/Frameworks/R.framework/Versions/3.6/Resources/library/podkat/libs/podkat.so’: Found ‘___assert_rtn’, possibly from ‘assert’ (C) Found ‘___stderrp’, possibly from ‘stderr’ (C) Found ‘___stdoutp’, possibly from ‘stdout’ (C) Found ‘_abort’, possibly from ‘abort’ (C) Found ‘_exit’, possibly from ‘exit’ (C) Found ‘_printf’, possibly from ‘printf’ (C) Found ‘_putchar’, possibly from ‘putchar’ (C) Found ‘_puts’, possibly from ‘printf’ (C), ‘puts’ (C) Found ‘_srand48’, possibly from ‘srand48’ (C) Compiled code should not call entry points which might terminate R nor write to stdout/stderr instead of to the console, nor use Fortran I/O nor system RNGs. The detected symbols are linked into the code but might come from libraries and not actually be called. See ‘Writing portable packages’ in the ‘Writing R Extensions’ manual. * checking sizes of PDF files under ‘inst/doc’ ... OK * checking files in ‘vignettes’ ... OK * checking examples ... OK Examples with CPU or elapsed time > 5s user system elapsed unmaskedRegions 52.288 5.222 57.703 assocTest-methods 14.516 0.605 15.142 plot-methods 11.904 0.644 12.561 * checking for unstated dependencies in vignettes ... OK * checking package vignettes in ‘inst/doc’ ... OK * checking running R code from vignettes ... SKIPPED * checking re-building of vignette outputs ... SKIPPED * checking PDF version of manual ... OK * DONE Status: 2 NOTEs See ‘/Users/biocbuild/bbs-3.10-bioc/meat/podkat.Rcheck/00check.log’ for details.
podkat.Rcheck/00install.out
############################################################################## ############################################################################## ### ### Running command: ### ### /Library/Frameworks/R.framework/Versions/Current/Resources/bin/R CMD INSTALL podkat ### ############################################################################## ############################################################################## * installing to library ‘/Library/Frameworks/R.framework/Versions/3.6/Resources/library’ * installing *source* package ‘podkat’ ... ** using staged installation ** libs clang++ -std=gnu++11 -I"/Library/Frameworks/R.framework/Resources/include" -DNDEBUG -D_FILE_OFFSET_BITS=64 -I"/Library/Frameworks/R.framework/Versions/3.6/Resources/library/Rcpp/include" -I"/Library/Frameworks/R.framework/Versions/3.6/Resources/library/Rhtslib/include" -isysroot /Library/Developer/CommandLineTools/SDKs/MacOSX.sdk -I/usr/local/include -fPIC -Wall -g -O2 -c R_init_podkat.cpp -o R_init_podkat.o clang++ -std=gnu++11 -I"/Library/Frameworks/R.framework/Resources/include" -DNDEBUG -D_FILE_OFFSET_BITS=64 -I"/Library/Frameworks/R.framework/Versions/3.6/Resources/library/Rcpp/include" -I"/Library/Frameworks/R.framework/Versions/3.6/Resources/library/Rhtslib/include" -isysroot /Library/Developer/CommandLineTools/SDKs/MacOSX.sdk -I/usr/local/include -fPIC -Wall -g -O2 -c bernoulliExact.cpp -o bernoulliExact.o clang++ -std=gnu++11 -I"/Library/Frameworks/R.framework/Resources/include" -DNDEBUG -D_FILE_OFFSET_BITS=64 -I"/Library/Frameworks/R.framework/Versions/3.6/Resources/library/Rcpp/include" -I"/Library/Frameworks/R.framework/Versions/3.6/Resources/library/Rhtslib/include" -isysroot /Library/Developer/CommandLineTools/SDKs/MacOSX.sdk -I/usr/local/include -fPIC -Wall -g -O2 -c checkAndFixGenotype.cpp -o checkAndFixGenotype.o clang++ -std=gnu++11 -I"/Library/Frameworks/R.framework/Resources/include" -DNDEBUG -D_FILE_OFFSET_BITS=64 -I"/Library/Frameworks/R.framework/Versions/3.6/Resources/library/Rcpp/include" -I"/Library/Frameworks/R.framework/Versions/3.6/Resources/library/Rhtslib/include" -isysroot /Library/Developer/CommandLineTools/SDKs/MacOSX.sdk -I/usr/local/include -fPIC -Wall -g -O2 -c cumMax.cpp -o cumMax.o clang++ -std=gnu++11 -I"/Library/Frameworks/R.framework/Resources/include" -DNDEBUG -D_FILE_OFFSET_BITS=64 -I"/Library/Frameworks/R.framework/Versions/3.6/Resources/library/Rcpp/include" -I"/Library/Frameworks/R.framework/Versions/3.6/Resources/library/Rhtslib/include" -isysroot /Library/Developer/CommandLineTools/SDKs/MacOSX.sdk -I/usr/local/include -fPIC -Wall -g -O2 -c doubleMale.cpp -o doubleMale.o clang++ -std=gnu++11 -I"/Library/Frameworks/R.framework/Resources/include" -DNDEBUG -D_FILE_OFFSET_BITS=64 -I"/Library/Frameworks/R.framework/Versions/3.6/Resources/library/Rcpp/include" -I"/Library/Frameworks/R.framework/Versions/3.6/Resources/library/Rhtslib/include" -isysroot /Library/Developer/CommandLineTools/SDKs/MacOSX.sdk -I/usr/local/include -fPIC -Wall -g -O2 -c kernels.cpp -o kernels.o clang++ -std=gnu++11 -I"/Library/Frameworks/R.framework/Resources/include" -DNDEBUG -D_FILE_OFFSET_BITS=64 -I"/Library/Frameworks/R.framework/Versions/3.6/Resources/library/Rcpp/include" -I"/Library/Frameworks/R.framework/Versions/3.6/Resources/library/Rhtslib/include" -isysroot /Library/Developer/CommandLineTools/SDKs/MacOSX.sdk -I/usr/local/include -fPIC -Wall -g -O2 -c pValues.cpp -o pValues.o clang++ -std=gnu++11 -I"/Library/Frameworks/R.framework/Resources/include" -DNDEBUG -D_FILE_OFFSET_BITS=64 -I"/Library/Frameworks/R.framework/Versions/3.6/Resources/library/Rcpp/include" -I"/Library/Frameworks/R.framework/Versions/3.6/Resources/library/Rhtslib/include" -isysroot /Library/Developer/CommandLineTools/SDKs/MacOSX.sdk -I/usr/local/include -fPIC -Wall -g -O2 -c partitionRegions.cpp -o partitionRegions.o clang++ -std=gnu++11 -I"/Library/Frameworks/R.framework/Resources/include" -DNDEBUG -D_FILE_OFFSET_BITS=64 -I"/Library/Frameworks/R.framework/Versions/3.6/Resources/library/Rcpp/include" -I"/Library/Frameworks/R.framework/Versions/3.6/Resources/library/Rhtslib/include" -isysroot /Library/Developer/CommandLineTools/SDKs/MacOSX.sdk -I/usr/local/include -fPIC -Wall -g -O2 -c qfc.cpp -o qfc.o clang++ -std=gnu++11 -I"/Library/Frameworks/R.framework/Resources/include" -DNDEBUG -D_FILE_OFFSET_BITS=64 -I"/Library/Frameworks/R.framework/Versions/3.6/Resources/library/Rcpp/include" -I"/Library/Frameworks/R.framework/Versions/3.6/Resources/library/Rhtslib/include" -isysroot /Library/Developer/CommandLineTools/SDKs/MacOSX.sdk -I/usr/local/include -fPIC -Wall -g -O2 -c readGenotypeMatrix.cpp -o readGenotypeMatrix.o In file included from readGenotypeMatrix.cpp:2: In file included from /Library/Frameworks/R.framework/Versions/3.6/Resources/library/Rcpp/include/Rcpp.h:27: In file included from /Library/Frameworks/R.framework/Versions/3.6/Resources/library/Rcpp/include/RcppCommon.h:128: /Library/Frameworks/R.framework/Versions/3.6/Resources/library/Rcpp/include/Rcpp/exceptions.h:112:53: warning: all paths through this function will call itself [-Winfinite-recursion] inline void warning(const std::string& message) { // #nocov start ^ 1 warning generated. clang++ -std=gnu++11 -I"/Library/Frameworks/R.framework/Resources/include" -DNDEBUG -D_FILE_OFFSET_BITS=64 -I"/Library/Frameworks/R.framework/Versions/3.6/Resources/library/Rcpp/include" -I"/Library/Frameworks/R.framework/Versions/3.6/Resources/library/Rhtslib/include" -isysroot /Library/Developer/CommandLineTools/SDKs/MacOSX.sdk -I/usr/local/include -fPIC -Wall -g -O2 -c readVariantInfo.cpp -o readVariantInfo.o In file included from readVariantInfo.cpp:2: In file included from /Library/Frameworks/R.framework/Versions/3.6/Resources/library/Rcpp/include/Rcpp.h:27: In file included from /Library/Frameworks/R.framework/Versions/3.6/Resources/library/Rcpp/include/RcppCommon.h:128: /Library/Frameworks/R.framework/Versions/3.6/Resources/library/Rcpp/include/Rcpp/exceptions.h:112:53: warning: all paths through this function will call itself [-Winfinite-recursion] inline void warning(const std::string& message) { // #nocov start ^ 1 warning generated. clang++ -std=gnu++11 -dynamiclib -Wl,-headerpad_max_install_names -undefined dynamic_lookup -single_module -multiply_defined suppress -L/Library/Frameworks/R.framework/Resources/lib -L/usr/local/lib -o podkat.so R_init_podkat.o bernoulliExact.o checkAndFixGenotype.o cumMax.o doubleMale.o kernels.o pValues.o partitionRegions.o qfc.o readGenotypeMatrix.o readVariantInfo.o /Library/Frameworks/R.framework/Versions/3.6/Resources/library/Rhtslib/usrlib/libhts.a -lcurl -F/Library/Frameworks/R.framework/.. -framework R -Wl,-framework -Wl,CoreFoundation installing to /Library/Frameworks/R.framework/Versions/3.6/Resources/library/00LOCK-podkat/00new/podkat/libs ** R ** data ** inst ** byte-compile and prepare package for lazy loading Creating a generic function for ‘p.adjust’ from package ‘stats’ in package ‘podkat’ Creating a generic function for ‘qqplot’ from package ‘stats’ in package ‘podkat’ ** help *** installing help indices ** building package indices ** installing vignettes ** testing if installed package can be loaded from temporary location ** checking absolute paths in shared objects and dynamic libraries ** testing if installed package can be loaded from final location ** testing if installed package keeps a record of temporary installation path * DONE (podkat)
podkat.Rcheck/podkat-Ex.timings
name | user | system | elapsed | |
AssocTestResult-class | 1.484 | 0.036 | 1.531 | |
AssocTestResultRanges-class | 2.338 | 0.137 | 2.477 | |
GenotypeMatrix-class | 4.734 | 0.124 | 4.864 | |
NullModel-class | 2.089 | 0.138 | 2.231 | |
VariantInfo-class | 0.449 | 0.003 | 0.453 | |
assocTest-methods | 14.516 | 0.605 | 15.142 | |
computeKernel | 0.006 | 0.001 | 0.006 | |
filterResult-methods | 1.981 | 0.058 | 2.044 | |
genotypeMatrix-methods | 1.027 | 0.027 | 1.056 | |
hgA | 0.033 | 0.002 | 0.034 | |
nullModel-methods | 1.160 | 0.110 | 1.276 | |
p.adjust-methods | 1.476 | 0.009 | 1.486 | |
partitionRegions-methods | 1.136 | 0.006 | 1.142 | |
plot-methods | 11.904 | 0.644 | 12.561 | |
podkat-package | 1.683 | 0.044 | 1.729 | |
print-methods | 1.588 | 0.007 | 1.596 | |
qqplot-methods | 2.499 | 0.010 | 2.512 | |
readGenotypeMatrix-methods | 0.402 | 0.002 | 0.405 | |
readRegionsFromBedFile | 0.035 | 0.002 | 0.037 | |
readSampleNamesFromVcfHeader | 0.033 | 0.001 | 0.034 | |
readVariantInfo-methods | 0.383 | 0.002 | 0.385 | |
sort-methods | 1.598 | 0.016 | 1.614 | |
split-methods | 4.412 | 0.228 | 4.658 | |
unmasked-datasets | 0.714 | 0.009 | 0.728 | |
unmaskedRegions | 52.288 | 5.222 | 57.703 | |
weightFuncs | 0.006 | 0.002 | 0.008 | |
weights-methods | 1.764 | 0.011 | 1.778 | |