Back to Multiple platform build/check report for BioC 3.10 |
|
This page was generated on 2020-04-15 12:21:36 -0400 (Wed, 15 Apr 2020).
Package 1295/1823 | Hostname | OS / Arch | INSTALL | BUILD | CHECK | BUILD BIN | ||||||
prebs 1.26.0 Karolis Uziela
| malbec1 | Linux (Ubuntu 18.04.4 LTS) / x86_64 | OK | OK | OK | ![]() | ||||||
tokay1 | Windows Server 2012 R2 Standard / x64 | OK | OK | OK | [ OK ] | ![]() | ||||||
merida1 | OS X 10.11.6 El Capitan / x86_64 | OK | OK | OK | OK | ![]() |
Package: prebs |
Version: 1.26.0 |
Command: rm -rf prebs.buildbin-libdir && mkdir prebs.buildbin-libdir && C:\Users\biocbuild\bbs-3.10-bioc\R\bin\R.exe CMD INSTALL --merge-multiarch --build --library=prebs.buildbin-libdir prebs_1.26.0.tar.gz |
StartedAt: 2020-04-15 09:24:48 -0400 (Wed, 15 Apr 2020) |
EndedAt: 2020-04-15 09:25:29 -0400 (Wed, 15 Apr 2020) |
EllapsedTime: 41.2 seconds |
RetCode: 0 |
Status: OK |
PackageFile: prebs_1.26.0.zip |
PackageFileSize: 316.8 KiB |
############################################################################## ############################################################################## ### ### Running command: ### ### rm -rf prebs.buildbin-libdir && mkdir prebs.buildbin-libdir && C:\Users\biocbuild\bbs-3.10-bioc\R\bin\R.exe CMD INSTALL --merge-multiarch --build --library=prebs.buildbin-libdir prebs_1.26.0.tar.gz ### ############################################################################## ############################################################################## install for i386 * installing *source* package 'prebs' ... ** using staged installation ** R ** inst ** byte-compile and prepare package for lazy loading ** help *** installing help indices converting help for package 'prebs' finding HTML links ... done calc_prebs html prebs html ** building package indices ** installing vignettes ** testing if installed package can be loaded from temporary location ** testing if installed package can be loaded from final location ** testing if installed package keeps a record of temporary installation path install for x64 * installing *source* package 'prebs' ... ** testing if installed package can be loaded * MD5 sums packaged installation of 'prebs' as prebs_1.26.0.zip * DONE (prebs)