This page was generated on 2020-04-15 12:16:39 -0400 (Wed, 15 Apr 2020).
preprocessCore 1.48.0 Ben Bolstad
Snapshot Date: 2020-04-14 16:46:13 -0400 (Tue, 14 Apr 2020) |
URL: https://git.bioconductor.org/packages/preprocessCore |
Branch: RELEASE_3_10 |
Last Commit: 84da519 |
Last Changed Date: 2019-10-29 13:07:22 -0400 (Tue, 29 Oct 2019) |
| malbec1 | Linux (Ubuntu 18.04.4 LTS) / x86_64 | OK | OK | OK | | ![UNNEEDED, same version exists in internal repository UNNEEDED, same version exists in internal repository](../120px-Blue_Light_Icon.svg.png) |
tokay1 | Windows Server 2012 R2 Standard / x64 | [ OK ] | OK | OK | OK | ![UNNEEDED, same version exists in internal repository UNNEEDED, same version exists in internal repository](../120px-Blue_Light_Icon.svg.png) |
merida1 | OS X 10.11.6 El Capitan / x86_64 | OK | OK | OK | OK | ![UNNEEDED, same version exists in internal repository UNNEEDED, same version exists in internal repository](../120px-Blue_Light_Icon.svg.png) |
##############################################################################
##############################################################################
###
### Running command:
###
### C:\cygwin\bin\curl.exe -O https://malbec1.bioconductor.org/BBS/3.10/bioc/src/contrib/preprocessCore_1.48.0.tar.gz && rm -rf preprocessCore.buildbin-libdir && mkdir preprocessCore.buildbin-libdir && C:\Users\biocbuild\bbs-3.10-bioc\R\bin\R.exe CMD INSTALL --merge-multiarch --build --library=preprocessCore.buildbin-libdir preprocessCore_1.48.0.tar.gz && C:\Users\biocbuild\bbs-3.10-bioc\R\bin\R.exe CMD INSTALL preprocessCore_1.48.0.zip && rm preprocessCore_1.48.0.tar.gz preprocessCore_1.48.0.zip
###
##############################################################################
##############################################################################
% Total % Received % Xferd Average Speed Time Time Time Current
Dload Upload Total Spent Left Speed
0 0 0 0 0 0 0 0 --:--:-- --:--:-- --:--:-- 0
12 128k 12 16384 0 0 13958 0 0:00:09 0:00:01 0:00:08 14003
100 128k 100 128k 0 0 109k 0 0:00:01 0:00:01 --:--:-- 109k
install for i386
* installing *source* package 'preprocessCore' ...
** using staged installation
**********************************************
WARNING: this package has a configure script
It probably needs manual configuration
**********************************************
** libs
C:/Rtools/mingw_32/bin/gcc -I"C:/Users/BIOCBU~1/BBS-3~1.10-/R/include" -DNDEBUG -I"C:/extsoft/include" -O3 -Wall -std=gnu99 -mtune=core2 -c R_colSummarize.c -o R_colSummarize.o
C:/Rtools/mingw_32/bin/gcc -I"C:/Users/BIOCBU~1/BBS-3~1.10-/R/include" -DNDEBUG -I"C:/extsoft/include" -O3 -Wall -std=gnu99 -mtune=core2 -c R_plmd_interfaces.c -o R_plmd_interfaces.o
C:/Rtools/mingw_32/bin/gcc -I"C:/Users/BIOCBU~1/BBS-3~1.10-/R/include" -DNDEBUG -I"C:/extsoft/include" -O3 -Wall -std=gnu99 -mtune=core2 -c R_plmr_interfaces.c -o R_plmr_interfaces.o
C:/Rtools/mingw_32/bin/gcc -I"C:/Users/BIOCBU~1/BBS-3~1.10-/R/include" -DNDEBUG -I"C:/extsoft/include" -O3 -Wall -std=gnu99 -mtune=core2 -c R_rlm_interfaces.c -o R_rlm_interfaces.o
C:/Rtools/mingw_32/bin/gcc -I"C:/Users/BIOCBU~1/BBS-3~1.10-/R/include" -DNDEBUG -I"C:/extsoft/include" -O3 -Wall -std=gnu99 -mtune=core2 -c R_subColSummarize.c -o R_subColSummarize.o
C:/Rtools/mingw_32/bin/gcc -I"C:/Users/BIOCBU~1/BBS-3~1.10-/R/include" -DNDEBUG -I"C:/extsoft/include" -O3 -Wall -std=gnu99 -mtune=core2 -c R_subrcModel_interfaces.c -o R_subrcModel_interfaces.o
R_subrcModel_interfaces.c: In function 'R_sub_rcModelSummarize_medianpolish':
R_subrcModel_interfaces.c:190:11: warning: unused variable 'se' [-Wunused-variable]
double *se;
^
R_subrcModel_interfaces.c:189:11: warning: unused variable 'weights' [-Wunused-variable]
double *weights;
^
R_subrcModel_interfaces.c:154:30: warning: unused variable 'buffer2' [-Wunused-variable]
double *results, *buffer, *buffer2;
^
R_subrcModel_interfaces.c:154:21: warning: unused variable 'buffer' [-Wunused-variable]
double *results, *buffer, *buffer2;
^
R_subrcModel_interfaces.c:154:11: warning: unused variable 'results' [-Wunused-variable]
double *results, *buffer, *buffer2;
^
R_subrcModel_interfaces.c: In function 'R_sub_rcModelSummarize_plm':
R_subrcModel_interfaces.c:510:10: warning: unused variable 'scale' [-Wunused-variable]
double scale=-1.0;
^
R_subrcModel_interfaces.c:469:30: warning: unused variable 'buffer2' [-Wunused-variable]
double *results, *buffer, *buffer2;
^
R_subrcModel_interfaces.c:469:21: warning: unused variable 'buffer' [-Wunused-variable]
double *results, *buffer, *buffer2;
^
R_subrcModel_interfaces.c:469:11: warning: unused variable 'results' [-Wunused-variable]
double *results, *buffer, *buffer2;
^
C:/Rtools/mingw_32/bin/gcc -I"C:/Users/BIOCBU~1/BBS-3~1.10-/R/include" -DNDEBUG -I"C:/extsoft/include" -O3 -Wall -std=gnu99 -mtune=core2 -c avg.c -o avg.o
C:/Rtools/mingw_32/bin/gcc -I"C:/Users/BIOCBU~1/BBS-3~1.10-/R/include" -DNDEBUG -I"C:/extsoft/include" -O3 -Wall -std=gnu99 -mtune=core2 -c avg_log.c -o avg_log.o
C:/Rtools/mingw_32/bin/gcc -I"C:/Users/BIOCBU~1/BBS-3~1.10-/R/include" -DNDEBUG -I"C:/extsoft/include" -O3 -Wall -std=gnu99 -mtune=core2 -c biweight.c -o biweight.o
C:/Rtools/mingw_32/bin/gcc -I"C:/Users/BIOCBU~1/BBS-3~1.10-/R/include" -DNDEBUG -I"C:/extsoft/include" -O3 -Wall -std=gnu99 -mtune=core2 -c init_package.c -o init_package.o
C:/Rtools/mingw_32/bin/gcc -I"C:/Users/BIOCBU~1/BBS-3~1.10-/R/include" -DNDEBUG -I"C:/extsoft/include" -O3 -Wall -std=gnu99 -mtune=core2 -c lm.c -o lm.o
C:/Rtools/mingw_32/bin/gcc -I"C:/Users/BIOCBU~1/BBS-3~1.10-/R/include" -DNDEBUG -I"C:/extsoft/include" -O3 -Wall -std=gnu99 -mtune=core2 -c log_avg.c -o log_avg.o
C:/Rtools/mingw_32/bin/gcc -I"C:/Users/BIOCBU~1/BBS-3~1.10-/R/include" -DNDEBUG -I"C:/extsoft/include" -O3 -Wall -std=gnu99 -mtune=core2 -c log_median.c -o log_median.o
C:/Rtools/mingw_32/bin/gcc -I"C:/Users/BIOCBU~1/BBS-3~1.10-/R/include" -DNDEBUG -I"C:/extsoft/include" -O3 -Wall -std=gnu99 -mtune=core2 -c matrix_functions.c -o matrix_functions.o
C:/Rtools/mingw_32/bin/gcc -I"C:/Users/BIOCBU~1/BBS-3~1.10-/R/include" -DNDEBUG -I"C:/extsoft/include" -O3 -Wall -std=gnu99 -mtune=core2 -c median.c -o median.o
C:/Rtools/mingw_32/bin/gcc -I"C:/Users/BIOCBU~1/BBS-3~1.10-/R/include" -DNDEBUG -I"C:/extsoft/include" -O3 -Wall -std=gnu99 -mtune=core2 -c median_log.c -o median_log.o
C:/Rtools/mingw_32/bin/gcc -I"C:/Users/BIOCBU~1/BBS-3~1.10-/R/include" -DNDEBUG -I"C:/extsoft/include" -O3 -Wall -std=gnu99 -mtune=core2 -c medianpolish.c -o medianpolish.o
C:/Rtools/mingw_32/bin/gcc -I"C:/Users/BIOCBU~1/BBS-3~1.10-/R/include" -DNDEBUG -I"C:/extsoft/include" -O3 -Wall -std=gnu99 -mtune=core2 -c plmd.c -o plmd.o
C:/Rtools/mingw_32/bin/gcc -I"C:/Users/BIOCBU~1/BBS-3~1.10-/R/include" -DNDEBUG -I"C:/extsoft/include" -O3 -Wall -std=gnu99 -mtune=core2 -c plmr.c -o plmr.o
plmr.c:82:13: warning: 'XTWY_R' defined but not used [-Wunused-function]
static void XTWY_R(int *rows, int *cols, double *out_weights, double *y,double *xtwy){
^
plmr.c:152:13: warning: 'XTWX_R' defined but not used [-Wunused-function]
static void XTWX_R(int *rows, int *cols, double *out_weights, double *xtwx){
^
plmr.c:279:13: warning: 'XTWX_R_inv' defined but not used [-Wunused-function]
static void XTWX_R_inv(int *rows, int *cols, double *xtwx){
^
C:/Rtools/mingw_32/bin/gcc -I"C:/Users/BIOCBU~1/BBS-3~1.10-/R/include" -DNDEBUG -I"C:/extsoft/include" -O3 -Wall -std=gnu99 -mtune=core2 -c psi_fns.c -o psi_fns.o
C:/Rtools/mingw_32/bin/gcc -I"C:/Users/BIOCBU~1/BBS-3~1.10-/R/include" -DNDEBUG -I"C:/extsoft/include" -O3 -Wall -std=gnu99 -mtune=core2 -c qnorm.c -o qnorm.o
qnorm.c: In function 'qnorm_c_determine_target_l':
qnorm.c:1887:7: warning: unused variable 'non_na' [-Wunused-variable]
int non_na;
^
qnorm.c:1882:12: warning: unused variable 'j' [-Wunused-variable]
size_t i,j,row_mean_ind;
^
qnorm.c: In function 'qnorm_c_determine_target_via_subset_l':
qnorm.c:2481:7: warning: unused variable 'non_na' [-Wunused-variable]
int non_na;
^
qnorm.c:2476:12: warning: unused variable 'j' [-Wunused-variable]
size_t i,j,row_mean_ind;
^
qnorm.c: In function 'using_target_via_subset_part1':
qnorm.c:2692:14: warning: variable 'ind' set but not used [-Wunused-but-set-variable]
size_t i,j,ind,target_ind;
^
qnorm.c: In function 'using_target_via_subset_part2':
qnorm.c:2791:11: warning: unused variable 'datvec' [-Wunused-variable]
double *datvec;
^
qnorm.c:2790:11: warning: unused variable 'sample_percentiles' [-Wunused-variable]
double *sample_percentiles;
^
qnorm.c: In function 'using_target_via_subset':
qnorm.c:2940:11: warning: unused variable 'datvec' [-Wunused-variable]
double *datvec;
^
qnorm.c:2939:11: warning: unused variable 'sample_percentiles' [-Wunused-variable]
double *sample_percentiles;
^
qnorm.c:2935:7: warning: unused variable 'non_na' [-Wunused-variable]
int non_na = 0;
^
qnorm.c:2934:7: warning: unused variable 'targetnon_na' [-Wunused-variable]
int targetnon_na = targetrows;
^
qnorm.c:2932:28: warning: unused variable 'target_ind_double_floor' [-Wunused-variable]
double target_ind_double,target_ind_double_floor;
^
qnorm.c:2932:10: warning: unused variable 'target_ind_double' [-Wunused-variable]
double target_ind_double,target_ind_double_floor;
^
qnorm.c:2931:10: warning: unused variable 'samplepercentile' [-Wunused-variable]
double samplepercentile;
^
qnorm.c:2930:11: warning: unused variable 'ranks' [-Wunused-variable]
double *ranks = (double *)Calloc((rows),double);
^
qnorm.c:2928:11: warning: unused variable 'row_mean' [-Wunused-variable]
double *row_mean = target;
^
qnorm.c:2926:14: warning: unused variable 'dimat' [-Wunused-variable]
dataitem **dimat;
^
qnorm.c:2924:18: warning: unused variable 'target_ind' [-Wunused-variable]
size_t i,j,ind,target_ind;
^
qnorm.c:2924:14: warning: unused variable 'ind' [-Wunused-variable]
size_t i,j,ind,target_ind;
^
qnorm.c:2924:12: warning: unused variable 'j' [-Wunused-variable]
size_t i,j,ind,target_ind;
^
qnorm.c: In function 'R_qnorm_using_target':
qnorm.c:2055:10: warning: 'target_rows' may be used uninitialized in this function [-Wmaybe-uninitialized]
size_t target_rows, target_cols;
^
qnorm.c: In function 'R_qnorm_using_target_via_subset':
qnorm.c:3205:3: warning: 'target_rows' may be used uninitialized in this function [-Wmaybe-uninitialized]
qnorm_c_using_target_via_subset_l(Xptr, rows, cols, subsetptr, targetptr, target_rows);
^
C:/Rtools/mingw_32/bin/gcc -I"C:/Users/BIOCBU~1/BBS-3~1.10-/R/include" -DNDEBUG -I"C:/extsoft/include" -O3 -Wall -std=gnu99 -mtune=core2 -c rlm.c -o rlm.o
C:/Rtools/mingw_32/bin/gcc -I"C:/Users/BIOCBU~1/BBS-3~1.10-/R/include" -DNDEBUG -I"C:/extsoft/include" -O3 -Wall -std=gnu99 -mtune=core2 -c rlm_anova.c -o rlm_anova.o
rlm_anova.c: In function 'rlm_fit_anova_given_probe_effects_engine':
rlm_anova.c:1235:10: warning: unused variable 'endprobe' [-Wunused-variable]
double endprobe;
^
rlm_anova.c: In function 'rlm_compute_se_anova_given_probe_effects':
rlm_anova.c:1426:19: warning: unused variable 'varderivpsi' [-Wunused-variable]
double vs=0.0,m,varderivpsi=0.0;
^
rlm_anova.c:1426:17: warning: unused variable 'm' [-Wunused-variable]
double vs=0.0,m,varderivpsi=0.0;
^
rlm_anova.c:1426:10: warning: unused variable 'vs' [-Wunused-variable]
double vs=0.0,m,varderivpsi=0.0;
^
rlm_anova.c:1419:10: warning: unused variable 'scale' [-Wunused-variable]
double scale=0.0;
^
rlm_anova.c:1418:10: warning: unused variable 'Kappa' [-Wunused-variable]
double Kappa=0.0; /* A correction factor */
^
rlm_anova.c:1417:10: warning: unused variable 'sumderivpsi' [-Wunused-variable]
double sumderivpsi=0.0; /* sum of psi'(r_i) */
^
rlm_anova.c:1415:10: warning: unused variable 'sumpsi2' [-Wunused-variable]
double sumpsi2=0.0; /* sum of psi(r_i)^2 */
^
rlm_anova.c:1414:10: warning: unused variable 'k1' [-Wunused-variable]
double k1 = psi_k; /* was 1.345; */
^
rlm_anova.c: In function 'rlm_wfit_anova_given_probe_effects_engine':
rlm_anova.c:1505:10: warning: unused variable 'endprobe' [-Wunused-variable]
double endprobe;
^
C:/Rtools/mingw_32/bin/gcc -I"C:/Users/BIOCBU~1/BBS-3~1.10-/R/include" -DNDEBUG -I"C:/extsoft/include" -O3 -Wall -std=gnu99 -mtune=core2 -c rlm_se.c -o rlm_se.o
C:/Rtools/mingw_32/bin/gcc -I"C:/Users/BIOCBU~1/BBS-3~1.10-/R/include" -DNDEBUG -I"C:/extsoft/include" -O3 -Wall -std=gnu99 -mtune=core2 -c rma_background4.c -o rma_background4.o
rma_background4.c: In function 'R_rma_bg_correct':
rma_background4.c:465:13: warning: 'PMcopy' may be used uninitialized in this function [-Wmaybe-uninitialized]
SEXP dim1,PMcopy;
^
C:/Rtools/mingw_32/bin/gcc -I"C:/Users/BIOCBU~1/BBS-3~1.10-/R/include" -DNDEBUG -I"C:/extsoft/include" -O3 -Wall -std=gnu99 -mtune=core2 -c rma_common.c -o rma_common.o
C:/Rtools/mingw_32/bin/gcc -I"C:/Users/BIOCBU~1/BBS-3~1.10-/R/include" -DNDEBUG -I"C:/extsoft/include" -O3 -Wall -std=gnu99 -mtune=core2 -c weightedkerneldensity.c -o weightedkerneldensity.o
C:/Rtools/mingw_32/bin/gcc -shared -s -static-libgcc -o preprocessCore.dll tmp.def R_colSummarize.o R_plmd_interfaces.o R_plmr_interfaces.o R_rlm_interfaces.o R_subColSummarize.o R_subrcModel_interfaces.o avg.o avg_log.o biweight.o init_package.o lm.o log_avg.o log_median.o matrix_functions.o median.o median_log.o medianpolish.o plmd.o plmr.o psi_fns.o qnorm.o rlm.o rlm_anova.o rlm_se.o rma_background4.o rma_common.o weightedkerneldensity.o -LC:/Users/BIOCBU~1/BBS-3~1.10-/R/bin/i386 -lRlapack -LC:/Users/BIOCBU~1/BBS-3~1.10-/R/bin/i386 -lRblas -lgfortran -lm -lquadmath -LC:/extsoft/lib/i386 -LC:/extsoft/lib -LC:/Users/BIOCBU~1/BBS-3~1.10-/R/bin/i386 -lR
installing to C:/Users/biocbuild/bbs-3.10-bioc/meat/preprocessCore.buildbin-libdir/00LOCK-preprocessCore/00new/preprocessCore/libs/i386
** R
** inst
** byte-compile and prepare package for lazy loading
** help
*** installing help indices
converting help for package 'preprocessCore'
finding HTML links ... done
colSummarize html
normalize.quantiles html
normalize.quantiles.in.blocks html
normalize.quantiles.robust html
normalize.quantiles.target html
rcModelPLMd html
rcModelPLMr html
rcModels html
rma.background.correct html
subColSummarize html
subrcModels html
** building package indices
** testing if installed package can be loaded from temporary location
** testing if installed package can be loaded from final location
** testing if installed package keeps a record of temporary installation path
install for x64
* installing *source* package 'preprocessCore' ...
**********************************************
WARNING: this package has a configure script
It probably needs manual configuration
**********************************************
** libs
C:/Rtools/mingw_64/bin/gcc -I"C:/Users/BIOCBU~1/BBS-3~1.10-/R/include" -DNDEBUG -I"C:/extsoft/include" -O2 -Wall -std=gnu99 -mtune=core2 -c R_colSummarize.c -o R_colSummarize.o
C:/Rtools/mingw_64/bin/gcc -I"C:/Users/BIOCBU~1/BBS-3~1.10-/R/include" -DNDEBUG -I"C:/extsoft/include" -O2 -Wall -std=gnu99 -mtune=core2 -c R_plmd_interfaces.c -o R_plmd_interfaces.o
C:/Rtools/mingw_64/bin/gcc -I"C:/Users/BIOCBU~1/BBS-3~1.10-/R/include" -DNDEBUG -I"C:/extsoft/include" -O2 -Wall -std=gnu99 -mtune=core2 -c R_plmr_interfaces.c -o R_plmr_interfaces.o
C:/Rtools/mingw_64/bin/gcc -I"C:/Users/BIOCBU~1/BBS-3~1.10-/R/include" -DNDEBUG -I"C:/extsoft/include" -O2 -Wall -std=gnu99 -mtune=core2 -c R_rlm_interfaces.c -o R_rlm_interfaces.o
C:/Rtools/mingw_64/bin/gcc -I"C:/Users/BIOCBU~1/BBS-3~1.10-/R/include" -DNDEBUG -I"C:/extsoft/include" -O2 -Wall -std=gnu99 -mtune=core2 -c R_subColSummarize.c -o R_subColSummarize.o
C:/Rtools/mingw_64/bin/gcc -I"C:/Users/BIOCBU~1/BBS-3~1.10-/R/include" -DNDEBUG -I"C:/extsoft/include" -O2 -Wall -std=gnu99 -mtune=core2 -c R_subrcModel_interfaces.c -o R_subrcModel_interfaces.o
R_subrcModel_interfaces.c: In function 'R_sub_rcModelSummarize_medianpolish':
R_subrcModel_interfaces.c:190:11: warning: unused variable 'se' [-Wunused-variable]
double *se;
^
R_subrcModel_interfaces.c:189:11: warning: unused variable 'weights' [-Wunused-variable]
double *weights;
^
R_subrcModel_interfaces.c:154:30: warning: unused variable 'buffer2' [-Wunused-variable]
double *results, *buffer, *buffer2;
^
R_subrcModel_interfaces.c:154:21: warning: unused variable 'buffer' [-Wunused-variable]
double *results, *buffer, *buffer2;
^
R_subrcModel_interfaces.c:154:11: warning: unused variable 'results' [-Wunused-variable]
double *results, *buffer, *buffer2;
^
R_subrcModel_interfaces.c: In function 'R_sub_rcModelSummarize_plm':
R_subrcModel_interfaces.c:510:10: warning: unused variable 'scale' [-Wunused-variable]
double scale=-1.0;
^
R_subrcModel_interfaces.c:469:30: warning: unused variable 'buffer2' [-Wunused-variable]
double *results, *buffer, *buffer2;
^
R_subrcModel_interfaces.c:469:21: warning: unused variable 'buffer' [-Wunused-variable]
double *results, *buffer, *buffer2;
^
R_subrcModel_interfaces.c:469:11: warning: unused variable 'results' [-Wunused-variable]
double *results, *buffer, *buffer2;
^
C:/Rtools/mingw_64/bin/gcc -I"C:/Users/BIOCBU~1/BBS-3~1.10-/R/include" -DNDEBUG -I"C:/extsoft/include" -O2 -Wall -std=gnu99 -mtune=core2 -c avg.c -o avg.o
C:/Rtools/mingw_64/bin/gcc -I"C:/Users/BIOCBU~1/BBS-3~1.10-/R/include" -DNDEBUG -I"C:/extsoft/include" -O2 -Wall -std=gnu99 -mtune=core2 -c avg_log.c -o avg_log.o
C:/Rtools/mingw_64/bin/gcc -I"C:/Users/BIOCBU~1/BBS-3~1.10-/R/include" -DNDEBUG -I"C:/extsoft/include" -O2 -Wall -std=gnu99 -mtune=core2 -c biweight.c -o biweight.o
C:/Rtools/mingw_64/bin/gcc -I"C:/Users/BIOCBU~1/BBS-3~1.10-/R/include" -DNDEBUG -I"C:/extsoft/include" -O2 -Wall -std=gnu99 -mtune=core2 -c init_package.c -o init_package.o
C:/Rtools/mingw_64/bin/gcc -I"C:/Users/BIOCBU~1/BBS-3~1.10-/R/include" -DNDEBUG -I"C:/extsoft/include" -O2 -Wall -std=gnu99 -mtune=core2 -c lm.c -o lm.o
C:/Rtools/mingw_64/bin/gcc -I"C:/Users/BIOCBU~1/BBS-3~1.10-/R/include" -DNDEBUG -I"C:/extsoft/include" -O2 -Wall -std=gnu99 -mtune=core2 -c log_avg.c -o log_avg.o
C:/Rtools/mingw_64/bin/gcc -I"C:/Users/BIOCBU~1/BBS-3~1.10-/R/include" -DNDEBUG -I"C:/extsoft/include" -O2 -Wall -std=gnu99 -mtune=core2 -c log_median.c -o log_median.o
C:/Rtools/mingw_64/bin/gcc -I"C:/Users/BIOCBU~1/BBS-3~1.10-/R/include" -DNDEBUG -I"C:/extsoft/include" -O2 -Wall -std=gnu99 -mtune=core2 -c matrix_functions.c -o matrix_functions.o
C:/Rtools/mingw_64/bin/gcc -I"C:/Users/BIOCBU~1/BBS-3~1.10-/R/include" -DNDEBUG -I"C:/extsoft/include" -O2 -Wall -std=gnu99 -mtune=core2 -c median.c -o median.o
C:/Rtools/mingw_64/bin/gcc -I"C:/Users/BIOCBU~1/BBS-3~1.10-/R/include" -DNDEBUG -I"C:/extsoft/include" -O2 -Wall -std=gnu99 -mtune=core2 -c median_log.c -o median_log.o
C:/Rtools/mingw_64/bin/gcc -I"C:/Users/BIOCBU~1/BBS-3~1.10-/R/include" -DNDEBUG -I"C:/extsoft/include" -O2 -Wall -std=gnu99 -mtune=core2 -c medianpolish.c -o medianpolish.o
C:/Rtools/mingw_64/bin/gcc -I"C:/Users/BIOCBU~1/BBS-3~1.10-/R/include" -DNDEBUG -I"C:/extsoft/include" -O2 -Wall -std=gnu99 -mtune=core2 -c plmd.c -o plmd.o
C:/Rtools/mingw_64/bin/gcc -I"C:/Users/BIOCBU~1/BBS-3~1.10-/R/include" -DNDEBUG -I"C:/extsoft/include" -O2 -Wall -std=gnu99 -mtune=core2 -c plmr.c -o plmr.o
plmr.c:82:13: warning: 'XTWY_R' defined but not used [-Wunused-function]
static void XTWY_R(int *rows, int *cols, double *out_weights, double *y,double *xtwy){
^
plmr.c:152:13: warning: 'XTWX_R' defined but not used [-Wunused-function]
static void XTWX_R(int *rows, int *cols, double *out_weights, double *xtwx){
^
plmr.c:279:13: warning: 'XTWX_R_inv' defined but not used [-Wunused-function]
static void XTWX_R_inv(int *rows, int *cols, double *xtwx){
^
C:/Rtools/mingw_64/bin/gcc -I"C:/Users/BIOCBU~1/BBS-3~1.10-/R/include" -DNDEBUG -I"C:/extsoft/include" -O2 -Wall -std=gnu99 -mtune=core2 -c psi_fns.c -o psi_fns.o
C:/Rtools/mingw_64/bin/gcc -I"C:/Users/BIOCBU~1/BBS-3~1.10-/R/include" -DNDEBUG -I"C:/extsoft/include" -O2 -Wall -std=gnu99 -mtune=core2 -c qnorm.c -o qnorm.o
qnorm.c: In function 'qnorm_c_determine_target_l':
qnorm.c:1887:7: warning: unused variable 'non_na' [-Wunused-variable]
int non_na;
^
qnorm.c:1882:12: warning: unused variable 'j' [-Wunused-variable]
size_t i,j,row_mean_ind;
^
qnorm.c: In function 'qnorm_c_determine_target_via_subset_l':
qnorm.c:2481:7: warning: unused variable 'non_na' [-Wunused-variable]
int non_na;
^
qnorm.c:2476:12: warning: unused variable 'j' [-Wunused-variable]
size_t i,j,row_mean_ind;
^
qnorm.c: In function 'using_target_via_subset_part1':
qnorm.c:2692:14: warning: variable 'ind' set but not used [-Wunused-but-set-variable]
size_t i,j,ind,target_ind;
^
qnorm.c: In function 'using_target_via_subset_part2':
qnorm.c:2791:11: warning: unused variable 'datvec' [-Wunused-variable]
double *datvec;
^
qnorm.c:2790:11: warning: unused variable 'sample_percentiles' [-Wunused-variable]
double *sample_percentiles;
^
qnorm.c: In function 'using_target_via_subset':
qnorm.c:2940:11: warning: unused variable 'datvec' [-Wunused-variable]
double *datvec;
^
qnorm.c:2939:11: warning: unused variable 'sample_percentiles' [-Wunused-variable]
double *sample_percentiles;
^
qnorm.c:2935:7: warning: unused variable 'non_na' [-Wunused-variable]
int non_na = 0;
^
qnorm.c:2934:7: warning: unused variable 'targetnon_na' [-Wunused-variable]
int targetnon_na = targetrows;
^
qnorm.c:2932:28: warning: unused variable 'target_ind_double_floor' [-Wunused-variable]
double target_ind_double,target_ind_double_floor;
^
qnorm.c:2932:10: warning: unused variable 'target_ind_double' [-Wunused-variable]
double target_ind_double,target_ind_double_floor;
^
qnorm.c:2931:10: warning: unused variable 'samplepercentile' [-Wunused-variable]
double samplepercentile;
^
qnorm.c:2930:11: warning: unused variable 'ranks' [-Wunused-variable]
double *ranks = (double *)Calloc((rows),double);
^
qnorm.c:2928:11: warning: unused variable 'row_mean' [-Wunused-variable]
double *row_mean = target;
^
qnorm.c:2926:14: warning: unused variable 'dimat' [-Wunused-variable]
dataitem **dimat;
^
qnorm.c:2924:18: warning: unused variable 'target_ind' [-Wunused-variable]
size_t i,j,ind,target_ind;
^
qnorm.c:2924:14: warning: unused variable 'ind' [-Wunused-variable]
size_t i,j,ind,target_ind;
^
qnorm.c:2924:12: warning: unused variable 'j' [-Wunused-variable]
size_t i,j,ind,target_ind;
^
qnorm.c: In function 'R_qnorm_using_target':
qnorm.c:2087:3: warning: 'target_rows' may be used uninitialized in this function [-Wmaybe-uninitialized]
qnorm_c_using_target_l(Xptr, rows, cols ,targetptr, target_rows);
^
qnorm.c: In function 'R_qnorm_using_target_via_subset':
qnorm.c:3205:3: warning: 'target_rows' may be used uninitialized in this function [-Wmaybe-uninitialized]
qnorm_c_using_target_via_subset_l(Xptr, rows, cols, subsetptr, targetptr, target_rows);
^
C:/Rtools/mingw_64/bin/gcc -I"C:/Users/BIOCBU~1/BBS-3~1.10-/R/include" -DNDEBUG -I"C:/extsoft/include" -O2 -Wall -std=gnu99 -mtune=core2 -c rlm.c -o rlm.o
C:/Rtools/mingw_64/bin/gcc -I"C:/Users/BIOCBU~1/BBS-3~1.10-/R/include" -DNDEBUG -I"C:/extsoft/include" -O2 -Wall -std=gnu99 -mtune=core2 -c rlm_anova.c -o rlm_anova.o
rlm_anova.c: In function 'rlm_fit_anova_given_probe_effects_engine':
rlm_anova.c:1235:10: warning: unused variable 'endprobe' [-Wunused-variable]
double endprobe;
^
rlm_anova.c: In function 'rlm_compute_se_anova_given_probe_effects':
rlm_anova.c:1426:19: warning: unused variable 'varderivpsi' [-Wunused-variable]
double vs=0.0,m,varderivpsi=0.0;
^
rlm_anova.c:1426:17: warning: unused variable 'm' [-Wunused-variable]
double vs=0.0,m,varderivpsi=0.0;
^
rlm_anova.c:1426:10: warning: unused variable 'vs' [-Wunused-variable]
double vs=0.0,m,varderivpsi=0.0;
^
rlm_anova.c:1419:10: warning: unused variable 'scale' [-Wunused-variable]
double scale=0.0;
^
rlm_anova.c:1418:10: warning: unused variable 'Kappa' [-Wunused-variable]
double Kappa=0.0; /* A correction factor */
^
rlm_anova.c:1417:10: warning: unused variable 'sumderivpsi' [-Wunused-variable]
double sumderivpsi=0.0; /* sum of psi'(r_i) */
^
rlm_anova.c:1415:10: warning: unused variable 'sumpsi2' [-Wunused-variable]
double sumpsi2=0.0; /* sum of psi(r_i)^2 */
^
rlm_anova.c:1414:10: warning: unused variable 'k1' [-Wunused-variable]
double k1 = psi_k; /* was 1.345; */
^
rlm_anova.c: In function 'rlm_wfit_anova_given_probe_effects_engine':
rlm_anova.c:1505:10: warning: unused variable 'endprobe' [-Wunused-variable]
double endprobe;
^
C:/Rtools/mingw_64/bin/gcc -I"C:/Users/BIOCBU~1/BBS-3~1.10-/R/include" -DNDEBUG -I"C:/extsoft/include" -O2 -Wall -std=gnu99 -mtune=core2 -c rlm_se.c -o rlm_se.o
C:/Rtools/mingw_64/bin/gcc -I"C:/Users/BIOCBU~1/BBS-3~1.10-/R/include" -DNDEBUG -I"C:/extsoft/include" -O2 -Wall -std=gnu99 -mtune=core2 -c rma_background4.c -o rma_background4.o
rma_background4.c: In function 'R_rma_bg_correct':
rma_background4.c:465:13: warning: 'PMcopy' may be used uninitialized in this function [-Wmaybe-uninitialized]
SEXP dim1,PMcopy;
^
C:/Rtools/mingw_64/bin/gcc -I"C:/Users/BIOCBU~1/BBS-3~1.10-/R/include" -DNDEBUG -I"C:/extsoft/include" -O2 -Wall -std=gnu99 -mtune=core2 -c rma_common.c -o rma_common.o
C:/Rtools/mingw_64/bin/gcc -I"C:/Users/BIOCBU~1/BBS-3~1.10-/R/include" -DNDEBUG -I"C:/extsoft/include" -O2 -Wall -std=gnu99 -mtune=core2 -c weightedkerneldensity.c -o weightedkerneldensity.o
C:/Rtools/mingw_64/bin/gcc -shared -s -static-libgcc -o preprocessCore.dll tmp.def R_colSummarize.o R_plmd_interfaces.o R_plmr_interfaces.o R_rlm_interfaces.o R_subColSummarize.o R_subrcModel_interfaces.o avg.o avg_log.o biweight.o init_package.o lm.o log_avg.o log_median.o matrix_functions.o median.o median_log.o medianpolish.o plmd.o plmr.o psi_fns.o qnorm.o rlm.o rlm_anova.o rlm_se.o rma_background4.o rma_common.o weightedkerneldensity.o -LC:/Users/BIOCBU~1/BBS-3~1.10-/R/bin/x64 -lRlapack -LC:/Users/BIOCBU~1/BBS-3~1.10-/R/bin/x64 -lRblas -lgfortran -lm -lquadmath -LC:/extsoft/lib/x64 -LC:/extsoft/lib -LC:/Users/BIOCBU~1/BBS-3~1.10-/R/bin/x64 -lR
installing to C:/Users/biocbuild/bbs-3.10-bioc/meat/preprocessCore.buildbin-libdir/preprocessCore/libs/x64
** testing if installed package can be loaded
* MD5 sums
packaged installation of 'preprocessCore' as preprocessCore_1.48.0.zip
* DONE (preprocessCore)
* installing to library 'C:/Users/biocbuild/bbs-3.10-bioc/R/library'
package 'preprocessCore' successfully unpacked and MD5 sums checked