Back to Multiple platform build/check report for BioC 3.10
ABCDEFGHIJKLMNO[P]QRSTUVWXYZ

BUILD BIN report for proteoQC on merida1

This page was generated on 2019-10-02 12:43:03 -0400 (Wed, 02 Oct 2019).

Package 1290/1778HostnameOS / ArchINSTALLBUILDCHECKBUILD BIN
proteoQC 1.21.0
Bo Wen
Snapshot Date: 2019-10-01 17:01:09 -0400 (Tue, 01 Oct 2019)
URL: https://git.bioconductor.org/packages/proteoQC
Branch: master
Last Commit: f5542d9
Last Changed Date: 2019-05-02 12:11:36 -0400 (Thu, 02 May 2019)
malbec1 Linux (Ubuntu 18.04.2 LTS) / x86_64  OK  OK  OK UNNEEDED, same version exists in internal repository
tokay1 Windows Server 2012 R2 Standard / x64  OK  OK  OK  OK UNNEEDED, same version exists in internal repository
merida1 OS X 10.11.6 El Capitan / x86_64  OK  OK  OK [ OK ]UNNEEDED, same version exists in internal repository

Summary

Package: proteoQC
Version: 1.21.0
Command: rm -rf proteoQC.buildbin-libdir && mkdir proteoQC.buildbin-libdir && /Users/biocbuild/BBS/utils/build-universal.sh proteoQC_1.21.0.tar.gz /Library/Frameworks/R.framework/Versions/Current/Resources/bin/R proteoQC.buildbin-libdir
StartedAt: 2019-10-02 08:28:11 -0400 (Wed, 02 Oct 2019)
EndedAt: 2019-10-02 08:29:01 -0400 (Wed, 02 Oct 2019)
EllapsedTime: 49.6 seconds
RetCode: 0
Status:  OK 
PackageFile: proteoQC_1.21.0.tgz
PackageFileSize: 5.594 MiB

Command output

##############################################################################
##############################################################################
###
### Running command:
###
###   rm -rf proteoQC.buildbin-libdir && mkdir proteoQC.buildbin-libdir && /Users/biocbuild/BBS/utils/build-universal.sh proteoQC_1.21.0.tar.gz /Library/Frameworks/R.framework/Versions/Current/Resources/bin/R proteoQC.buildbin-libdir
###
##############################################################################
##############################################################################


>>>>>>> 
>>>>>>> INSTALLATION WITH 'R CMD INSTALL --preclean --no-multiarch --library=proteoQC.buildbin-libdir proteoQC_1.21.0.tar.gz'
>>>>>>> 

* installing *source* package ‘proteoQC’ ...
** using staged installation
** R
** inst
** byte-compile and prepare package for lazy loading
** help
*** installing help indices
** building package indices
** installing vignettes
** testing if installed package can be loaded from temporary location
** testing if installed package can be loaded from final location
** testing if installed package keeps a record of temporary installation path
* DONE (proteoQC)